Workbook
Name _9．資金支出明細: #REF!
Name ja: #REF!
Name kaidai: #REF!
Name koukoku: #REF!
Name q: #REF!
Name S_公務〈他に分類されるものを除く〉: '[1]１申請者概要２セミナー３申請状況'!#REF!
Name T_分類不能の産業: '[1]１申請者概要２セミナー３申請状況'!#REF!
Name ｚ: #REF!
Name サービス業: #REF!
Name サンプル: #REF!
Name 卸売業: #REF!
Name 海外: #REF!
Name 雑役・事務: '[2]個人別時間-入力'!$E$3
Name 種別: #REF!
Name 助成事業のフロー・スケジュール: #REF!
Name 小売業: #REF!
Name 製造業その他: #REF!
Name 大分類: '[1]１申請者概要２セミナー３申請状況'!$AG$5:$AG$22

Sheet 表紙
O2: 作成日 | Q2: 令和 | T2: 年 | V2: 月 | X2: 日
K5: 本店所在地 | N5: 〒
K8: 会社名(商号)
K10: 代表者 | N10: 役職名
N11: 氏名
A18: 事業計画書
M35: 令和８年度アクセラレーションプログラム
M36: 実践支援フェーズ

Sheet 1
A1: １ 企業概要
A2: 創業年月日 | B2: 年 月 日
A3: 決算月 | B3: 月
A4: 主たる事業所等の 所在地
A5: 登記上の役員数 | D5: 人 | E5: 従業員数 | I5: 人 | J5: うち、 常時雇用する 従業員数 | N5: 人
A6: 資本金又は出資金 | D6: 円
A7: 主たる業種
A9: 事業の概要
A13: 主たる取扱商品・ サービス
A17: 事業に要する 許認可・免許等
A21: 主要取引先

Sheet 2
A1: ２ 代表者について
A2: （１）創業動機
A6: （２）経営理念・ビジョン
A10: （３）代表者の職歴及び経歴
A11: 所属先 | E11: 所属期間 | I11: うち代表期間
E12: 年 月～ 年 月 | I12: 年 か月
E13: 年 月～ 年 月 | I13: 年 か月
E14: 年 月～ 年 月 | I14: 年 か月
E15: 年 月～ 年 月 | I15: 年 か月
A16: （４）代表者の強みと弱み

Sheet 3
A1: ３ 事業内容
A2: （１）事業内容
A9: （２）事業の全体図
A22: （３）想定されるリスクとその対応策

Sheet 4
A1: ４ 市場
A2: （１）市場の概要
A7: （２）想定顧客
A8: (ア)ターゲットの具体像
A9: (イ)ターゲットの抱える課題
A10: (ウ)ターゲットのニーズ
A11: (エ) (ウ) でニーズがあると判断した根拠、ターゲットニーズの検証結果
A15: (オ)ターゲットニーズを満たすと考える事業の提供価値
A19: (カ)ターゲットニーズを満たすための課題と今後必要な取組み
A23: （３）競合他社

Sheet 5-1
A1: ５ 数値計画
A2: （１）売上実績と今後の売上計画（千円）
A3: 期別 | B3: ①企業全体の売上高 | E3: ②本計画対象事業の売上高 | H3: 期間
A4: 前々期実績 | H4: 年 月 日～ 年 月 日
A5: 前期実績 | H5: 年 月 日～ 年 月 日
A6: 当期見込み | H6: 年 月 日～ 年 月 日
A7: 翌期計画 | H7: 年 月 日～ 年 月 日
A8: 翌々期計画 | H8: 年 月 日～ 年 月 日
A10: （２）②本計画対象事業の売上高内訳・主要販売先
A11: 販売先名 | C11: 商品・サービス | E11: 時期 | F11: 販売単価(千円) | H11: 販売数量（個） | J11: 売上高(千円)
E13: 当期
E14: 来期
E15: 来々期
E16: 当期
E17: 来期
E18: 来々期
E19: 当期
E20: 来期
E21: 来々期
A22: （３）売上拡大に向け、既に行っているマーケティング上の取り組み
A25: （４）今後の売上計画の実現に向けた課題
A28: （５）今後、売上計画実現に向けて実施を考えている取り組み

Sheet 5-2(毎月)
A1: （６）資金繰り計画①
C2: 当期 | P2: 翌期 | AC2: 翌々期
A3: 期間（暦年・月） | C3: ='5-1'!H6 -> 年 月 日～ 年 月 日 | P3: ='5-1'!H7 -> 年 月 日～ 年 月 日 | AC3: ='5-1'!H8 -> 年 月 日～ 年 月 日 | AP3: （単位：千円）
D4: =EDATE(C4,1) -> 31 | E4: =EDATE(D4,1) -> 59 | F4: =EDATE(E4,1) -> 88 | G4: =EDATE(F4,1) -> 119 | H4: =EDATE(G4,1) -> 149 | I4: =EDATE(H4,1) -> 180 | J4: =EDATE(I4,1) -> 210 | K4: =EDATE(J4,1) -> 241 | ... N4: =EDATE(M4,1) -> 333 | O4: 小計 | P4: =$C$4 -> 0 | Q4: =D4 -> 31 | R4: =E4 -> 59 | S4: =F4 -> 88 | T4: =G4 -> 119 | U4: =H4 -> 149 | V4: =I4 -> 180 | W4: =J4 -> 210 | X4: =K4 -> 241 | ... AA4: =N4 -> 333 | AB4: 小計 | AC4: =$C$4 -> 0 | AD4: =D4 -> 31 | AE4: =E4 -> 59 | AF4: =F4 -> 88 | AG4: =G4 -> 119 | AH4: =H4 -> 149 | AI4: =I4 -> 180 | AJ4: =J4 -> 210 | AK4: =K4 -> 241 | ... AN4: =N4 -> 333 | AO4: 小計 | AP4: 合計
A5: 前期繰越 | D5: =C26 -> 0 | E5: =D26 -> 0 | F5: =E26 -> 0 | G5: =F26 -> 0 | H5: =G26 -> 0 | I5: =H26 -> 0 | J5: =I26 -> 0 | K5: =J26 -> 0 | ... N5: =M26 -> 0 | P5: =N26 -> 0 | Q5: =P26 -> 0 | R5: =Q26 -> 0 | S5: =R26 -> 0 | T5: =S26 -> 0 | U5: =T26 -> 0 | V5: =U26 -> 0 | W5: =V26 -> 0 | X5: =W26 -> 0 | ... AA5: =Z26 -> 0 | AC5: =AA26 -> 0 | AD5: =AC26 -> 0 | AE5: =AD26 -> 0 | AF5: =AE26 -> 0 | AG5: =AF26 -> 0 | AH5: =AG26 -> 0 | AI5: =AH26 -> 0 | AJ5: =AI26 -> 0 | AK5: =AJ26 -> 0 | ... AN5: =AM26 -> 0
A6: 収入 | B6: ● 売上 | O6: =SUM($C$6:$N$6) -> 0 | AB6: =SUM($P$6:$AA$6) -> 0 | AO6: =SUM($AC$6:$AN$6) -> 0 | AP6: =SUM($O$6,$AB$6,$AO$6) -> 0
O7: =SUM($C$7:$N$7) -> 0 | AB7: =SUM($P$7:$AA$7) -> 0 | AO7: =SUM($AC$7:$AN$7) -> 0 | AP7: =SUM($O$7,$AB$7,$AO$7) -> 0
B8: ● その他入金 | O8: =SUM($C$8:$N$8) -> 0 | AB8: =SUM($P$8:$AA$8) -> 0 | AO8: =SUM($AC$8:$AN$8) -> 0 | AP8: =SUM($O$8,$AB$8,$AO$8) -> 0
B9: 計（Ａ） | C9: =SUM($C6:$C8) -> 0 | D9: =SUM(D6:D8) -> 0 | E9: =SUM(E6:E8) -> 0 | F9: =SUM(F6:F8) -> 0 | G9: =SUM(G6:G8) -> 0 | H9: =SUM(H6:H8) -> 0 | I9: =SUM(I6:I8) -> 0 | J9: =SUM(J6:J8) -> 0 | K9: =SUM(K6:K8) -> 0 | ... N9: =SUM(N6:N8) -> 0 | O9: =SUM($C$9:$N$9) -> 0 | P9: =SUM($P6:$P8) -> 0 | Q9: =SUM(Q6:Q8) -> 0 | R9: =SUM(R6:R8) -> 0 | S9: =SUM(S6:S8) -> 0 | T9: =SUM(T6:T8) -> 0 | U9: =SUM(U6:U8) -> 0 | V9: =SUM(V6:V8) -> 0 | W9: =SUM(W6:W8) -> 0 | X9: =SUM(X6:X8) -> 0 | ... AA9: =SUM(AA6:AA8) -> 0 | AB9: =SUM($P$9:$AA$9) -> 0 | AC9: =SUM($AC6:$AC8) -> 0 | AD9: =SUM(AD6:AD8) -> 0 | AE9: =SUM(AE6:AE8) -> 0 | AF9: =SUM(AF6:AF8) -> 0 | AG9: =SUM(AG6:AG8) -> 0 | AH9: =SUM(AH6:AH8) -> 0 | AI9: =SUM(AI6:AI8) -> 0 | AJ9: =SUM(AJ6:AJ8) -> 0 | AK9: =SUM(AK6:AK8) -> 0 | ... AN9: =SUM(AN6:AN8) -> 0 | AO9: =SUM($AC$9:$AN$9) -> 0 | AP9: =SUM($O$9,$AB$9,$AO$9) -> 0
A10: 支出 | B10: ● | O10: =SUM($C$10:$N$10) -> 0 | AB10: =SUM($P$10:$AA$10) -> 0 | AO10: =SUM($AC$10:$AN$10) -> 0 | AP10: =SUM($O$10,$AB$10,$AO$10) -> 0
B11: ● | O11: =SUM($C$11:$N$11) -> 0 | AB11: =SUM($P$11:$AA$11) -> 0 | AO11: =SUM($AC$11:$AN$11) -> 0 | AP11: =SUM($O$11,$AB$11,$AO$11) -> 0
B12: ● | O12: =SUM($C$12:$N$12) -> 0 | AB12: =SUM($P$12:$AA$12) -> 0 | AO12: =SUM($AC$12:$AN$12) -> 0 | AP12: =SUM($O$12,$AB$12,$AO$12) -> 0
B13: ● | O13: =SUM($C$13:$N$13) -> 0 | AB13: =SUM($P$13:$AA$13) -> 0 | AO13: =SUM($AC$13:$AN$13) -> 0 | AP13: =SUM($O$13,$AB$13,$AO$13) -> 0
B14: ● | O14: =SUM($C$14:$N$14) -> 0 | AB14: =SUM($P$14:$AA$14) -> 0 | AO14: =SUM($AC$14:$AN$14) -> 0 | AP14: =SUM($O$14,$AB$14,$AO$14) -> 0
B15: ● | O15: =SUM($C$15:$N$15) -> 0 | AB15: =SUM($P$15:$AA$15) -> 0 | AO15: =SUM($AC$15:$AN$15) -> 0 | AP15: =SUM($O$15,$AB$15,$AO$15) -> 0
B16: ● | O16: =SUM($C$16:$N$16) -> 0 | AB16: =SUM($P$16:$AA$16) -> 0 | AO16: =SUM($AC$16:$AN$16) -> 0 | AP16: =SUM($O$16,$AB$16,$AO$16) -> 0
B17: ● | O17: =SUM($C$17:$N$17) -> 0 | AB17: =SUM($P$17:$AA$17) -> 0 | AO17: =SUM($AC$17:$AN$17) -> 0 | AP17: =SUM($O$17,$AB$17,$AO$17) -> 0
B18: ● | O18: =SUM($C$18:$N$18) -> 0 | AB18: =SUM($P$18:$AA$18) -> 0 | AO18: =SUM($AC$18:$AN$18) -> 0 | AP18: =SUM($O$18,$AB$18,$AO$18) -> 0
B19: その他支出 | O19: =SUM($C$19:$N$19) -> 0 | AB19: =SUM($P$19:$AA$19) -> 0 | AO19: =SUM($AC$19:$AN$19) -> 0 | AP19: =SUM($O$19,$AB$19,$AO$19) -> 0
B20: 計（Ｂ） | C20: =SUM($C10:$C19) -> 0 | D20: =SUM(D10:D19) -> 0 | E20: =SUM(E10:E19) -> 0 | F20: =SUM(F10:F19) -> 0 | G20: =SUM(G10:G19) -> 0 | H20: =SUM(H10:H19) -> 0 | I20: =SUM(I10:I19) -> 0 | J20: =SUM(J10:J19) -> 0 | K20: =SUM(K10:K19) -> 0 | ... N20: =SUM(N10:N19) -> 0 | O20: =SUM($C$20:$N$20) -> 0 | P20: =SUM($P10:$P19) -> 0 | Q20: =SUM(Q10:Q19) -> 0 | R20: =SUM(R10:R19) -> 0 | S20: =SUM(S10:S19) -> 0 | T20: =SUM(T10:T19) -> 0 | U20: =SUM(U10:U19) -> 0 | V20: =SUM(V10:V19) -> 0 | W20: =SUM(W10:W19) -> 0 | X20: =SUM(X10:X19) -> 0 | ... AA20: =SUM(AA10:AA19) -> 0 | AB20: =SUM($P$20:$AA$20) -> 0 | AC20: =SUM($AC10:$AC19) -> 0 | AD20: =SUM(AD10:AD19) -> 0 | AE20: =SUM(AE10:AE19) -> 0 | AF20: =SUM(AF10:AF19) -> 0 | AG20: =SUM(AG10:AG19) -> 0 | AH20: =SUM(AH10:AH19) -> 0 | AI20: =SUM(AI10:AI19) -> 0 | AJ20: =SUM(AJ10:AJ19) -> 0 | AK20: =SUM(AK10:AK19) -> 0 | ... AN20: =SUM(AN10:AN19) -> 0 | AO20: =SUM($AC$20:$AN$20) -> 0 | AP20: =SUM($O$20,$AB$20,$AO$20) -> 0
A21: 財務 | B21: 出資、借入 | O21: =SUM($C$21:$N$21) -> 0 | AB21: =SUM($P$21:$AA$21) -> 0 | AO21: =SUM($AC$21:$AN$21) -> 0 | AP21: =SUM($O$21,$AB$21,$AO$21) -> 0
B22: 設備投資 | O22: =SUM($C$22:$N$22) -> 0 | AB22: =SUM($P$22:$AA$22) -> 0 | AO22: =SUM($AC$22:$AN$22) -> 0 | AP22: =SUM($O$22,$AB$22,$AO$22) -> 0
B23: 借入金返済 | O23: =SUM($C$23:$N$23) -> 0 | AB23: =SUM($P$23:$AA$23) -> 0 | AO23: =SUM($AC23:$AN$23) -> 0 | AP23: =SUM($O$23,$AB$23,$AO$23) -> 0
B24: 差引計（Ｃ） | C24: =+$C$21-$C$22-$C$23 -> 0 | D24: =D21-D22-D23 -> 0 | E24: =E21-E22-E23 -> 0 | F24: =F21-F22-F23 -> 0 | G24: =G21-G22-G23 -> 0 | H24: =H21-H22-H23 -> 0 | I24: =I21-I22-I23 -> 0 | J24: =J21-J22-J23 -> 0 | K24: =K21-K22-K23 -> 0 | ... N24: =N21-N22-N23 -> 0 | O24: =SUM($C$24:$N$24) -> 0 | P24: =+$P$21-$P$22-$P$23 -> 0 | Q24: =Q21-Q22-Q23 -> 0 | R24: =R21-R22-R23 -> 0 | S24: =S21-S22-S23 -> 0 | T24: =T21-T22-T23 -> 0 | U24: =U21-U22-U23 -> 0 | V24: =V21-V22-V23 -> 0 | W24: =W21-W22-W23 -> 0 | X24: =X21-X22-X23 -> 0 | ... AA24: =AA21-AA22-AA23 -> 0 | AB24: =SUM($P$24:$AA$24) -> 0 | AC24: =+$AC$21-$AC$22-$AC$23 -> 0 | AD24: =AD21-AD22-AD23 -> 0 | AE24: =AE21-AE22-AE23 -> 0 | AF24: =AF21-AF22-AF23 -> 0 | AG24: =AG21-AG22-AG23 -> 0 | AH24: =AH21-AH22-AH23 -> 0 | AI24: =AI21-AI22-AI23 -> 0 | AJ24: =AJ21-AJ22-AJ23 -> 0 | AK24: =AK21-AK22-AK23 -> 0 | ... AN24: =AN21-AN22-AN23 -> 0 | AO24: =SUM($AC$24:$AN$24) -> 0 | AP24: =SUM($O$24,$AB$24,$AO$24) -> 0
A25: 差引（Ａ）-（Ｂ）+（Ｃ） | C25: =+C9-C20+C24 -> 0 | D25: =+D9-D20+D24 -> 0 | E25: =+E9-E20+E24 -> 0 | F25: =+F9-F20+F24 -> 0 | G25: =+G9-G20+G24 -> 0 | H25: =+H9-H20+H24 -> 0 | I25: =+I9-I20+I24 -> 0 | J25: =+J9-J20+J24 -> 0 | ... N25: =+N9-N20+N24 -> 0 | O25: =SUM($C$25:$N$25) -> 0 | P25: =+P9-P20+P24 -> 0 | Q25: =+Q9-Q20+Q24 -> 0 | R25: =+R9-R20+R24 -> 0 | S25: =+S9-S20+S24 -> 0 | T25: =+T9-T20+T24 -> 0 | U25: =+U9-U20+U24 -> 0 | V25: =+V9-V20+V24 -> 0 | W25: =+W9-W20+W24 -> 0 | ... AA25: =+AA9-AA20+AA24 -> 0 | AB25: =SUM($P$25:$AA$25) -> 0 | AC25: =+AC9-AC20+AC24 -> 0 | AD25: =+AD9-AD20+AD24 -> 0 | AE25: =+AE9-AE20+AE24 -> 0 | AF25: =+AF9-AF20+AF24 -> 0 | AG25: =+AG9-AG20+AG24 -> 0 | AH25: =+AH9-AH20+AH24 -> 0 | AI25: =+AI9-AI20+AI24 -> 0 | AJ25: =+AJ9-AJ20+AJ24 -> 0 | ... AN25: =+AN9-AN20+AN24 -> 0 | AO25: =SUM($AC$25:$AN$25) -> 0 | AP25: =+$AP$9-$AP$20+$AP$24 -> 0
A26: 次期繰越 | C26: =+$C$5+$C$25 -> 0 | D26: =+D5+D25 -> 0 | E26: =+E5+E25 -> 0 | F26: =+F5+F25 -> 0 | G26: =+G5+G25 -> 0 | H26: =+H5+H25 -> 0 | I26: =+I5+I25 -> 0 | J26: =+J5+J25 -> 0 | K26: =+K5+K25 -> 0 | ... N26: =+N5+N25 -> 0 | P26: =+$P$5+$P$25 -> 0 | Q26: =+Q5+Q25 -> 0 | R26: =+R5+R25 -> 0 | S26: =+S5+S25 -> 0 | T26: =+T5+T25 -> 0 | U26: =+U5+U25 -> 0 | V26: =+V5+V25 -> 0 | W26: =+W5+W25 -> 0 | X26: =+X5+X25 -> 0 | ... AA26: =+AA5+AA25 -> 0 | AC26: =+$AC$5+$AC$25 -> 0 | AD26: =+AD5+AD25 -> 0 | AE26: =+AE5+AE25 -> 0 | AF26: =+AF5+AF25 -> 0 | AG26: =+AG5+AG25 -> 0 | AH26: =+AH5+AH25 -> 0 | AI26: =+AI5+AI25 -> 0 | AJ26: =+AJ5+AJ25 -> 0 | AK26: =+AK5+AK25 -> 0 | ... AN26: =+AN5+AN25 -> 0

Sheet 5-2(四半期)
A1: （６）資金繰り計画①
C2: 当期 | H2: 翌期 | M2: 翌々期
A3: 期間（暦年・月） | C3: ='5-1'!H6 -> 年 月 日～ 年 月 日 | H3: ='5-1'!H7 -> 年 月 日～ 年 月 日 | M3: ='5-1'!H8 -> 年 月 日～ 年 月 日 | R3: （単位：千円）
C4: 第1四半期 | D4: 第2四半期 | E4: 第3四半期 | F4: 第4四半期 | G4: 小計 | H4: 第1四半期 | I4: 第2四半期 | J4: 第3四半期 | K4: 第4四半期 | L4: 小計 | M4: 第1四半期 | N4: 第2四半期 | O4: 第3四半期 | P4: 第4四半期 | Q4: 小計 | R4: 合計
A5: 前期繰越 | D5: =C26 -> 0 | E5: =D26 -> 0 | F5: =E26 -> 0 | H5: =F26 -> 0 | I5: =H26 -> 0 | J5: =I26 -> 0 | K5: =J26 -> 0 | M5: =K26 -> 0 | N5: =M26 -> 0 | O5: =N26 -> 0 | P5: =O26 -> 0
A6: 収入 | B6: ● 売上 | G6: =SUM($C$6:$F$6) -> 0 | L6: =SUM($H$6:$K$6) -> 0 | Q6: =SUM($M$6:$P$6) -> 0 | R6: =SUM($G$6,$L$6,$Q$6) -> 0
G7: =SUM($C$7:$F$7) -> 0 | L7: =SUM($H$7:$K$7) -> 0 | Q7: =SUM($M$7:$P$7) -> 0 | R7: =SUM($G$7,$L$7,$Q$7) -> 0
B8: ● その他入金 | G8: =SUM($C$8:$F$8) -> 0 | L8: =SUM($H$8:$K$8) -> 0 | Q8: =SUM($M$8:$P$8) -> 0 | R8: =SUM($G$8,$L$8,$Q$8) -> 0
B9: 計（Ａ） | C9: =SUM($C6:$C8) -> 0 | D9: =SUM($D6:$D8) -> 0 | E9: =SUM($E6:$E8) -> 0 | F9: =SUM($F6:$F8) -> 0 | G9: =SUM($C$9:$F$9) -> 0 | H9: =SUM($H6:$H8) -> 0 | I9: =SUM($I6:$I8) -> 0 | J9: =SUM($J6:$J8) -> 0 | K9: =SUM($K6:$K8) -> 0 | L9: =SUM($H$9:$K$9) -> 0 | M9: =SUM($M6:$M8) -> 0 | N9: =SUM($N6:$N8) -> 0 | O9: =SUM($O6:$O8) -> 0 | P9: =SUM($P6:$P8) -> 0 | Q9: =SUM($M$9:$P$9) -> 0 | R9: =SUM($G$9,$L$9,$Q$9) -> 0
A10: 支出 | B10: ● | G10: =SUM($C$10:$F$10) -> 0 | L10: =SUM($H$10:$K$10) -> 0 | Q10: =SUM($M$10:$P$10) -> 0 | R10: =SUM($G$10,$L$10,$Q$10) -> 0
B11: ● | G11: =SUM($C$11:$F$11) -> 0 | L11: =SUM($H$11:$K$11) -> 0 | Q11: =SUM($M$11:$P$11) -> 0 | R11: =SUM($G$11,$L$11,$Q$11) -> 0
B12: ● | G12: =SUM($C$12:$F$12) -> 0 | L12: =SUM($H$12:$K$12) -> 0 | Q12: =SUM($M$12:$P$12) -> 0 | R12: =SUM($G$12,$L$12,$Q$12) -> 0
B13: ● | G13: =SUM($C$13:$F$13) -> 0 | L13: =SUM($H$13:$K$13) -> 0 | Q13: =SUM($M$13:$P$13) -> 0 | R13: =SUM($G$13,$L$13,$Q$13) -> 0
B14: ● | G14: =SUM($C$14:$F$14) -> 0 | L14: =SUM($H$14:$K$14) -> 0 | Q14: =SUM($M$14:$P$14) -> 0 | R14: =SUM($G$14,$L$14,$Q$14) -> 0
B15: ● | G15: =SUM($C$15:$F$15) -> 0 | L15: =SUM($H$15:$K$15) -> 0 | Q15: =SUM($M$15:$P$15) -> 0 | R15: =SUM($G$15,$L$15,$Q$15) -> 0
B16: ● | G16: =SUM($C$16:$F$16) -> 0 | L16: =SUM($H$16:$K$16) -> 0 | Q16: =SUM($M$16:$P$16) -> 0 | R16: =SUM($G$16,$L$16,$Q$16) -> 0
B17: ● | G17: =SUM($C$17:$F$17) -> 0 | L17: =SUM($H$17:$K$17) -> 0 | Q17: =SUM($M$17:$P$17) -> 0 | R17: =SUM($G$17,$L$17,$Q$17) -> 0
B18: ● | G18: =SUM($C$18:$F$18) -> 0 | L18: =SUM($H$18:$K$18) -> 0 | Q18: =SUM($M$18:$P$18) -> 0 | R18: =SUM($G$18,$L$18,$Q$18) -> 0
B19: その他支出 | G19: =SUM($C$19:$F$19) -> 0 | L19: =SUM($H$19:$K$19) -> 0 | Q19: =SUM($M$19:$P$19) -> 0 | R19: =SUM($G$19,$L$19,$Q$19) -> 0
B20: 計（Ｂ） | C20: =SUM($C10:$C19) -> 0 | D20: =SUM($D10:$D19) -> 0 | E20: =SUM($E10:$E19) -> 0 | F20: =SUM($F10:$F19) -> 0 | G20: =SUM($C$20:$F$20) -> 0 | H20: =SUM($H10:$H19) -> 0 | I20: =SUM($I10:$I19) -> 0 | J20: =SUM($J10:$J19) -> 0 | K20: =SUM($K10:$K19) -> 0 | L20: =SUM($H$20:$K$20) -> 0 | M20: =SUM($M10:$M19) -> 0 | N20: =SUM($N10:$N19) -> 0 | O20: =SUM($O10:$O19) -> 0 | P20: =SUM($P10:$P19) -> 0 | Q20: =SUM($M$20:$P$20) -> 0 | R20: =SUM($G$20,$L$20,$Q$20) -> 0
A21: 財務 | B21: 出資、借入 | G21: =SUM($C$21:$F$21) -> 0 | L21: =SUM($H$21:$K$21) -> 0 | Q21: =SUM($M$21:$P$21) -> 0 | R21: =SUM($G$21,$L$21,$Q$21) -> 0
B22: 設備投資 | G22: =SUM($C$22:$F$22) -> 0 | L22: =SUM($H$22:$K$22) -> 0 | Q22: =SUM($M$22:$P$22) -> 0 | R22: =SUM($G$22,$L$22,$Q$22) -> 0
B23: 借入金返済 | G23: =SUM($C$23:$F$23) -> 0 | L23: =SUM($H$23:$K$23) -> 0 | Q23: =SUM($M23:$P$23) -> 0 | R23: =SUM($G$23,$L$23,$Q$23) -> 0
B24: 差引計（Ｃ） | C24: =+$C$21-$C$22-$C$23 -> 0 | D24: =+$D$21-$D$22-$D$23 -> 0 | E24: =+$E$21-$E$22-$E$23 -> 0 | F24: =+$F$21-$F$22-$F$23 -> 0 | G24: =SUM($C$24:$F$24) -> 0 | H24: =+$H$21-$H$22-$H$23 -> 0 | I24: =+$I$21-$I$22-$I$23 -> 0 | J24: =+$J$21-$J$22-$J$23 -> 0 | K24: =+$K$21-$K$22-$K$23 -> 0 | L24: =SUM($H$24:$K$24) -> 0 | M24: =+$M$21-$M$22-$M$23 -> 0 | N24: =+$N$21-$N$22-$N$23 -> 0 | O24: =+$O$21-$O$22-$O$23 -> 0 | P24: =+$P$21-$P$22-$P$23 -> 0 | Q24: =SUM($M$24:$P$24) -> 0 | R24: =SUM($G$24,$L$24,$Q$24) -> 0
A25: 差引（Ａ）-（Ｂ）+（Ｃ） | C25: =+C9-C20+C24 -> 0 | D25: =+D9-D20+D24 -> 0 | E25: =+E9-E20+E24 -> 0 | F25: =+F9-F20+F24 -> 0 | G25: =SUM($C$25:$F$25) -> 0 | H25: =+H9-H20+H24 -> 0 | I25: =+I9-I20+I24 -> 0 | J25: =+J9-J20+J24 -> 0 | K25: =+K9-K20+K24 -> 0 | L25: =SUM($H$25:$K$25) -> 0 | M25: =+M9-M20+M24 -> 0 | N25: =+N9-N20+N24 -> 0 | O25: =+O9-O20+O24 -> 0 | P25: =+P9-P20+P24 -> 0 | Q25: =SUM($M$25:$P$25) -> 0 | R25: =+$R$9-$R$20+$R$24 -> 0
A26: 次期繰越 | C26: =+$C$5+$C$25 -> 0 | D26: =+$D$5+$D$25 -> 0 | E26: =+$E$5+$E$25 -> 0 | F26: =+$F$5+$F$25 -> 0 | H26: =+$H$5+$H$25 -> 0 | I26: =$I$5+$I$25 -> 0 | J26: =+$J$5+$J$25 -> 0 | K26: =+$K$5+$K$25 -> 0 | M26: =+$M$5+$M$25 -> 0 | N26: =+$N$5+$N$25 -> 0 | O26: =+$O$5+$O$25 -> 0 | P26: =+$P$5+$P$25 -> 0

Sheet 5-3
A1: （６）資金繰り計画②
A2: （単位：千円）
A3: 期間 | C3: 当期 | D3: 翌期 | E3: 翌々期
C4: ='5-2(四半期)'!C3 -> 年 月 日～ 年 月 日 | D4: ='5-2(四半期)'!H3 -> 年 月 日～ 年 月 日 | E4: ='5-2(四半期)'!M3 -> 年 月 日～ 年 月 日
A5: 収入の主要項目の明確な積算根拠
A6: 売上 | B6: 商品・サービス名
B7: 単価
B8: 販売又は提供数量
B9: 上記見込の根拠・想定に関する説明
A10: その他入金 | B10: 内訳（単価、数量等）
A11: 支出の主要項目の明確な積算根拠
A12: 仕入 | B12: 商品・サービス名
B13: 単価
B14: 仕入数量
B15: 主要仕入先
A16: 賃金給与 | B16: 形態１
B17: 人数
B18: 単価
B19: 期間（月数又は日数）
B20: 形態２
B21: 人数
B22: 単価
B23: 期間（月数又は日数）
B24: 形態３
B25: 人数
B26: 単価
B27: 期間（月数又は日数）
A28: 賃借料 | B28: 内容
B29: 単価
B30: 期間
A31: 上記以外で資金繰り表に追加記載した支出項目の内容・総額
A32: 経費１（名称） | B32: 内容
B33: 総額
A34: 経費２（名称） | B34: 内容
B35: 総額
A36: 経費３（名称） | B36: 内容
B37: 総額
A38: 経費４（名称） | B38: 内容
B39: 総額
A40: 経費５（名称） | B40: 内容
...

Sheet 6-1(毎月)
A1: ６ 行動計画
A2: （1）月別行動計画
A3: 行動内容 | B3: 当期 | N3: 翌期 | Z3: 翌々期 | AL3: 必要な経費額 （単位：千円） | AN3: 備考欄
B4: ='5-3'!C4 -> 年 月 日～ 年 月 日 | N4: ='5-3'!D4 -> 年 月 日～ 年 月 日 | Z4: ='5-3'!E4 -> 年 月 日～ 年 月 日
B5: ='5-2(毎月)'!C4 -> 0 | C5: ='5-2(毎月)'!D4 -> 31 | D5: ='5-2(毎月)'!E4 -> 59 | E5: ='5-2(毎月)'!F4 -> 88 | F5: ='5-2(毎月)'!G4 -> 119 | G5: ='5-2(毎月)'!H4 -> 149 | H5: ='5-2(毎月)'!I4 -> 180 | I5: ='5-2(毎月)'!J4 -> 210 | ... M5: ='5-2(毎月)'!N4 -> 333 | N5: ='5-2(毎月)'!P4 -> 0 | O5: ='5-2(毎月)'!Q4 -> 31 | P5: ='5-2(毎月)'!R4 -> 59 | Q5: ='5-2(毎月)'!S4 -> 88 | R5: ='5-2(毎月)'!T4 -> 119 | S5: ='5-2(毎月)'!U4 -> 149 | T5: ='5-2(毎月)'!V4 -> 180 | U5: ='5-2(毎月)'!W4 -> 210 | ... Y5: ='5-2(毎月)'!AA4 -> 333 | Z5: ='5-2(毎月)'!AC4 -> 0 | AA5: ='5-2(毎月)'!AD4 -> 31 | AB5: ='5-2(毎月)'!AE4 -> 59 | AC5: ='5-2(毎月)'!AF4 -> 88 | AD5: ='5-2(毎月)'!AG4 -> 119 | AE5: ='5-2(毎月)'!AH4 -> 149 | AF5: ='5-2(毎月)'!AI4 -> 180 | AG5: ='5-2(毎月)'!AJ4 -> 210 | ... AK5: ='5-2(毎月)'!AN4 -> 333
A28: 合計 | AL28: =SUM(AL6:AM27) -> 0

Sheet 6-1(四半期)
A1: ６ 行動計画
A2: （1）四半期行動計画
A3: 行動内容 | B3: 当期 | F3: 翌期 | J3: 翌々期 | N3: 必要な経費額 （単位：千円） | P3: 備考欄
B4: ='5-3'!C4 -> 年 月 日～ 年 月 日 | F4: ='5-3'!D4 -> 年 月 日～ 年 月 日 | J4: ='5-3'!E4 -> 年 月 日～ 年 月 日
B5: 第1四半期 | C5: 第2四半期 | D5: 第3四半期 | E5: 第4四半期 | F5: 第1四半期 | G5: 第2四半期 | H5: 第3四半期 | I5: 第4四半期 | J5: 第1四半期 | K5: 第2四半期 | L5: 第3四半期 | M5: 第4四半期
A28: 合計 | N28: =SUM(N6:O27) -> 0

Sheet 6-2
A1: ６ 行動計画
A2: （２）事業実施計画の詳細
A6: （３）実施体制
A10: （４）課題とその解決方法
A14: （５）資金調達
C15: 資金調達先 | E15: 資金調達額(千円) | G15: 調達先（名称等） | J15: 進捗状況
J16: ※該当するもの を選択
A17: 内訳 | C17: 自己資金
C19: 役員借入金
C21: 銀行借入金
C23: ベンチャー キャピタル出資
C25: その他
C27: 合計
