Workbook

Sheet 算定表
A1: 様式第６号（別紙４－２）
A2: 直接人件費算定表
A4: 企業名
A5: 氏名
A6: 年月 | B6: 総支給額 (円) (A) | C6: 時間単価 (円) (B) | D6: 従事時間 (時間) (C) | E6: 算定額 (D)=(B)X(C) | F6: 助成対象経費 (円) (A)を上限 とする
A7: =SUBSTITUTE(SUBSTITUTE(SUBSTITUTE(ASC('R8年4月'!$B$3),"R","令和"),"令和1","令和元"),"H","平成") -> 令和8年4月 | C7: =LOOKUP(MIN(テーブル2[総支給額 (円) (A)]),人件費単価一覧表[円以上],人件費単価一覧表[単位：円]) -> 1040 | D7: =MIN(作業日報兼直接人件費個別明細表1[[#Totals],[列6]]*24,150) -> 0 | E7: =テーブル2[[#This Row],[時間単価 (円) (B) ]]*テーブル2[[#This Row],[従事時間 (時間) (C) ]] -> 0 | F7: =+IF(テーブル2[[#This Row],[総支給額 (円) (A)]]="",0,MIN(テーブル2[[#This Row],[総支給額 (円) (A)]],テーブル2[[#This Row],[算定額 (D)=(B)X(C)]])) -> 0
A8: =SUBSTITUTE(SUBSTITUTE(SUBSTITUTE(ASC('R8年5月'!$B$3),"R","令和"),"令和1","令和元"),"H","平成") -> 令和8年5月 | C8: =LOOKUP(MIN(テーブル2[総支給額 (円) (A)]),人件費単価一覧表[円以上],人件費単価一覧表[単位：円]) -> 1040 | D8: =MIN(作業日報兼直接人件費個別明細表2[[#Totals],[列6]]*24,150) -> 0 | E8: =テーブル2[[#This Row],[時間単価 (円) (B) ]]*テーブル2[[#This Row],[従事時間 (時間) (C) ]] -> 0 | F8: =+IF(テーブル2[[#This Row],[総支給額 (円) (A)]]="",0,MIN(テーブル2[[#This Row],[総支給額 (円) (A)]],テーブル2[[#This Row],[算定額 (D)=(B)X(C)]])) -> 0
A9: =SUBSTITUTE(SUBSTITUTE(SUBSTITUTE(ASC('R8年6月'!$B$3),"R","令和"),"令和1","令和元"),"H","平成") -> 令和8年6月 | C9: =LOOKUP(MIN(テーブル2[総支給額 (円) (A)]),人件費単価一覧表[円以上],人件費単価一覧表[単位：円]) -> 1040 | D9: =MIN(作業日報兼直接人件費個別明細表3[[#Totals],[列6]]*24,150) -> 0 | E9: =テーブル2[[#This Row],[時間単価 (円) (B) ]]*テーブル2[[#This Row],[従事時間 (時間) (C) ]] -> 0 | F9: =+IF(テーブル2[[#This Row],[総支給額 (円) (A)]]="",0,MIN(テーブル2[[#This Row],[総支給額 (円) (A)]],テーブル2[[#This Row],[算定額 (D)=(B)X(C)]])) -> 0
A10: =SUBSTITUTE(SUBSTITUTE(SUBSTITUTE(ASC('R8年7月'!$B$3),"R","令和"),"令和1","令和元"),"H","平成") -> 令和8年7月 | C10: =LOOKUP(MIN(テーブル2[総支給額 (円) (A)]),人件費単価一覧表[円以上],人件費単価一覧表[単位：円]) -> 1040 | D10: =MIN(作業日報兼直接人件費個別明細表4[[#Totals],[列6]]*24,150) -> 0 | E10: =テーブル2[[#This Row],[時間単価 (円) (B) ]]*テーブル2[[#This Row],[従事時間 (時間) (C) ]] -> 0 | F10: =+IF(テーブル2[[#This Row],[総支給額 (円) (A)]]="",0,MIN(テーブル2[[#This Row],[総支給額 (円) (A)]],テーブル2[[#This Row],[算定額 (D)=(B)X(C)]])) -> 0
A11: =SUBSTITUTE(SUBSTITUTE(SUBSTITUTE(ASC('R8年8月'!$B$3),"R","令和"),"令和1","令和元"),"H","平成") -> 令和8年8月 | C11: =LOOKUP(MIN(テーブル2[総支給額 (円) (A)]),人件費単価一覧表[円以上],人件費単価一覧表[単位：円]) -> 1040 | D11: =MIN(作業日報兼直接人件費個別明細表5[[#Totals],[列6]]*24,150) -> 0 | E11: =テーブル2[[#This Row],[時間単価 (円) (B) ]]*テーブル2[[#This Row],[従事時間 (時間) (C) ]] -> 0 | F11: =+IF(テーブル2[[#This Row],[総支給額 (円) (A)]]="",0,MIN(テーブル2[[#This Row],[総支給額 (円) (A)]],テーブル2[[#This Row],[算定額 (D)=(B)X(C)]])) -> 0
A12: =SUBSTITUTE(SUBSTITUTE(SUBSTITUTE(ASC('R8年9月'!$B$3),"R","令和"),"令和1","令和元"),"H","平成") -> 令和8年9月 | C12: =LOOKUP(MIN(テーブル2[総支給額 (円) (A)]),人件費単価一覧表[円以上],人件費単価一覧表[単位：円]) -> 1040 | D12: =MIN(作業日報兼直接人件費個別明細表6[[#Totals],[列6]]*24,150) -> 0 | E12: =テーブル2[[#This Row],[時間単価 (円) (B) ]]*テーブル2[[#This Row],[従事時間 (時間) (C) ]] -> 0 | F12: =+IF(テーブル2[[#This Row],[総支給額 (円) (A)]]="",0,MIN(テーブル2[[#This Row],[総支給額 (円) (A)]],テーブル2[[#This Row],[算定額 (D)=(B)X(C)]])) -> 0
A13: =SUBSTITUTE(SUBSTITUTE(SUBSTITUTE(ASC('R8年10月'!$B$3),"R","令和"),"令和1","令和元"),"H","平成") -> 令和8年10月 | C13: =LOOKUP(MIN(テーブル2[総支給額 (円) (A)]),人件費単価一覧表[円以上],人件費単価一覧表[単位：円]) -> 1040 | D13: =MIN(作業日報兼直接人件費個別明細表7[[#Totals],[列6]]*24,150) -> 0 | E13: =テーブル2[[#This Row],[時間単価 (円) (B) ]]*テーブル2[[#This Row],[従事時間 (時間) (C) ]] -> 0 | F13: =+IF(テーブル2[[#This Row],[総支給額 (円) (A)]]="",0,MIN(テーブル2[[#This Row],[総支給額 (円) (A)]],テーブル2[[#This Row],[算定額 (D)=(B)X(C)]])) -> 0
A14: =SUBSTITUTE(SUBSTITUTE(SUBSTITUTE(ASC('R8年11月'!$B$3),"R","令和"),"令和1","令和元"),"H","平成") -> 令和8年11月 | C14: =LOOKUP(MIN(テーブル2[総支給額 (円) (A)]),人件費単価一覧表[円以上],人件費単価一覧表[単位：円]) -> 1040 | D14: =MIN(作業日報兼直接人件費個別明細表8[[#Totals],[列6]]*24,150) -> 0 | E14: =テーブル2[[#This Row],[時間単価 (円) (B) ]]*テーブル2[[#This Row],[従事時間 (時間) (C) ]] -> 0 | F14: =+IF(テーブル2[[#This Row],[総支給額 (円) (A)]]="",0,MIN(テーブル2[[#This Row],[総支給額 (円) (A)]],テーブル2[[#This Row],[算定額 (D)=(B)X(C)]])) -> 0
A15: =SUBSTITUTE(SUBSTITUTE(SUBSTITUTE(ASC('R8年12月'!$B$3),"R","令和"),"令和1","令和元"),"H","平成") -> 令和8年12月 | C15: =LOOKUP(MIN(テーブル2[総支給額 (円) (A)]),人件費単価一覧表[円以上],人件費単価一覧表[単位：円]) -> 1040 | D15: =MIN(作業日報兼直接人件費個別明細表9[[#Totals],[列6]]*24,150) -> 0 | E15: =テーブル2[[#This Row],[時間単価 (円) (B) ]]*テーブル2[[#This Row],[従事時間 (時間) (C) ]] -> 0 | F15: =+IF(テーブル2[[#This Row],[総支給額 (円) (A)]]="",0,MIN(テーブル2[[#This Row],[総支給額 (円) (A)]],テーブル2[[#This Row],[算定額 (D)=(B)X(C)]])) -> 0
A16: =SUBSTITUTE(SUBSTITUTE(SUBSTITUTE(ASC('R9年1月'!$B$3),"R","令和"),"令和1","令和元"),"H","平成") -> 令和9年1月 | C16: =LOOKUP(MIN(テーブル2[総支給額 (円) (A)]),人件費単価一覧表[円以上],人件費単価一覧表[単位：円]) -> 1040 | D16: =MIN(作業日報兼直接人件費個別明細表10[[#Totals],[列6]]*24,150) -> 0 | E16: =テーブル2[[#This Row],[時間単価 (円) (B) ]]*テーブル2[[#This Row],[従事時間 (時間) (C) ]] -> 0 | F16: =+IF(テーブル2[[#This Row],[総支給額 (円) (A)]]="",0,MIN(テーブル2[[#This Row],[総支給額 (円) (A)]],テーブル2[[#This Row],[算定額 (D)=(B)X(C)]])) -> 0
A17: =SUBSTITUTE(SUBSTITUTE(SUBSTITUTE(ASC('R9年2月'!$B$3),"R","令和"),"令和1","令和元"),"H","平成") -> 令和9年2月 | C17: =LOOKUP(MIN(テーブル2[総支給額 (円) (A)]),人件費単価一覧表[円以上],人件費単価一覧表[単位：円]) -> 1040 | D17: =MIN(作業日報兼直接人件費個別明細表1014[[#Totals],[列6]]*24,150) -> 0 | E17: =テーブル2[[#This Row],[時間単価 (円) (B) ]]*テーブル2[[#This Row],[従事時間 (時間) (C) ]] -> 0 | F17: =+IF(テーブル2[[#This Row],[総支給額 (円) (A)]]="",0,MIN(テーブル2[[#This Row],[総支給額 (円) (A)]],テーブル2[[#This Row],[算定額 (D)=(B)X(C)]])) -> 0
A18: =SUBSTITUTE(SUBSTITUTE(SUBSTITUTE(ASC('R9年3月'!$B$3),"R","令和"),"令和1","令和元"),"H","平成") -> 令和9年3月 | C18: =LOOKUP(MIN(テーブル2[総支給額 (円) (A)]),人件費単価一覧表[円以上],人件費単価一覧表[単位：円]) -> 1040 | D18: =MIN(作業日報兼直接人件費個別明細表1015[[#Totals],[列6]]*24,150) -> 0 | E18: =テーブル2[[#This Row],[時間単価 (円) (B) ]]*テーブル2[[#This Row],[従事時間 (時間) (C) ]] -> 0 | F18: =+IF(テーブル2[[#This Row],[総支給額 (円) (A)]]="",0,MIN(テーブル2[[#This Row],[総支給額 (円) (A)]],テーブル2[[#This Row],[算定額 (D)=(B)X(C)]])) -> 0
A19: =SUBSTITUTE(SUBSTITUTE(SUBSTITUTE(ASC('R9年4月'!$B$3),"R","令和"),"令和1","令和元"),"H","平成") -> 令和9年4月 | C19: =LOOKUP(MIN(テーブル2[総支給額 (円) (A)]),人件費単価一覧表[円以上],人件費単価一覧表[単位：円]) -> 1040 | D19: =MIN(作業日報兼直接人件費個別明細表101516[[#Totals],[列6]]*24,150) -> 0 | E19: =テーブル2[[#This Row],[時間単価 (円) (B) ]]*テーブル2[[#This Row],[従事時間 (時間) (C) ]] -> 0 | F19: =+IF(テーブル2[[#This Row],[総支給額 (円) (A)]]="",0,MIN(テーブル2[[#This Row],[総支給額 (円) (A)]],テーブル2[[#This Row],[算定額 (D)=(B)X(C)]])) -> 0
A20: =SUBSTITUTE(SUBSTITUTE(SUBSTITUTE(ASC('R9年5月'!$B$3),"R","令和"),"令和1","令和元"),"H","平成") -> 令和9年5月 | C20: =LOOKUP(MIN(テーブル2[総支給額 (円) (A)]),人件費単価一覧表[円以上],人件費単価一覧表[単位：円]) -> 1040 | D20: =MIN(作業日報兼直接人件費個別明細表10151617[[#Totals],[列6]]*24,150) -> 0 | E20: =テーブル2[[#This Row],[時間単価 (円) (B) ]]*テーブル2[[#This Row],[従事時間 (時間) (C) ]] -> 0 | F20: =+IF(テーブル2[[#This Row],[総支給額 (円) (A)]]="",0,MIN(テーブル2[[#This Row],[総支給額 (円) (A)]],テーブル2[[#This Row],[算定額 (D)=(B)X(C)]])) -> 0
A21: =SUBSTITUTE(SUBSTITUTE(SUBSTITUTE(ASC('R9年6月'!$B$3),"R","令和"),"令和1","令和元"),"H","平成") -> 令和9年6月 | C21: =LOOKUP(MIN(テーブル2[総支給額 (円) (A)]),人件費単価一覧表[円以上],人件費単価一覧表[単位：円]) -> 1040 | D21: =MIN(作業日報兼直接人件費個別明細表1015161718[[#Totals],[列6]]*24,150) -> 0 | E21: =テーブル2[[#This Row],[時間単価 (円) (B) ]]*テーブル2[[#This Row],[従事時間 (時間) (C) ]] -> 0 | F21: =+IF(テーブル2[[#This Row],[総支給額 (円) (A)]]="",0,MIN(テーブル2[[#This Row],[総支給額 (円) (A)]],テーブル2[[#This Row],[算定額 (D)=(B)X(C)]])) -> 0
A22: =SUBSTITUTE(SUBSTITUTE(SUBSTITUTE(ASC('R9年7月'!$B$3),"R","令和"),"令和1","令和元"),"H","平成") -> 令和9年7月 | C22: =LOOKUP(MIN(テーブル2[総支給額 (円) (A)]),人件費単価一覧表[円以上],人件費単価一覧表[単位：円]) -> 1040 | D22: =MIN(作業日報兼直接人件費個別明細表101516171819[[#Totals],[列6]]*24,150) -> 0 | E22: =テーブル2[[#This Row],[時間単価 (円) (B) ]]*テーブル2[[#This Row],[従事時間 (時間) (C) ]] -> 0 | F22: =+IF(テーブル2[[#This Row],[総支給額 (円) (A)]]="",0,MIN(テーブル2[[#This Row],[総支給額 (円) (A)]],テーブル2[[#This Row],[算定額 (D)=(B)X(C)]])) -> 0
A23: =SUBSTITUTE(SUBSTITUTE(SUBSTITUTE(ASC('R9年8月'!$B$3),"R","令和"),"令和1","令和元"),"H","平成") -> 令和9年8月 | C23: =LOOKUP(MIN(テーブル2[総支給額 (円) (A)]),人件費単価一覧表[円以上],人件費単価一覧表[単位：円]) -> 1040 | D23: =MIN(作業日報兼直接人件費個別明細表10151617181920[[#Totals],[列6]]*24,150) -> 0 | E23: =テーブル2[[#This Row],[時間単価 (円) (B) ]]*テーブル2[[#This Row],[従事時間 (時間) (C) ]] -> 0 | F23: =+IF(テーブル2[[#This Row],[総支給額 (円) (A)]]="",0,MIN(テーブル2[[#This Row],[総支給額 (円) (A)]],テーブル2[[#This Row],[算定額 (D)=(B)X(C)]])) -> 0
A24: =SUBSTITUTE(SUBSTITUTE(SUBSTITUTE(ASC('R9年9月'!$B$3),"R","令和"),"令和1","令和元"),"H","平成") -> 令和9年9月 | C24: =LOOKUP(MIN(テーブル2[総支給額 (円) (A)]),人件費単価一覧表[円以上],人件費単価一覧表[単位：円]) -> 1040 | D24: =MIN(作業日報兼直接人件費個別明細表1015161718192021[[#Totals],[列6]]*24,150) -> 0 | E24: =テーブル2[[#This Row],[時間単価 (円) (B) ]]*テーブル2[[#This Row],[従事時間 (時間) (C) ]] -> 0 | F24: =+IF(テーブル2[[#This Row],[総支給額 (円) (A)]]="",0,MIN(テーブル2[[#This Row],[総支給額 (円) (A)]],テーブル2[[#This Row],[算定額 (D)=(B)X(C)]])) -> 0
C25: =LOOKUP(MIN(テーブル2[総支給額 (円) (A)]),$H$30:$H$55,$K$30:$K$55) -> 1040 | D25: =SUBTOTAL(109,テーブル2[従事時間 (時間) (C) ]) -> 0 | E25: =SUBTOTAL(109,テーブル2[算定額 (D)=(B)X(C)]) -> 0 | F25: =SUBTOTAL(109,テーブル2[助成対象経費 (円) (A)を上限 とする]) -> 0
A26: ■「直接人件費算定表（別紙４－１）」の入力
A27: （１）「総支給額（A）」は、貴社の給与明細表等から手入力してください（賞与や残業手当等は除く）。
A28: （２）「時間単価（B）」は、報告期間中の”一番低い単価”が自動的に参照されます。 | H28: 報酬月額（給与等） | K28: 人件費単価（時給）
A29: （３）「従事時間（C）」は、該当月の「作業日報兼直接人件費個別明細表（別紙４－２）」の時間数合計または月上限150時間が参照されます。 | H29: 円以上 | I29: ～ | J29: 円未満 | K29: 単位：円
A30: （４）「算定額」及び「助成対象経費」は、自動計算されます。 | H30: 0 | I30: ～ | J30: 130000 | K30: 1040
H31: 130000 | J31: 138000 | K31: 1110
H32: 138000 | I32: ～ | J32: 146000 | K32: 1180
H33: 146000 | I33: ～ | J33: 155000 | K33: 1240
H34: 155000 | I34: ～ | J34: 165000 | K34: 1330
H35: 165000 | I35: ～ | J35: 175000 | K35: 1410
H36: 175000 | I36: ～ | J36: 185000 | K36: 1490
H37: 185000 | I37: ～ | J37: 195000 | K37: 1580
H38: 195000 | I38: ～ | J38: 210000 | K38: 1660
H39: 210000 | I39: ～ | J39: 230000 | K39: 1830
H40: 230000 | I40: ～ | J40: 250000 | K40: 1990
H41: 250000 | I41: ～ | J41: 270000 | K41: 2160
...

Sheet 【記入例】算定表
A1: 様式第６号（別紙４－１）
A2: 直接人件費算定表
A3: ="報告期間："&A7&"～"&A16&"まで" -> 報告期間：令和8年4月～・・・まで
A4: 企業名 | B4: 株式会社×××
A5: 氏名 | B5: ○○ ○○
A6: 年月 | B6: 総支給額 (円) (A) | C6: 時間単価 (円) (B) | D6: 従事時間 (時間) (C) | E6: 算定額 (D)=(B)X(C) | F6: 助成対象経費 (円) (A)を上限 とする
A7: 令和8年4月 | B7: 280000 | C7: =LOOKUP(MIN(テーブル225[総支給額 (円) (A)]),人件費単価一覧表26[円以上],人件費単価一覧表26[単位：円]) -> 2160 | D7: 73 | E7: =テーブル225[[#This Row],[時間単価 (円) (B) ]]*テーブル225[[#This Row],[従事時間 (時間) (C) ]] -> 157680 | F7: =+IF(テーブル225[[#This Row],[総支給額 (円) (A)]]="",0,MIN(テーブル225[[#This Row],[総支給額 (円) (A)]],テーブル225[[#This Row],[算定額 (D)=(B)X(C)]])) -> 157680
A8: 令和8年5月 | B8: 320000 | C8: =LOOKUP(MIN(テーブル225[総支給額 (円) (A)]),人件費単価一覧表26[円以上],人件費単価一覧表26[単位：円]) -> 2160 | D8: 118.5 | E8: =テーブル225[[#This Row],[時間単価 (円) (B) ]]*テーブル225[[#This Row],[従事時間 (時間) (C) ]] -> 255960 | F8: =+IF(テーブル225[[#This Row],[総支給額 (円) (A)]]="",0,MIN(テーブル225[[#This Row],[総支給額 (円) (A)]],テーブル225[[#This Row],[算定額 (D)=(B)X(C)]])) -> 255960
A9: 令和8年6月 | B9: 260000 | C9: =LOOKUP(MIN(テーブル225[総支給額 (円) (A)]),人件費単価一覧表26[円以上],人件費単価一覧表26[単位：円]) -> 2160 | D9: 150 | E9: =テーブル225[[#This Row],[時間単価 (円) (B) ]]*テーブル225[[#This Row],[従事時間 (時間) (C) ]] -> 324000 | F9: =+IF(テーブル225[[#This Row],[総支給額 (円) (A)]]="",0,MIN(テーブル225[[#This Row],[総支給額 (円) (A)]],テーブル225[[#This Row],[算定額 (D)=(B)X(C)]])) -> 260000
A10: 令和8年7月 | B10: 260000 | C10: =LOOKUP(MIN(テーブル225[総支給額 (円) (A)]),人件費単価一覧表26[円以上],人件費単価一覧表26[単位：円]) -> 2160 | D10: 134.5 | E10: =テーブル225[[#This Row],[時間単価 (円) (B) ]]*テーブル225[[#This Row],[従事時間 (時間) (C) ]] -> 290520 | F10: =+IF(テーブル225[[#This Row],[総支給額 (円) (A)]]="",0,MIN(テーブル225[[#This Row],[総支給額 (円) (A)]],テーブル225[[#This Row],[算定額 (D)=(B)X(C)]])) -> 260000
A11: 令和8年8月 | B11: 260000 | C11: =LOOKUP(MIN(テーブル225[総支給額 (円) (A)]),人件費単価一覧表26[円以上],人件費単価一覧表26[単位：円]) -> 2160 | D11: 110.5 | E11: =テーブル225[[#This Row],[時間単価 (円) (B) ]]*テーブル225[[#This Row],[従事時間 (時間) (C) ]] -> 238680 | F11: =+IF(テーブル225[[#This Row],[総支給額 (円) (A)]]="",0,MIN(テーブル225[[#This Row],[総支給額 (円) (A)]],テーブル225[[#This Row],[算定額 (D)=(B)X(C)]])) -> 238680
A12: 令和8年9月 | B12: 260000 | C12: =LOOKUP(MIN(テーブル225[総支給額 (円) (A)]),人件費単価一覧表26[円以上],人件費単価一覧表26[単位：円]) -> 2160 | D12: 73 | E12: =テーブル225[[#This Row],[時間単価 (円) (B) ]]*テーブル225[[#This Row],[従事時間 (時間) (C) ]] -> 157680 | F12: =+IF(テーブル225[[#This Row],[総支給額 (円) (A)]]="",0,MIN(テーブル225[[#This Row],[総支給額 (円) (A)]],テーブル225[[#This Row],[算定額 (D)=(B)X(C)]])) -> 157680
A13: 令和8年10月 | B13: 320000 | C13: =LOOKUP(MIN(テーブル225[総支給額 (円) (A)]),人件費単価一覧表26[円以上],人件費単価一覧表26[単位：円]) -> 2160 | D13: 127 | E13: =テーブル225[[#This Row],[時間単価 (円) (B) ]]*テーブル225[[#This Row],[従事時間 (時間) (C) ]] -> 274320 | F13: =+IF(テーブル225[[#This Row],[総支給額 (円) (A)]]="",0,MIN(テーブル225[[#This Row],[総支給額 (円) (A)]],テーブル225[[#This Row],[算定額 (D)=(B)X(C)]])) -> 274320
A14: 令和8年11月 | B14: 260000 | C14: =LOOKUP(MIN(テーブル225[総支給額 (円) (A)]),人件費単価一覧表26[円以上],人件費単価一覧表26[単位：円]) -> 2160 | D14: 135 | E14: =テーブル225[[#This Row],[時間単価 (円) (B) ]]*テーブル225[[#This Row],[従事時間 (時間) (C) ]] -> 291600 | F14: =+IF(テーブル225[[#This Row],[総支給額 (円) (A)]]="",0,MIN(テーブル225[[#This Row],[総支給額 (円) (A)]],テーブル225[[#This Row],[算定額 (D)=(B)X(C)]])) -> 260000
A15: 令和8年12月 | B15: 260000 | C15: =LOOKUP(MIN(テーブル225[総支給額 (円) (A)]),人件費単価一覧表26[円以上],人件費単価一覧表26[単位：円]) -> 2160 | D15: 132 | E15: =テーブル225[[#This Row],[時間単価 (円) (B) ]]*テーブル225[[#This Row],[従事時間 (時間) (C) ]] -> 285120 | F15: =+IF(テーブル225[[#This Row],[総支給額 (円) (A)]]="",0,MIN(テーブル225[[#This Row],[総支給額 (円) (A)]],テーブル225[[#This Row],[算定額 (D)=(B)X(C)]])) -> 260000
A16: ・・・ | B16: ・・・ | C16: ・・・・ | D16: ・・・・ | E16: ・・・ | F16: ・・・・
C17: =LOOKUP(MIN(テーブル225[総支給額 (円) (A)]),$H$28:$H$53,$K$28:$K$53) -> 2160 | D17: =SUBTOTAL(109,テーブル225[従事時間 (時間) (C) ]) -> 1053.5 | E17: =SUBTOTAL(109,テーブル225[算定額 (D)=(B)X(C)]) -> 2275560 | F17: =SUBTOTAL(109,テーブル225[助成対象経費 (円) (A)を上限 とする]) -> 2124320
A18: ■「直接人件費算定表（別紙４－１）」の入力
A19: （１）「総支給額（A）」は、貴社の給与明細表等から手入力してください（賞与や残業手当等は除く）。
A20: （２）「時間単価（B）」は、報告期間中の”一番低い単価”が自動的に参照されます。
A21: （３）「従事時間（C）」は、該当月の「作業日報兼直接人件費個別明細表（別紙４－２）」の時間数合計または月上限150時間が参照されます。
A22: （４）「算定額」及び「助成対象経費」は、自動計算されます。
A23: ※従事者１名につき、本エクセルファイル全体をコピーし、作成してください。
H26: 報酬月額（給与等） | K26: 人件費単価（時給）
H27: 円以上 | I27: ～ | J27: 円未満 | K27: 単位：円
H28: 0 | I28: ～ | J28: 130000 | K28: 1040
H29: 130000 | I29: ～ | J29: 138000 | K29: 1110
H30: 138000 | I30: ～ | J30: 146000 | K30: 1180
H31: 146000 | I31: ～ | J31: 155000 | K31: 1240
H32: 155000 | I32: ～ | J32: 165000 | K32: 1330
H33: 165000 | I33: ～ | J33: 175000 | K33: 1410
H34: 175000 | I34: ～ | J34: 185000 | K34: 1490
H35: 185000 | I35: ～ | J35: 195000 | K35: 1580
H36: 195000 | I36: ～ | J36: 210000 | K36: 1660
H37: 210000 | I37: ～ | J37: 230000 | K37: 1830
H38: 230000 | I38: ～ | J38: 250000 | K38: 1990
H39: 250000 | I39: ～ | J39: 270000 | K39: 2160
... H52: 575000 | I52: ～ | J52: 605000 | K52: 4910
H53: 605000 | I53: ～ | K53: 5160

Sheet 【記入例】はじめにお読みください
A1: 様式第６号（別紙４－２）
A2: 作業日報兼直接人件費個別明細表
A3: 年月 | B3: R8年5月
A4: 企業名 | B4: 株式会社 公社
A5: 従事者氏名 | B5: 〇〇 〇〇
A6: （注）30分単位で記入してください。
A7: 日付 | B7: 曜日 | C7: 作業時刻 | F7: 休憩等 除外時間 | G7: 作業時間数 | H7: 作業内容
A8: 46133 | B8: 火 | C8: 0.375 | D8: ～ | E8: 0.75 | F8: 0.041666667 | G8: =IF(作業日報兼直接人件費個別明細表127[[#This Row],[列2]]="","",MIN(IF((作業日報兼直接人件費個別明細表127[[#This Row],[列4]]-作業日報兼直接人件費個別明細表127[[#This Row],[列2]]-作業日報兼直接人件費個別明細表127[[#This Row],[列5]])>0,FLOOR((作業日報兼直接人件費個別明細表127[[#This Row],[列4]]-作業日報兼直接人件費個別明細表127[[#This Row],[列2]]-作業日報兼直接人件費個別明細表127[[#This Row],[列5]]),"0:30"),""),"8:00")) -> 0.33333333 | H8: サービス構築に向けたプロトタイプの製作
A9: 46134 | B9: 水 | C9: 0.375 | D9: ～ | E9: 0.75 | F9: 0.041666667 | G9: =IF(作業日報兼直接人件費個別明細表127[[#This Row],[列2]]="","",MIN(IF((作業日報兼直接人件費個別明細表127[[#This Row],[列4]]-作業日報兼直接人件費個別明細表127[[#This Row],[列2]]-作業日報兼直接人件費個別明細表127[[#This Row],[列5]])>0,FLOOR((作業日報兼直接人件費個別明細表127[[#This Row],[列4]]-作業日報兼直接人件費個別明細表127[[#This Row],[列2]]-作業日報兼直接人件費個別明細表127[[#This Row],[列5]]),"0:30"),""),"8:00")) -> 0.33333333 | H9: サービス構築に向けたプロトタイプの製作
A10: 46135 | B10: 木 | C10: 0.54166667 | D10: ～ | E10: 0.75 | G10: =IF(作業日報兼直接人件費個別明細表127[[#This Row],[列2]]="","",MIN(IF((作業日報兼直接人件費個別明細表127[[#This Row],[列4]]-作業日報兼直接人件費個別明細表127[[#This Row],[列2]]-作業日報兼直接人件費個別明細表127[[#This Row],[列5]])>0,FLOOR((作業日報兼直接人件費個別明細表127[[#This Row],[列4]]-作業日報兼直接人件費個別明細表127[[#This Row],[列2]]-作業日報兼直接人件費個別明細表127[[#This Row],[列5]]),"0:30"),""),"8:00")) -> 0.20833333 | H10: サービス構築に向けたプロトタイプの製作
A11: 46136 | B11: 金 | C11: 0.375 | D11: ～ | E11: 0.75 | F11: 0.041666667 | G11: =IF(作業日報兼直接人件費個別明細表127[[#This Row],[列2]]="","",MIN(IF((作業日報兼直接人件費個別明細表127[[#This Row],[列4]]-作業日報兼直接人件費個別明細表127[[#This Row],[列2]]-作業日報兼直接人件費個別明細表127[[#This Row],[列5]])>0,FLOOR((作業日報兼直接人件費個別明細表127[[#This Row],[列4]]-作業日報兼直接人件費個別明細表127[[#This Row],[列2]]-作業日報兼直接人件費個別明細表127[[#This Row],[列5]]),"0:30"),""),"8:00")) -> 0.33333333 | H11: サービス構築に向けたプロトタイプの製作
A12: 46137 | B12: 土 | C12: 0.375 | D12: ～ | E12: 0.5 | G12: =IF(作業日報兼直接人件費個別明細表127[[#This Row],[列2]]="","",MIN(IF((作業日報兼直接人件費個別明細表127[[#This Row],[列4]]-作業日報兼直接人件費個別明細表127[[#This Row],[列2]]-作業日報兼直接人件費個別明細表127[[#This Row],[列5]])>0,FLOOR((作業日報兼直接人件費個別明細表127[[#This Row],[列4]]-作業日報兼直接人件費個別明細表127[[#This Row],[列2]]-作業日報兼直接人件費個別明細表127[[#This Row],[列5]]),"0:30"),""),"8:00")) -> 0.125 | H12: サービス構築に向けたプロトタイプの製作
A13: 46138 | B13: 日 | C13: 0.54166667 | D13: ～ | E13: 0.75 | F13: 0.041666667 | G13: =IF(作業日報兼直接人件費個別明細表127[[#This Row],[列2]]="","",MIN(IF((作業日報兼直接人件費個別明細表127[[#This Row],[列4]]-作業日報兼直接人件費個別明細表127[[#This Row],[列2]]-作業日報兼直接人件費個別明細表127[[#This Row],[列5]])>0,FLOOR((作業日報兼直接人件費個別明細表127[[#This Row],[列4]]-作業日報兼直接人件費個別明細表127[[#This Row],[列2]]-作業日報兼直接人件費個別明細表127[[#This Row],[列5]]),"0:30"),""),"8:00")) -> 0.16666667 | H13: サービス構築に向けたプロトタイプの製作
A14: 46139 | B14: 月 | C14: 0.375 | D14: ～ | E14: 0.75 | F14: 0.041666667 | G14: =IF(作業日報兼直接人件費個別明細表127[[#This Row],[列2]]="","",MIN(IF((作業日報兼直接人件費個別明細表127[[#This Row],[列4]]-作業日報兼直接人件費個別明細表127[[#This Row],[列2]]-作業日報兼直接人件費個別明細表127[[#This Row],[列5]])>0,FLOOR((作業日報兼直接人件費個別明細表127[[#This Row],[列4]]-作業日報兼直接人件費個別明細表127[[#This Row],[列2]]-作業日報兼直接人件費個別明細表127[[#This Row],[列5]]),"0:30"),""),"8:00")) -> 0.33333333 | H14: サービス構築に向けたプロトタイプの製作
D15: ～ | G15: =IF(作業日報兼直接人件費個別明細表127[[#This Row],[列2]]="","",MIN(IF((作業日報兼直接人件費個別明細表127[[#This Row],[列4]]-作業日報兼直接人件費個別明細表127[[#This Row],[列2]]-作業日報兼直接人件費個別明細表127[[#This Row],[列5]])>0,FLOOR((作業日報兼直接人件費個別明細表127[[#This Row],[列4]]-作業日報兼直接人件費個別明細表127[[#This Row],[列2]]-作業日報兼直接人件費個別明細表127[[#This Row],[列5]]),"0:30"),""),"8:00"))
D16: ～ | G16: =IF(作業日報兼直接人件費個別明細表127[[#This Row],[列2]]="","",MIN(IF((作業日報兼直接人件費個別明細表127[[#This Row],[列4]]-作業日報兼直接人件費個別明細表127[[#This Row],[列2]]-作業日報兼直接人件費個別明細表127[[#This Row],[列5]])>0,FLOOR((作業日報兼直接人件費個別明細表127[[#This Row],[列4]]-作業日報兼直接人件費個別明細表127[[#This Row],[列2]]-作業日報兼直接人件費個別明細表127[[#This Row],[列5]]),"0:30"),""),"8:00"))
D17: ～ | G17: =IF(作業日報兼直接人件費個別明細表127[[#This Row],[列2]]="","",MIN(IF((作業日報兼直接人件費個別明細表127[[#This Row],[列4]]-作業日報兼直接人件費個別明細表127[[#This Row],[列2]]-作業日報兼直接人件費個別明細表127[[#This Row],[列5]])>0,FLOOR((作業日報兼直接人件費個別明細表127[[#This Row],[列4]]-作業日報兼直接人件費個別明細表127[[#This Row],[列2]]-作業日報兼直接人件費個別明細表127[[#This Row],[列5]]),"0:30"),""),"8:00"))
D18: ～ | G18: =IF(作業日報兼直接人件費個別明細表127[[#This Row],[列2]]="","",MIN(IF((作業日報兼直接人件費個別明細表127[[#This Row],[列4]]-作業日報兼直接人件費個別明細表127[[#This Row],[列2]]-作業日報兼直接人件費個別明細表127[[#This Row],[列5]])>0,FLOOR((作業日報兼直接人件費個別明細表127[[#This Row],[列4]]-作業日報兼直接人件費個別明細表127[[#This Row],[列2]]-作業日報兼直接人件費個別明細表127[[#This Row],[列5]]),"0:30"),""),"8:00"))
D19: ～ | G19: =IF(作業日報兼直接人件費個別明細表127[[#This Row],[列2]]="","",MIN(IF((作業日報兼直接人件費個別明細表127[[#This Row],[列4]]-作業日報兼直接人件費個別明細表127[[#This Row],[列2]]-作業日報兼直接人件費個別明細表127[[#This Row],[列5]])>0,FLOOR((作業日報兼直接人件費個別明細表127[[#This Row],[列4]]-作業日報兼直接人件費個別明細表127[[#This Row],[列2]]-作業日報兼直接人件費個別明細表127[[#This Row],[列5]]),"0:30"),""),"8:00"))
D20: ～ | G20: =IF(作業日報兼直接人件費個別明細表127[[#This Row],[列2]]="","",MIN(IF((作業日報兼直接人件費個別明細表127[[#This Row],[列4]]-作業日報兼直接人件費個別明細表127[[#This Row],[列2]]-作業日報兼直接人件費個別明細表127[[#This Row],[列5]])>0,FLOOR((作業日報兼直接人件費個別明細表127[[#This Row],[列4]]-作業日報兼直接人件費個別明細表127[[#This Row],[列2]]-作業日報兼直接人件費個別明細表127[[#This Row],[列5]]),"0:30"),""),"8:00"))
D21: ～ | G21: =IF(作業日報兼直接人件費個別明細表127[[#This Row],[列2]]="","",MIN(IF((作業日報兼直接人件費個別明細表127[[#This Row],[列4]]-作業日報兼直接人件費個別明細表127[[#This Row],[列2]]-作業日報兼直接人件費個別明細表127[[#This Row],[列5]])>0,FLOOR((作業日報兼直接人件費個別明細表127[[#This Row],[列4]]-作業日報兼直接人件費個別明細表127[[#This Row],[列2]]-作業日報兼直接人件費個別明細表127[[#This Row],[列5]]),"0:30"),""),"8:00"))
D22: ～ | G22: =IF(作業日報兼直接人件費個別明細表127[[#This Row],[列2]]="","",MIN(IF((作業日報兼直接人件費個別明細表127[[#This Row],[列4]]-作業日報兼直接人件費個別明細表127[[#This Row],[列2]]-作業日報兼直接人件費個別明細表127[[#This Row],[列5]])>0,FLOOR((作業日報兼直接人件費個別明細表127[[#This Row],[列4]]-作業日報兼直接人件費個別明細表127[[#This Row],[列2]]-作業日報兼直接人件費個別明細表127[[#This Row],[列5]]),"0:30"),""),"8:00"))
D23: ～ | G23: =IF(作業日報兼直接人件費個別明細表127[[#This Row],[列2]]="","",MIN(IF((作業日報兼直接人件費個別明細表127[[#This Row],[列4]]-作業日報兼直接人件費個別明細表127[[#This Row],[列2]]-作業日報兼直接人件費個別明細表127[[#This Row],[列5]])>0,FLOOR((作業日報兼直接人件費個別明細表127[[#This Row],[列4]]-作業日報兼直接人件費個別明細表127[[#This Row],[列2]]-作業日報兼直接人件費個別明細表127[[#This Row],[列5]]),"0:30"),""),"8:00"))
D24: ～ | G24: =IF(作業日報兼直接人件費個別明細表127[[#This Row],[列2]]="","",MIN(IF((作業日報兼直接人件費個別明細表127[[#This Row],[列4]]-作業日報兼直接人件費個別明細表127[[#This Row],[列2]]-作業日報兼直接人件費個別明細表127[[#This Row],[列5]])>0,FLOOR((作業日報兼直接人件費個別明細表127[[#This Row],[列4]]-作業日報兼直接人件費個別明細表127[[#This Row],[列2]]-作業日報兼直接人件費個別明細表127[[#This Row],[列5]]),"0:30"),""),"8:00"))
D25: ～ | G25: =IF(作業日報兼直接人件費個別明細表127[[#This Row],[列2]]="","",MIN(IF((作業日報兼直接人件費個別明細表127[[#This Row],[列4]]-作業日報兼直接人件費個別明細表127[[#This Row],[列2]]-作業日報兼直接人件費個別明細表127[[#This Row],[列5]])>0,FLOOR((作業日報兼直接人件費個別明細表127[[#This Row],[列4]]-作業日報兼直接人件費個別明細表127[[#This Row],[列2]]-作業日報兼直接人件費個別明細表127[[#This Row],[列5]]),"0:30"),""),"8:00"))
D26: ～ | G26: =IF(作業日報兼直接人件費個別明細表127[[#This Row],[列2]]="","",MIN(IF((作業日報兼直接人件費個別明細表127[[#This Row],[列4]]-作業日報兼直接人件費個別明細表127[[#This Row],[列2]]-作業日報兼直接人件費個別明細表127[[#This Row],[列5]])>0,FLOOR((作業日報兼直接人件費個別明細表127[[#This Row],[列4]]-作業日報兼直接人件費個別明細表127[[#This Row],[列2]]-作業日報兼直接人件費個別明細表127[[#This Row],[列5]]),"0:30"),""),"8:00"))
... D30: ～ | G30: =IF(作業日報兼直接人件費個別明細表127[[#This Row],[列2]]="","",MIN(IF((作業日報兼直接人件費個別明細表127[[#This Row],[列4]]-作業日報兼直接人件費個別明細表127[[#This Row],[列2]]-作業日報兼直接人件費個別明細表127[[#This Row],[列5]])>0,FLOOR((作業日報兼直接人件費個別明細表127[[#This Row],[列4]]-作業日報兼直接人件費個別明細表127[[#This Row],[列2]]-作業日報兼直接人件費個別明細表127[[#This Row],[列5]]),"0:30"),""),"8:00"))
A31: 合計 | G31: =SUBTOTAL(109,作業日報兼直接人件費個別明細表127[列6]) -> 1.8333333

Sheet R8年4月
A1: 様式第６号（別紙４－２）
A2: 作業日報兼直接人件費個別明細表
A3: 年月 | B3: =MID(CELL("filename",$A$3),FIND("]",CELL("filename",$A$3))+1,31) -> R8年4月
A4: 企業名 | B4: =IF(算定表!B4="","",算定表!B4)
A5: 従事者氏名 | B5: =IF(算定表!B5="","",算定表!B5)
A6: （注）30分単位で記入してください。
A7: 日付 | B7: 曜日 | C7: 作業時刻 | F7: 休憩等 除外時間 | G7: 作業時間数 | H7: 作業内容
B8: =IF(作業日報兼直接人件費個別明細表1[[#This Row],[列1]]="", "", TEXT(作業日報兼直接人件費個別明細表1[[#This Row],[列1]],"aaaa")) | D8: ～ | G8: =IF(作業日報兼直接人件費個別明細表1[[#This Row],[列2]]="","",MIN(IF((作業日報兼直接人件費個別明細表1[[#This Row],[列4]]-作業日報兼直接人件費個別明細表1[[#This Row],[列2]]-作業日報兼直接人件費個別明細表1[[#This Row],[列5]])>0,FLOOR((作業日報兼直接人件費個別明細表1[[#This Row],[列4]]-作業日報兼直接人件費個別明細表1[[#This Row],[列2]]-作業日報兼直接人件費個別明細表1[[#This Row],[列5]]),"0:30"),""),"8:00"))
B9: =IF(作業日報兼直接人件費個別明細表1[[#This Row],[列1]]="", "", TEXT(作業日報兼直接人件費個別明細表1[[#This Row],[列1]],"aaaa")) | D9: ～ | G9: =IF(作業日報兼直接人件費個別明細表1[[#This Row],[列2]]="","",MIN(IF((作業日報兼直接人件費個別明細表1[[#This Row],[列4]]-作業日報兼直接人件費個別明細表1[[#This Row],[列2]]-作業日報兼直接人件費個別明細表1[[#This Row],[列5]])>0,FLOOR((作業日報兼直接人件費個別明細表1[[#This Row],[列4]]-作業日報兼直接人件費個別明細表1[[#This Row],[列2]]-作業日報兼直接人件費個別明細表1[[#This Row],[列5]]),"0:30"),""),"8:00"))
B10: =IF(作業日報兼直接人件費個別明細表1[[#This Row],[列1]]="", "", TEXT(作業日報兼直接人件費個別明細表1[[#This Row],[列1]],"aaaa")) | D10: ～ | G10: =IF(作業日報兼直接人件費個別明細表1[[#This Row],[列2]]="","",MIN(IF((作業日報兼直接人件費個別明細表1[[#This Row],[列4]]-作業日報兼直接人件費個別明細表1[[#This Row],[列2]]-作業日報兼直接人件費個別明細表1[[#This Row],[列5]])>0,FLOOR((作業日報兼直接人件費個別明細表1[[#This Row],[列4]]-作業日報兼直接人件費個別明細表1[[#This Row],[列2]]-作業日報兼直接人件費個別明細表1[[#This Row],[列5]]),"0:30"),""),"8:00"))
B11: =IF(作業日報兼直接人件費個別明細表1[[#This Row],[列1]]="", "", TEXT(作業日報兼直接人件費個別明細表1[[#This Row],[列1]],"aaaa")) | D11: ～ | G11: =IF(作業日報兼直接人件費個別明細表1[[#This Row],[列2]]="","",MIN(IF((作業日報兼直接人件費個別明細表1[[#This Row],[列4]]-作業日報兼直接人件費個別明細表1[[#This Row],[列2]]-作業日報兼直接人件費個別明細表1[[#This Row],[列5]])>0,FLOOR((作業日報兼直接人件費個別明細表1[[#This Row],[列4]]-作業日報兼直接人件費個別明細表1[[#This Row],[列2]]-作業日報兼直接人件費個別明細表1[[#This Row],[列5]]),"0:30"),""),"8:00"))
B12: =IF(作業日報兼直接人件費個別明細表1[[#This Row],[列1]]="", "", TEXT(作業日報兼直接人件費個別明細表1[[#This Row],[列1]],"aaaa")) | D12: ～ | G12: =IF(作業日報兼直接人件費個別明細表1[[#This Row],[列2]]="","",MIN(IF((作業日報兼直接人件費個別明細表1[[#This Row],[列4]]-作業日報兼直接人件費個別明細表1[[#This Row],[列2]]-作業日報兼直接人件費個別明細表1[[#This Row],[列5]])>0,FLOOR((作業日報兼直接人件費個別明細表1[[#This Row],[列4]]-作業日報兼直接人件費個別明細表1[[#This Row],[列2]]-作業日報兼直接人件費個別明細表1[[#This Row],[列5]]),"0:30"),""),"8:00"))
B13: =IF(作業日報兼直接人件費個別明細表1[[#This Row],[列1]]="", "", TEXT(作業日報兼直接人件費個別明細表1[[#This Row],[列1]],"aaaa")) | D13: ～ | G13: =IF(作業日報兼直接人件費個別明細表1[[#This Row],[列2]]="","",MIN(IF((作業日報兼直接人件費個別明細表1[[#This Row],[列4]]-作業日報兼直接人件費個別明細表1[[#This Row],[列2]]-作業日報兼直接人件費個別明細表1[[#This Row],[列5]])>0,FLOOR((作業日報兼直接人件費個別明細表1[[#This Row],[列4]]-作業日報兼直接人件費個別明細表1[[#This Row],[列2]]-作業日報兼直接人件費個別明細表1[[#This Row],[列5]]),"0:30"),""),"8:00"))
B14: =IF(作業日報兼直接人件費個別明細表1[[#This Row],[列1]]="", "", TEXT(作業日報兼直接人件費個別明細表1[[#This Row],[列1]],"aaaa")) | D14: ～ | G14: =IF(作業日報兼直接人件費個別明細表1[[#This Row],[列2]]="","",MIN(IF((作業日報兼直接人件費個別明細表1[[#This Row],[列4]]-作業日報兼直接人件費個別明細表1[[#This Row],[列2]]-作業日報兼直接人件費個別明細表1[[#This Row],[列5]])>0,FLOOR((作業日報兼直接人件費個別明細表1[[#This Row],[列4]]-作業日報兼直接人件費個別明細表1[[#This Row],[列2]]-作業日報兼直接人件費個別明細表1[[#This Row],[列5]]),"0:30"),""),"8:00"))
B15: =IF(作業日報兼直接人件費個別明細表1[[#This Row],[列1]]="", "", TEXT(作業日報兼直接人件費個別明細表1[[#This Row],[列1]],"aaaa")) | D15: ～ | G15: =IF(作業日報兼直接人件費個別明細表1[[#This Row],[列2]]="","",MIN(IF((作業日報兼直接人件費個別明細表1[[#This Row],[列4]]-作業日報兼直接人件費個別明細表1[[#This Row],[列2]]-作業日報兼直接人件費個別明細表1[[#This Row],[列5]])>0,FLOOR((作業日報兼直接人件費個別明細表1[[#This Row],[列4]]-作業日報兼直接人件費個別明細表1[[#This Row],[列2]]-作業日報兼直接人件費個別明細表1[[#This Row],[列5]]),"0:30"),""),"8:00"))
B16: =IF(作業日報兼直接人件費個別明細表1[[#This Row],[列1]]="", "", TEXT(作業日報兼直接人件費個別明細表1[[#This Row],[列1]],"aaaa")) | D16: ～ | G16: =IF(作業日報兼直接人件費個別明細表1[[#This Row],[列2]]="","",MIN(IF((作業日報兼直接人件費個別明細表1[[#This Row],[列4]]-作業日報兼直接人件費個別明細表1[[#This Row],[列2]]-作業日報兼直接人件費個別明細表1[[#This Row],[列5]])>0,FLOOR((作業日報兼直接人件費個別明細表1[[#This Row],[列4]]-作業日報兼直接人件費個別明細表1[[#This Row],[列2]]-作業日報兼直接人件費個別明細表1[[#This Row],[列5]]),"0:30"),""),"8:00"))
B17: =IF(作業日報兼直接人件費個別明細表1[[#This Row],[列1]]="", "", TEXT(作業日報兼直接人件費個別明細表1[[#This Row],[列1]],"aaaa")) | D17: ～ | G17: =IF(作業日報兼直接人件費個別明細表1[[#This Row],[列2]]="","",MIN(IF((作業日報兼直接人件費個別明細表1[[#This Row],[列4]]-作業日報兼直接人件費個別明細表1[[#This Row],[列2]]-作業日報兼直接人件費個別明細表1[[#This Row],[列5]])>0,FLOOR((作業日報兼直接人件費個別明細表1[[#This Row],[列4]]-作業日報兼直接人件費個別明細表1[[#This Row],[列2]]-作業日報兼直接人件費個別明細表1[[#This Row],[列5]]),"0:30"),""),"8:00"))
B18: =IF(作業日報兼直接人件費個別明細表1[[#This Row],[列1]]="", "", TEXT(作業日報兼直接人件費個別明細表1[[#This Row],[列1]],"aaaa")) | D18: ～ | G18: =IF(作業日報兼直接人件費個別明細表1[[#This Row],[列2]]="","",MIN(IF((作業日報兼直接人件費個別明細表1[[#This Row],[列4]]-作業日報兼直接人件費個別明細表1[[#This Row],[列2]]-作業日報兼直接人件費個別明細表1[[#This Row],[列5]])>0,FLOOR((作業日報兼直接人件費個別明細表1[[#This Row],[列4]]-作業日報兼直接人件費個別明細表1[[#This Row],[列2]]-作業日報兼直接人件費個別明細表1[[#This Row],[列5]]),"0:30"),""),"8:00"))
B19: =IF(作業日報兼直接人件費個別明細表1[[#This Row],[列1]]="", "", TEXT(作業日報兼直接人件費個別明細表1[[#This Row],[列1]],"aaaa")) | D19: ～ | G19: =IF(作業日報兼直接人件費個別明細表1[[#This Row],[列2]]="","",MIN(IF((作業日報兼直接人件費個別明細表1[[#This Row],[列4]]-作業日報兼直接人件費個別明細表1[[#This Row],[列2]]-作業日報兼直接人件費個別明細表1[[#This Row],[列5]])>0,FLOOR((作業日報兼直接人件費個別明細表1[[#This Row],[列4]]-作業日報兼直接人件費個別明細表1[[#This Row],[列2]]-作業日報兼直接人件費個別明細表1[[#This Row],[列5]]),"0:30"),""),"8:00"))
... B30: =IF(作業日報兼直接人件費個別明細表1[[#This Row],[列1]]="", "", TEXT(作業日報兼直接人件費個別明細表1[[#This Row],[列1]],"aaaa")) | D30: ～ | G30: =IF(作業日報兼直接人件費個別明細表1[[#This Row],[列2]]="","",MIN(IF((作業日報兼直接人件費個別明細表1[[#This Row],[列4]]-作業日報兼直接人件費個別明細表1[[#This Row],[列2]]-作業日報兼直接人件費個別明細表1[[#This Row],[列5]])>0,FLOOR((作業日報兼直接人件費個別明細表1[[#This Row],[列4]]-作業日報兼直接人件費個別明細表1[[#This Row],[列2]]-作業日報兼直接人件費個別明細表1[[#This Row],[列5]]),"0:30"),""),"8:00"))
A31: 合計 | G31: =SUBTOTAL(109,作業日報兼直接人件費個別明細表1[列6]) -> 0

Sheet R8年5月
A1: 様式第６号（別紙４－２）
A2: 作業日報兼直接人件費個別明細表
A3: 年月 | B3: =MID(CELL("filename",$A$3),FIND("]",CELL("filename",$A$3))+1,31) -> R8年5月
A4: 企業名 | B4: =IF(算定表!B4="","",算定表!B4)
A5: 従事者氏名 | B5: =IF(算定表!B5="","",算定表!B5)
A6: （注）30分単位で記入してください。
A7: 日付 | B7: 曜日 | C7: 作業時刻 | F7: 休憩等 除外時間 | G7: 作業時間数 | H7: 作業内容
B8: =IF(作業日報兼直接人件費個別明細表2[[#This Row],[列1]]="", "", TEXT(作業日報兼直接人件費個別明細表2[[#This Row],[列1]],"aaaa")) | D8: ～ | G8: =IF(作業日報兼直接人件費個別明細表2[[#This Row],[列2]]="","",MIN(IF((作業日報兼直接人件費個別明細表2[[#This Row],[列4]]-作業日報兼直接人件費個別明細表2[[#This Row],[列2]]-作業日報兼直接人件費個別明細表2[[#This Row],[列5]])>0,FLOOR((作業日報兼直接人件費個別明細表2[[#This Row],[列4]]-作業日報兼直接人件費個別明細表2[[#This Row],[列2]]-作業日報兼直接人件費個別明細表2[[#This Row],[列5]]),"0:30"),""),"8:00"))
B9: =IF(作業日報兼直接人件費個別明細表2[[#This Row],[列1]]="", "", TEXT(作業日報兼直接人件費個別明細表2[[#This Row],[列1]],"aaaa")) | D9: ～ | G9: =IF(作業日報兼直接人件費個別明細表2[[#This Row],[列2]]="","",MIN(IF((作業日報兼直接人件費個別明細表2[[#This Row],[列4]]-作業日報兼直接人件費個別明細表2[[#This Row],[列2]]-作業日報兼直接人件費個別明細表2[[#This Row],[列5]])>0,FLOOR((作業日報兼直接人件費個別明細表2[[#This Row],[列4]]-作業日報兼直接人件費個別明細表2[[#This Row],[列2]]-作業日報兼直接人件費個別明細表2[[#This Row],[列5]]),"0:30"),""),"8:00"))
B10: =IF(作業日報兼直接人件費個別明細表2[[#This Row],[列1]]="", "", TEXT(作業日報兼直接人件費個別明細表2[[#This Row],[列1]],"aaaa")) | D10: ～ | G10: =IF(作業日報兼直接人件費個別明細表2[[#This Row],[列2]]="","",MIN(IF((作業日報兼直接人件費個別明細表2[[#This Row],[列4]]-作業日報兼直接人件費個別明細表2[[#This Row],[列2]]-作業日報兼直接人件費個別明細表2[[#This Row],[列5]])>0,FLOOR((作業日報兼直接人件費個別明細表2[[#This Row],[列4]]-作業日報兼直接人件費個別明細表2[[#This Row],[列2]]-作業日報兼直接人件費個別明細表2[[#This Row],[列5]]),"0:30"),""),"8:00"))
B11: =IF(作業日報兼直接人件費個別明細表2[[#This Row],[列1]]="", "", TEXT(作業日報兼直接人件費個別明細表2[[#This Row],[列1]],"aaaa")) | D11: ～ | G11: =IF(作業日報兼直接人件費個別明細表2[[#This Row],[列2]]="","",MIN(IF((作業日報兼直接人件費個別明細表2[[#This Row],[列4]]-作業日報兼直接人件費個別明細表2[[#This Row],[列2]]-作業日報兼直接人件費個別明細表2[[#This Row],[列5]])>0,FLOOR((作業日報兼直接人件費個別明細表2[[#This Row],[列4]]-作業日報兼直接人件費個別明細表2[[#This Row],[列2]]-作業日報兼直接人件費個別明細表2[[#This Row],[列5]]),"0:30"),""),"8:00"))
B12: =IF(作業日報兼直接人件費個別明細表2[[#This Row],[列1]]="", "", TEXT(作業日報兼直接人件費個別明細表2[[#This Row],[列1]],"aaaa")) | D12: ～ | G12: =IF(作業日報兼直接人件費個別明細表2[[#This Row],[列2]]="","",MIN(IF((作業日報兼直接人件費個別明細表2[[#This Row],[列4]]-作業日報兼直接人件費個別明細表2[[#This Row],[列2]]-作業日報兼直接人件費個別明細表2[[#This Row],[列5]])>0,FLOOR((作業日報兼直接人件費個別明細表2[[#This Row],[列4]]-作業日報兼直接人件費個別明細表2[[#This Row],[列2]]-作業日報兼直接人件費個別明細表2[[#This Row],[列5]]),"0:30"),""),"8:00"))
B13: =IF(作業日報兼直接人件費個別明細表2[[#This Row],[列1]]="", "", TEXT(作業日報兼直接人件費個別明細表2[[#This Row],[列1]],"aaaa")) | D13: ～ | G13: =IF(作業日報兼直接人件費個別明細表2[[#This Row],[列2]]="","",MIN(IF((作業日報兼直接人件費個別明細表2[[#This Row],[列4]]-作業日報兼直接人件費個別明細表2[[#This Row],[列2]]-作業日報兼直接人件費個別明細表2[[#This Row],[列5]])>0,FLOOR((作業日報兼直接人件費個別明細表2[[#This Row],[列4]]-作業日報兼直接人件費個別明細表2[[#This Row],[列2]]-作業日報兼直接人件費個別明細表2[[#This Row],[列5]]),"0:30"),""),"8:00"))
B14: =IF(作業日報兼直接人件費個別明細表2[[#This Row],[列1]]="", "", TEXT(作業日報兼直接人件費個別明細表2[[#This Row],[列1]],"aaaa")) | D14: ～ | G14: =IF(作業日報兼直接人件費個別明細表2[[#This Row],[列2]]="","",MIN(IF((作業日報兼直接人件費個別明細表2[[#This Row],[列4]]-作業日報兼直接人件費個別明細表2[[#This Row],[列2]]-作業日報兼直接人件費個別明細表2[[#This Row],[列5]])>0,FLOOR((作業日報兼直接人件費個別明細表2[[#This Row],[列4]]-作業日報兼直接人件費個別明細表2[[#This Row],[列2]]-作業日報兼直接人件費個別明細表2[[#This Row],[列5]]),"0:30"),""),"8:00"))
B15: =IF(作業日報兼直接人件費個別明細表2[[#This Row],[列1]]="", "", TEXT(作業日報兼直接人件費個別明細表2[[#This Row],[列1]],"aaaa")) | D15: ～ | G15: =IF(作業日報兼直接人件費個別明細表2[[#This Row],[列2]]="","",MIN(IF((作業日報兼直接人件費個別明細表2[[#This Row],[列4]]-作業日報兼直接人件費個別明細表2[[#This Row],[列2]]-作業日報兼直接人件費個別明細表2[[#This Row],[列5]])>0,FLOOR((作業日報兼直接人件費個別明細表2[[#This Row],[列4]]-作業日報兼直接人件費個別明細表2[[#This Row],[列2]]-作業日報兼直接人件費個別明細表2[[#This Row],[列5]]),"0:30"),""),"8:00"))
B16: =IF(作業日報兼直接人件費個別明細表2[[#This Row],[列1]]="", "", TEXT(作業日報兼直接人件費個別明細表2[[#This Row],[列1]],"aaaa")) | D16: ～ | G16: =IF(作業日報兼直接人件費個別明細表2[[#This Row],[列2]]="","",MIN(IF((作業日報兼直接人件費個別明細表2[[#This Row],[列4]]-作業日報兼直接人件費個別明細表2[[#This Row],[列2]]-作業日報兼直接人件費個別明細表2[[#This Row],[列5]])>0,FLOOR((作業日報兼直接人件費個別明細表2[[#This Row],[列4]]-作業日報兼直接人件費個別明細表2[[#This Row],[列2]]-作業日報兼直接人件費個別明細表2[[#This Row],[列5]]),"0:30"),""),"8:00"))
B17: =IF(作業日報兼直接人件費個別明細表2[[#This Row],[列1]]="", "", TEXT(作業日報兼直接人件費個別明細表2[[#This Row],[列1]],"aaaa")) | D17: ～ | G17: =IF(作業日報兼直接人件費個別明細表2[[#This Row],[列2]]="","",MIN(IF((作業日報兼直接人件費個別明細表2[[#This Row],[列4]]-作業日報兼直接人件費個別明細表2[[#This Row],[列2]]-作業日報兼直接人件費個別明細表2[[#This Row],[列5]])>0,FLOOR((作業日報兼直接人件費個別明細表2[[#This Row],[列4]]-作業日報兼直接人件費個別明細表2[[#This Row],[列2]]-作業日報兼直接人件費個別明細表2[[#This Row],[列5]]),"0:30"),""),"8:00"))
B18: =IF(作業日報兼直接人件費個別明細表2[[#This Row],[列1]]="", "", TEXT(作業日報兼直接人件費個別明細表2[[#This Row],[列1]],"aaaa")) | D18: ～ | G18: =IF(作業日報兼直接人件費個別明細表2[[#This Row],[列2]]="","",MIN(IF((作業日報兼直接人件費個別明細表2[[#This Row],[列4]]-作業日報兼直接人件費個別明細表2[[#This Row],[列2]]-作業日報兼直接人件費個別明細表2[[#This Row],[列5]])>0,FLOOR((作業日報兼直接人件費個別明細表2[[#This Row],[列4]]-作業日報兼直接人件費個別明細表2[[#This Row],[列2]]-作業日報兼直接人件費個別明細表2[[#This Row],[列5]]),"0:30"),""),"8:00"))
B19: =IF(作業日報兼直接人件費個別明細表2[[#This Row],[列1]]="", "", TEXT(作業日報兼直接人件費個別明細表2[[#This Row],[列1]],"aaaa")) | D19: ～ | G19: =IF(作業日報兼直接人件費個別明細表2[[#This Row],[列2]]="","",MIN(IF((作業日報兼直接人件費個別明細表2[[#This Row],[列4]]-作業日報兼直接人件費個別明細表2[[#This Row],[列2]]-作業日報兼直接人件費個別明細表2[[#This Row],[列5]])>0,FLOOR((作業日報兼直接人件費個別明細表2[[#This Row],[列4]]-作業日報兼直接人件費個別明細表2[[#This Row],[列2]]-作業日報兼直接人件費個別明細表2[[#This Row],[列5]]),"0:30"),""),"8:00"))
... B30: =IF(作業日報兼直接人件費個別明細表2[[#This Row],[列1]]="", "", TEXT(作業日報兼直接人件費個別明細表2[[#This Row],[列1]],"aaaa")) | D30: ～ | G30: =IF(作業日報兼直接人件費個別明細表2[[#This Row],[列2]]="","",MIN(IF((作業日報兼直接人件費個別明細表2[[#This Row],[列4]]-作業日報兼直接人件費個別明細表2[[#This Row],[列2]]-作業日報兼直接人件費個別明細表2[[#This Row],[列5]])>0,FLOOR((作業日報兼直接人件費個別明細表2[[#This Row],[列4]]-作業日報兼直接人件費個別明細表2[[#This Row],[列2]]-作業日報兼直接人件費個別明細表2[[#This Row],[列5]]),"0:30"),""),"8:00"))
A31: 合計 | G31: =SUBTOTAL(109,作業日報兼直接人件費個別明細表2[列6]) -> 0

Sheet R8年6月
A1: 様式第６号（別紙４－２）
A2: 作業日報兼直接人件費個別明細表
A3: 年月 | B3: =MID(CELL("filename",$A$3),FIND("]",CELL("filename",$A$3))+1,31) -> R8年6月
A4: 企業名 | B4: =IF(算定表!B4="","",算定表!B4)
A5: 従事者氏名 | B5: =IF(算定表!B5="","",算定表!B5)
A6: （注）30分単位で記入してください。
A7: 日付 | B7: 曜日 | C7: 作業時刻 | F7: 休憩等 除外時間 | G7: 作業時間数 | H7: 作業内容
B8: =IF(作業日報兼直接人件費個別明細表3[[#This Row],[列1]]="", "", TEXT(作業日報兼直接人件費個別明細表3[[#This Row],[列1]],"aaaa")) | D8: ～ | G8: =IF(作業日報兼直接人件費個別明細表3[[#This Row],[列2]]="","",MIN(IF((作業日報兼直接人件費個別明細表3[[#This Row],[列4]]-作業日報兼直接人件費個別明細表3[[#This Row],[列2]]-作業日報兼直接人件費個別明細表3[[#This Row],[列5]])>0,FLOOR((作業日報兼直接人件費個別明細表3[[#This Row],[列4]]-作業日報兼直接人件費個別明細表3[[#This Row],[列2]]-作業日報兼直接人件費個別明細表3[[#This Row],[列5]]),"0:30"),""),"8:00"))
B9: =IF(作業日報兼直接人件費個別明細表3[[#This Row],[列1]]="", "", TEXT(作業日報兼直接人件費個別明細表3[[#This Row],[列1]],"aaaa")) | D9: ～ | G9: =IF(作業日報兼直接人件費個別明細表3[[#This Row],[列2]]="","",MIN(IF((作業日報兼直接人件費個別明細表3[[#This Row],[列4]]-作業日報兼直接人件費個別明細表3[[#This Row],[列2]]-作業日報兼直接人件費個別明細表3[[#This Row],[列5]])>0,FLOOR((作業日報兼直接人件費個別明細表3[[#This Row],[列4]]-作業日報兼直接人件費個別明細表3[[#This Row],[列2]]-作業日報兼直接人件費個別明細表3[[#This Row],[列5]]),"0:30"),""),"8:00"))
B10: =IF(作業日報兼直接人件費個別明細表3[[#This Row],[列1]]="", "", TEXT(作業日報兼直接人件費個別明細表3[[#This Row],[列1]],"aaaa")) | D10: ～ | G10: =IF(作業日報兼直接人件費個別明細表3[[#This Row],[列2]]="","",MIN(IF((作業日報兼直接人件費個別明細表3[[#This Row],[列4]]-作業日報兼直接人件費個別明細表3[[#This Row],[列2]]-作業日報兼直接人件費個別明細表3[[#This Row],[列5]])>0,FLOOR((作業日報兼直接人件費個別明細表3[[#This Row],[列4]]-作業日報兼直接人件費個別明細表3[[#This Row],[列2]]-作業日報兼直接人件費個別明細表3[[#This Row],[列5]]),"0:30"),""),"8:00"))
B11: =IF(作業日報兼直接人件費個別明細表3[[#This Row],[列1]]="", "", TEXT(作業日報兼直接人件費個別明細表3[[#This Row],[列1]],"aaaa")) | D11: ～ | G11: =IF(作業日報兼直接人件費個別明細表3[[#This Row],[列2]]="","",MIN(IF((作業日報兼直接人件費個別明細表3[[#This Row],[列4]]-作業日報兼直接人件費個別明細表3[[#This Row],[列2]]-作業日報兼直接人件費個別明細表3[[#This Row],[列5]])>0,FLOOR((作業日報兼直接人件費個別明細表3[[#This Row],[列4]]-作業日報兼直接人件費個別明細表3[[#This Row],[列2]]-作業日報兼直接人件費個別明細表3[[#This Row],[列5]]),"0:30"),""),"8:00"))
B12: =IF(作業日報兼直接人件費個別明細表3[[#This Row],[列1]]="", "", TEXT(作業日報兼直接人件費個別明細表3[[#This Row],[列1]],"aaaa")) | D12: ～ | G12: =IF(作業日報兼直接人件費個別明細表3[[#This Row],[列2]]="","",MIN(IF((作業日報兼直接人件費個別明細表3[[#This Row],[列4]]-作業日報兼直接人件費個別明細表3[[#This Row],[列2]]-作業日報兼直接人件費個別明細表3[[#This Row],[列5]])>0,FLOOR((作業日報兼直接人件費個別明細表3[[#This Row],[列4]]-作業日報兼直接人件費個別明細表3[[#This Row],[列2]]-作業日報兼直接人件費個別明細表3[[#This Row],[列5]]),"0:30"),""),"8:00"))
B13: =IF(作業日報兼直接人件費個別明細表3[[#This Row],[列1]]="", "", TEXT(作業日報兼直接人件費個別明細表3[[#This Row],[列1]],"aaaa")) | D13: ～ | G13: =IF(作業日報兼直接人件費個別明細表3[[#This Row],[列2]]="","",MIN(IF((作業日報兼直接人件費個別明細表3[[#This Row],[列4]]-作業日報兼直接人件費個別明細表3[[#This Row],[列2]]-作業日報兼直接人件費個別明細表3[[#This Row],[列5]])>0,FLOOR((作業日報兼直接人件費個別明細表3[[#This Row],[列4]]-作業日報兼直接人件費個別明細表3[[#This Row],[列2]]-作業日報兼直接人件費個別明細表3[[#This Row],[列5]]),"0:30"),""),"8:00"))
B14: =IF(作業日報兼直接人件費個別明細表3[[#This Row],[列1]]="", "", TEXT(作業日報兼直接人件費個別明細表3[[#This Row],[列1]],"aaaa")) | D14: ～ | G14: =IF(作業日報兼直接人件費個別明細表3[[#This Row],[列2]]="","",MIN(IF((作業日報兼直接人件費個別明細表3[[#This Row],[列4]]-作業日報兼直接人件費個別明細表3[[#This Row],[列2]]-作業日報兼直接人件費個別明細表3[[#This Row],[列5]])>0,FLOOR((作業日報兼直接人件費個別明細表3[[#This Row],[列4]]-作業日報兼直接人件費個別明細表3[[#This Row],[列2]]-作業日報兼直接人件費個別明細表3[[#This Row],[列5]]),"0:30"),""),"8:00"))
B15: =IF(作業日報兼直接人件費個別明細表3[[#This Row],[列1]]="", "", TEXT(作業日報兼直接人件費個別明細表3[[#This Row],[列1]],"aaaa")) | D15: ～ | G15: =IF(作業日報兼直接人件費個別明細表3[[#This Row],[列2]]="","",MIN(IF((作業日報兼直接人件費個別明細表3[[#This Row],[列4]]-作業日報兼直接人件費個別明細表3[[#This Row],[列2]]-作業日報兼直接人件費個別明細表3[[#This Row],[列5]])>0,FLOOR((作業日報兼直接人件費個別明細表3[[#This Row],[列4]]-作業日報兼直接人件費個別明細表3[[#This Row],[列2]]-作業日報兼直接人件費個別明細表3[[#This Row],[列5]]),"0:30"),""),"8:00"))
B16: =IF(作業日報兼直接人件費個別明細表3[[#This Row],[列1]]="", "", TEXT(作業日報兼直接人件費個別明細表3[[#This Row],[列1]],"aaaa")) | D16: ～ | G16: =IF(作業日報兼直接人件費個別明細表3[[#This Row],[列2]]="","",MIN(IF((作業日報兼直接人件費個別明細表3[[#This Row],[列4]]-作業日報兼直接人件費個別明細表3[[#This Row],[列2]]-作業日報兼直接人件費個別明細表3[[#This Row],[列5]])>0,FLOOR((作業日報兼直接人件費個別明細表3[[#This Row],[列4]]-作業日報兼直接人件費個別明細表3[[#This Row],[列2]]-作業日報兼直接人件費個別明細表3[[#This Row],[列5]]),"0:30"),""),"8:00"))
B17: =IF(作業日報兼直接人件費個別明細表3[[#This Row],[列1]]="", "", TEXT(作業日報兼直接人件費個別明細表3[[#This Row],[列1]],"aaaa")) | D17: ～ | G17: =IF(作業日報兼直接人件費個別明細表3[[#This Row],[列2]]="","",MIN(IF((作業日報兼直接人件費個別明細表3[[#This Row],[列4]]-作業日報兼直接人件費個別明細表3[[#This Row],[列2]]-作業日報兼直接人件費個別明細表3[[#This Row],[列5]])>0,FLOOR((作業日報兼直接人件費個別明細表3[[#This Row],[列4]]-作業日報兼直接人件費個別明細表3[[#This Row],[列2]]-作業日報兼直接人件費個別明細表3[[#This Row],[列5]]),"0:30"),""),"8:00"))
B18: =IF(作業日報兼直接人件費個別明細表3[[#This Row],[列1]]="", "", TEXT(作業日報兼直接人件費個別明細表3[[#This Row],[列1]],"aaaa")) | D18: ～ | G18: =IF(作業日報兼直接人件費個別明細表3[[#This Row],[列2]]="","",MIN(IF((作業日報兼直接人件費個別明細表3[[#This Row],[列4]]-作業日報兼直接人件費個別明細表3[[#This Row],[列2]]-作業日報兼直接人件費個別明細表3[[#This Row],[列5]])>0,FLOOR((作業日報兼直接人件費個別明細表3[[#This Row],[列4]]-作業日報兼直接人件費個別明細表3[[#This Row],[列2]]-作業日報兼直接人件費個別明細表3[[#This Row],[列5]]),"0:30"),""),"8:00"))
B19: =IF(作業日報兼直接人件費個別明細表3[[#This Row],[列1]]="", "", TEXT(作業日報兼直接人件費個別明細表3[[#This Row],[列1]],"aaaa")) | D19: ～ | G19: =IF(作業日報兼直接人件費個別明細表3[[#This Row],[列2]]="","",MIN(IF((作業日報兼直接人件費個別明細表3[[#This Row],[列4]]-作業日報兼直接人件費個別明細表3[[#This Row],[列2]]-作業日報兼直接人件費個別明細表3[[#This Row],[列5]])>0,FLOOR((作業日報兼直接人件費個別明細表3[[#This Row],[列4]]-作業日報兼直接人件費個別明細表3[[#This Row],[列2]]-作業日報兼直接人件費個別明細表3[[#This Row],[列5]]),"0:30"),""),"8:00"))
... B30: =IF(作業日報兼直接人件費個別明細表3[[#This Row],[列1]]="", "", TEXT(作業日報兼直接人件費個別明細表3[[#This Row],[列1]],"aaaa")) | D30: ～ | G30: =IF(作業日報兼直接人件費個別明細表3[[#This Row],[列2]]="","",MIN(IF((作業日報兼直接人件費個別明細表3[[#This Row],[列4]]-作業日報兼直接人件費個別明細表3[[#This Row],[列2]]-作業日報兼直接人件費個別明細表3[[#This Row],[列5]])>0,FLOOR((作業日報兼直接人件費個別明細表3[[#This Row],[列4]]-作業日報兼直接人件費個別明細表3[[#This Row],[列2]]-作業日報兼直接人件費個別明細表3[[#This Row],[列5]]),"0:30"),""),"8:00"))
A31: 合計 | G31: =SUBTOTAL(109,作業日報兼直接人件費個別明細表3[列6]) -> 0

Sheet R8年7月
A1: 様式第６号（別紙４－２）
A2: 作業日報兼直接人件費個別明細表
A3: 年月 | B3: =MID(CELL("filename",$A$3),FIND("]",CELL("filename",$A$3))+1,31) -> R8年7月
A4: 企業名 | B4: =IF(算定表!B4="","",算定表!B4)
A5: 従事者氏名 | B5: =IF(算定表!B5="","",算定表!B5)
A6: （注）30分単位で記入してください。
A7: 日付 | B7: 曜日 | C7: 作業時刻 | F7: 休憩等 除外時間 | G7: 作業時間数 | H7: 作業内容
B8: =IF(作業日報兼直接人件費個別明細表4[[#This Row],[列1]]="", "", TEXT(作業日報兼直接人件費個別明細表4[[#This Row],[列1]],"aaaa")) | D8: ～ | G8: =IF(作業日報兼直接人件費個別明細表4[[#This Row],[列2]]="","",MIN(IF((作業日報兼直接人件費個別明細表4[[#This Row],[列4]]-作業日報兼直接人件費個別明細表4[[#This Row],[列2]]-作業日報兼直接人件費個別明細表4[[#This Row],[列5]])>0,FLOOR((作業日報兼直接人件費個別明細表4[[#This Row],[列4]]-作業日報兼直接人件費個別明細表4[[#This Row],[列2]]-作業日報兼直接人件費個別明細表4[[#This Row],[列5]]),"0:30"),""),"8:00"))
B9: =IF(作業日報兼直接人件費個別明細表4[[#This Row],[列1]]="", "", TEXT(作業日報兼直接人件費個別明細表4[[#This Row],[列1]],"aaaa")) | D9: ～ | G9: =IF(作業日報兼直接人件費個別明細表4[[#This Row],[列2]]="","",MIN(IF((作業日報兼直接人件費個別明細表4[[#This Row],[列4]]-作業日報兼直接人件費個別明細表4[[#This Row],[列2]]-作業日報兼直接人件費個別明細表4[[#This Row],[列5]])>0,FLOOR((作業日報兼直接人件費個別明細表4[[#This Row],[列4]]-作業日報兼直接人件費個別明細表4[[#This Row],[列2]]-作業日報兼直接人件費個別明細表4[[#This Row],[列5]]),"0:30"),""),"8:00"))
B10: =IF(作業日報兼直接人件費個別明細表4[[#This Row],[列1]]="", "", TEXT(作業日報兼直接人件費個別明細表4[[#This Row],[列1]],"aaaa")) | D10: ～ | G10: =IF(作業日報兼直接人件費個別明細表4[[#This Row],[列2]]="","",MIN(IF((作業日報兼直接人件費個別明細表4[[#This Row],[列4]]-作業日報兼直接人件費個別明細表4[[#This Row],[列2]]-作業日報兼直接人件費個別明細表4[[#This Row],[列5]])>0,FLOOR((作業日報兼直接人件費個別明細表4[[#This Row],[列4]]-作業日報兼直接人件費個別明細表4[[#This Row],[列2]]-作業日報兼直接人件費個別明細表4[[#This Row],[列5]]),"0:30"),""),"8:00"))
B11: =IF(作業日報兼直接人件費個別明細表4[[#This Row],[列1]]="", "", TEXT(作業日報兼直接人件費個別明細表4[[#This Row],[列1]],"aaaa")) | D11: ～ | G11: =IF(作業日報兼直接人件費個別明細表4[[#This Row],[列2]]="","",MIN(IF((作業日報兼直接人件費個別明細表4[[#This Row],[列4]]-作業日報兼直接人件費個別明細表4[[#This Row],[列2]]-作業日報兼直接人件費個別明細表4[[#This Row],[列5]])>0,FLOOR((作業日報兼直接人件費個別明細表4[[#This Row],[列4]]-作業日報兼直接人件費個別明細表4[[#This Row],[列2]]-作業日報兼直接人件費個別明細表4[[#This Row],[列5]]),"0:30"),""),"8:00"))
B12: =IF(作業日報兼直接人件費個別明細表4[[#This Row],[列1]]="", "", TEXT(作業日報兼直接人件費個別明細表4[[#This Row],[列1]],"aaaa")) | D12: ～ | G12: =IF(作業日報兼直接人件費個別明細表4[[#This Row],[列2]]="","",MIN(IF((作業日報兼直接人件費個別明細表4[[#This Row],[列4]]-作業日報兼直接人件費個別明細表4[[#This Row],[列2]]-作業日報兼直接人件費個別明細表4[[#This Row],[列5]])>0,FLOOR((作業日報兼直接人件費個別明細表4[[#This Row],[列4]]-作業日報兼直接人件費個別明細表4[[#This Row],[列2]]-作業日報兼直接人件費個別明細表4[[#This Row],[列5]]),"0:30"),""),"8:00"))
B13: =IF(作業日報兼直接人件費個別明細表4[[#This Row],[列1]]="", "", TEXT(作業日報兼直接人件費個別明細表4[[#This Row],[列1]],"aaaa")) | D13: ～ | G13: =IF(作業日報兼直接人件費個別明細表4[[#This Row],[列2]]="","",MIN(IF((作業日報兼直接人件費個別明細表4[[#This Row],[列4]]-作業日報兼直接人件費個別明細表4[[#This Row],[列2]]-作業日報兼直接人件費個別明細表4[[#This Row],[列5]])>0,FLOOR((作業日報兼直接人件費個別明細表4[[#This Row],[列4]]-作業日報兼直接人件費個別明細表4[[#This Row],[列2]]-作業日報兼直接人件費個別明細表4[[#This Row],[列5]]),"0:30"),""),"8:00"))
B14: =IF(作業日報兼直接人件費個別明細表4[[#This Row],[列1]]="", "", TEXT(作業日報兼直接人件費個別明細表4[[#This Row],[列1]],"aaaa")) | D14: ～ | G14: =IF(作業日報兼直接人件費個別明細表4[[#This Row],[列2]]="","",MIN(IF((作業日報兼直接人件費個別明細表4[[#This Row],[列4]]-作業日報兼直接人件費個別明細表4[[#This Row],[列2]]-作業日報兼直接人件費個別明細表4[[#This Row],[列5]])>0,FLOOR((作業日報兼直接人件費個別明細表4[[#This Row],[列4]]-作業日報兼直接人件費個別明細表4[[#This Row],[列2]]-作業日報兼直接人件費個別明細表4[[#This Row],[列5]]),"0:30"),""),"8:00"))
B15: =IF(作業日報兼直接人件費個別明細表4[[#This Row],[列1]]="", "", TEXT(作業日報兼直接人件費個別明細表4[[#This Row],[列1]],"aaaa")) | D15: ～ | G15: =IF(作業日報兼直接人件費個別明細表4[[#This Row],[列2]]="","",MIN(IF((作業日報兼直接人件費個別明細表4[[#This Row],[列4]]-作業日報兼直接人件費個別明細表4[[#This Row],[列2]]-作業日報兼直接人件費個別明細表4[[#This Row],[列5]])>0,FLOOR((作業日報兼直接人件費個別明細表4[[#This Row],[列4]]-作業日報兼直接人件費個別明細表4[[#This Row],[列2]]-作業日報兼直接人件費個別明細表4[[#This Row],[列5]]),"0:30"),""),"8:00"))
B16: =IF(作業日報兼直接人件費個別明細表4[[#This Row],[列1]]="", "", TEXT(作業日報兼直接人件費個別明細表4[[#This Row],[列1]],"aaaa")) | D16: ～ | G16: =IF(作業日報兼直接人件費個別明細表4[[#This Row],[列2]]="","",MIN(IF((作業日報兼直接人件費個別明細表4[[#This Row],[列4]]-作業日報兼直接人件費個別明細表4[[#This Row],[列2]]-作業日報兼直接人件費個別明細表4[[#This Row],[列5]])>0,FLOOR((作業日報兼直接人件費個別明細表4[[#This Row],[列4]]-作業日報兼直接人件費個別明細表4[[#This Row],[列2]]-作業日報兼直接人件費個別明細表4[[#This Row],[列5]]),"0:30"),""),"8:00"))
B17: =IF(作業日報兼直接人件費個別明細表4[[#This Row],[列1]]="", "", TEXT(作業日報兼直接人件費個別明細表4[[#This Row],[列1]],"aaaa")) | D17: ～ | G17: =IF(作業日報兼直接人件費個別明細表4[[#This Row],[列2]]="","",MIN(IF((作業日報兼直接人件費個別明細表4[[#This Row],[列4]]-作業日報兼直接人件費個別明細表4[[#This Row],[列2]]-作業日報兼直接人件費個別明細表4[[#This Row],[列5]])>0,FLOOR((作業日報兼直接人件費個別明細表4[[#This Row],[列4]]-作業日報兼直接人件費個別明細表4[[#This Row],[列2]]-作業日報兼直接人件費個別明細表4[[#This Row],[列5]]),"0:30"),""),"8:00"))
B18: =IF(作業日報兼直接人件費個別明細表4[[#This Row],[列1]]="", "", TEXT(作業日報兼直接人件費個別明細表4[[#This Row],[列1]],"aaaa")) | D18: ～ | G18: =IF(作業日報兼直接人件費個別明細表4[[#This Row],[列2]]="","",MIN(IF((作業日報兼直接人件費個別明細表4[[#This Row],[列4]]-作業日報兼直接人件費個別明細表4[[#This Row],[列2]]-作業日報兼直接人件費個別明細表4[[#This Row],[列5]])>0,FLOOR((作業日報兼直接人件費個別明細表4[[#This Row],[列4]]-作業日報兼直接人件費個別明細表4[[#This Row],[列2]]-作業日報兼直接人件費個別明細表4[[#This Row],[列5]]),"0:30"),""),"8:00"))
B19: =IF(作業日報兼直接人件費個別明細表4[[#This Row],[列1]]="", "", TEXT(作業日報兼直接人件費個別明細表4[[#This Row],[列1]],"aaaa")) | D19: ～ | G19: =IF(作業日報兼直接人件費個別明細表4[[#This Row],[列2]]="","",MIN(IF((作業日報兼直接人件費個別明細表4[[#This Row],[列4]]-作業日報兼直接人件費個別明細表4[[#This Row],[列2]]-作業日報兼直接人件費個別明細表4[[#This Row],[列5]])>0,FLOOR((作業日報兼直接人件費個別明細表4[[#This Row],[列4]]-作業日報兼直接人件費個別明細表4[[#This Row],[列2]]-作業日報兼直接人件費個別明細表4[[#This Row],[列5]]),"0:30"),""),"8:00"))
... B30: =IF(作業日報兼直接人件費個別明細表4[[#This Row],[列1]]="", "", TEXT(作業日報兼直接人件費個別明細表4[[#This Row],[列1]],"aaaa")) | D30: ～ | G30: =IF(作業日報兼直接人件費個別明細表4[[#This Row],[列2]]="","",MIN(IF((作業日報兼直接人件費個別明細表4[[#This Row],[列4]]-作業日報兼直接人件費個別明細表4[[#This Row],[列2]]-作業日報兼直接人件費個別明細表4[[#This Row],[列5]])>0,FLOOR((作業日報兼直接人件費個別明細表4[[#This Row],[列4]]-作業日報兼直接人件費個別明細表4[[#This Row],[列2]]-作業日報兼直接人件費個別明細表4[[#This Row],[列5]]),"0:30"),""),"8:00"))
A31: 合計 | G31: =SUBTOTAL(109,作業日報兼直接人件費個別明細表4[列6]) -> 0

Sheet R8年8月
A1: 様式第６号（別紙４－２）
A2: 作業日報兼直接人件費個別明細表
A3: 年月 | B3: =MID(CELL("filename",$A$3),FIND("]",CELL("filename",$A$3))+1,31) -> R8年8月
A4: 企業名 | B4: =IF(算定表!B4="","",算定表!B4)
A5: 従事者氏名 | B5: =IF(算定表!B5="","",算定表!B5)
A6: （注）30分単位で記入してください。
A7: 日付 | B7: 曜日 | C7: 作業時刻 | F7: 休憩等 除外時間 | G7: 作業時間数 | H7: 作業内容
B8: =IF(作業日報兼直接人件費個別明細表5[[#This Row],[列1]]="", "", TEXT(作業日報兼直接人件費個別明細表5[[#This Row],[列1]],"aaaa")) | D8: ～ | G8: =IF(作業日報兼直接人件費個別明細表5[[#This Row],[列2]]="","",MIN(IF((作業日報兼直接人件費個別明細表5[[#This Row],[列4]]-作業日報兼直接人件費個別明細表5[[#This Row],[列2]]-作業日報兼直接人件費個別明細表5[[#This Row],[列5]])>0,FLOOR((作業日報兼直接人件費個別明細表5[[#This Row],[列4]]-作業日報兼直接人件費個別明細表5[[#This Row],[列2]]-作業日報兼直接人件費個別明細表5[[#This Row],[列5]]),"0:30"),""),"8:00"))
B9: =IF(作業日報兼直接人件費個別明細表5[[#This Row],[列1]]="", "", TEXT(作業日報兼直接人件費個別明細表5[[#This Row],[列1]],"aaaa")) | D9: ～ | G9: =IF(作業日報兼直接人件費個別明細表5[[#This Row],[列2]]="","",MIN(IF((作業日報兼直接人件費個別明細表5[[#This Row],[列4]]-作業日報兼直接人件費個別明細表5[[#This Row],[列2]]-作業日報兼直接人件費個別明細表5[[#This Row],[列5]])>0,FLOOR((作業日報兼直接人件費個別明細表5[[#This Row],[列4]]-作業日報兼直接人件費個別明細表5[[#This Row],[列2]]-作業日報兼直接人件費個別明細表5[[#This Row],[列5]]),"0:30"),""),"8:00"))
B10: =IF(作業日報兼直接人件費個別明細表5[[#This Row],[列1]]="", "", TEXT(作業日報兼直接人件費個別明細表5[[#This Row],[列1]],"aaaa")) | D10: ～ | G10: =IF(作業日報兼直接人件費個別明細表5[[#This Row],[列2]]="","",MIN(IF((作業日報兼直接人件費個別明細表5[[#This Row],[列4]]-作業日報兼直接人件費個別明細表5[[#This Row],[列2]]-作業日報兼直接人件費個別明細表5[[#This Row],[列5]])>0,FLOOR((作業日報兼直接人件費個別明細表5[[#This Row],[列4]]-作業日報兼直接人件費個別明細表5[[#This Row],[列2]]-作業日報兼直接人件費個別明細表5[[#This Row],[列5]]),"0:30"),""),"8:00"))
B11: =IF(作業日報兼直接人件費個別明細表5[[#This Row],[列1]]="", "", TEXT(作業日報兼直接人件費個別明細表5[[#This Row],[列1]],"aaaa")) | D11: ～ | G11: =IF(作業日報兼直接人件費個別明細表5[[#This Row],[列2]]="","",MIN(IF((作業日報兼直接人件費個別明細表5[[#This Row],[列4]]-作業日報兼直接人件費個別明細表5[[#This Row],[列2]]-作業日報兼直接人件費個別明細表5[[#This Row],[列5]])>0,FLOOR((作業日報兼直接人件費個別明細表5[[#This Row],[列4]]-作業日報兼直接人件費個別明細表5[[#This Row],[列2]]-作業日報兼直接人件費個別明細表5[[#This Row],[列5]]),"0:30"),""),"8:00"))
B12: =IF(作業日報兼直接人件費個別明細表5[[#This Row],[列1]]="", "", TEXT(作業日報兼直接人件費個別明細表5[[#This Row],[列1]],"aaaa")) | D12: ～ | G12: =IF(作業日報兼直接人件費個別明細表5[[#This Row],[列2]]="","",MIN(IF((作業日報兼直接人件費個別明細表5[[#This Row],[列4]]-作業日報兼直接人件費個別明細表5[[#This Row],[列2]]-作業日報兼直接人件費個別明細表5[[#This Row],[列5]])>0,FLOOR((作業日報兼直接人件費個別明細表5[[#This Row],[列4]]-作業日報兼直接人件費個別明細表5[[#This Row],[列2]]-作業日報兼直接人件費個別明細表5[[#This Row],[列5]]),"0:30"),""),"8:00"))
B13: =IF(作業日報兼直接人件費個別明細表5[[#This Row],[列1]]="", "", TEXT(作業日報兼直接人件費個別明細表5[[#This Row],[列1]],"aaaa")) | D13: ～ | G13: =IF(作業日報兼直接人件費個別明細表5[[#This Row],[列2]]="","",MIN(IF((作業日報兼直接人件費個別明細表5[[#This Row],[列4]]-作業日報兼直接人件費個別明細表5[[#This Row],[列2]]-作業日報兼直接人件費個別明細表5[[#This Row],[列5]])>0,FLOOR((作業日報兼直接人件費個別明細表5[[#This Row],[列4]]-作業日報兼直接人件費個別明細表5[[#This Row],[列2]]-作業日報兼直接人件費個別明細表5[[#This Row],[列5]]),"0:30"),""),"8:00"))
B14: =IF(作業日報兼直接人件費個別明細表5[[#This Row],[列1]]="", "", TEXT(作業日報兼直接人件費個別明細表5[[#This Row],[列1]],"aaaa")) | D14: ～ | G14: =IF(作業日報兼直接人件費個別明細表5[[#This Row],[列2]]="","",MIN(IF((作業日報兼直接人件費個別明細表5[[#This Row],[列4]]-作業日報兼直接人件費個別明細表5[[#This Row],[列2]]-作業日報兼直接人件費個別明細表5[[#This Row],[列5]])>0,FLOOR((作業日報兼直接人件費個別明細表5[[#This Row],[列4]]-作業日報兼直接人件費個別明細表5[[#This Row],[列2]]-作業日報兼直接人件費個別明細表5[[#This Row],[列5]]),"0:30"),""),"8:00"))
B15: =IF(作業日報兼直接人件費個別明細表5[[#This Row],[列1]]="", "", TEXT(作業日報兼直接人件費個別明細表5[[#This Row],[列1]],"aaaa")) | D15: ～ | G15: =IF(作業日報兼直接人件費個別明細表5[[#This Row],[列2]]="","",MIN(IF((作業日報兼直接人件費個別明細表5[[#This Row],[列4]]-作業日報兼直接人件費個別明細表5[[#This Row],[列2]]-作業日報兼直接人件費個別明細表5[[#This Row],[列5]])>0,FLOOR((作業日報兼直接人件費個別明細表5[[#This Row],[列4]]-作業日報兼直接人件費個別明細表5[[#This Row],[列2]]-作業日報兼直接人件費個別明細表5[[#This Row],[列5]]),"0:30"),""),"8:00"))
B16: =IF(作業日報兼直接人件費個別明細表5[[#This Row],[列1]]="", "", TEXT(作業日報兼直接人件費個別明細表5[[#This Row],[列1]],"aaaa")) | D16: ～ | G16: =IF(作業日報兼直接人件費個別明細表5[[#This Row],[列2]]="","",MIN(IF((作業日報兼直接人件費個別明細表5[[#This Row],[列4]]-作業日報兼直接人件費個別明細表5[[#This Row],[列2]]-作業日報兼直接人件費個別明細表5[[#This Row],[列5]])>0,FLOOR((作業日報兼直接人件費個別明細表5[[#This Row],[列4]]-作業日報兼直接人件費個別明細表5[[#This Row],[列2]]-作業日報兼直接人件費個別明細表5[[#This Row],[列5]]),"0:30"),""),"8:00"))
B17: =IF(作業日報兼直接人件費個別明細表5[[#This Row],[列1]]="", "", TEXT(作業日報兼直接人件費個別明細表5[[#This Row],[列1]],"aaaa")) | D17: ～ | G17: =IF(作業日報兼直接人件費個別明細表5[[#This Row],[列2]]="","",MIN(IF((作業日報兼直接人件費個別明細表5[[#This Row],[列4]]-作業日報兼直接人件費個別明細表5[[#This Row],[列2]]-作業日報兼直接人件費個別明細表5[[#This Row],[列5]])>0,FLOOR((作業日報兼直接人件費個別明細表5[[#This Row],[列4]]-作業日報兼直接人件費個別明細表5[[#This Row],[列2]]-作業日報兼直接人件費個別明細表5[[#This Row],[列5]]),"0:30"),""),"8:00"))
B18: =IF(作業日報兼直接人件費個別明細表5[[#This Row],[列1]]="", "", TEXT(作業日報兼直接人件費個別明細表5[[#This Row],[列1]],"aaaa")) | D18: ～ | G18: =IF(作業日報兼直接人件費個別明細表5[[#This Row],[列2]]="","",MIN(IF((作業日報兼直接人件費個別明細表5[[#This Row],[列4]]-作業日報兼直接人件費個別明細表5[[#This Row],[列2]]-作業日報兼直接人件費個別明細表5[[#This Row],[列5]])>0,FLOOR((作業日報兼直接人件費個別明細表5[[#This Row],[列4]]-作業日報兼直接人件費個別明細表5[[#This Row],[列2]]-作業日報兼直接人件費個別明細表5[[#This Row],[列5]]),"0:30"),""),"8:00"))
B19: =IF(作業日報兼直接人件費個別明細表5[[#This Row],[列1]]="", "", TEXT(作業日報兼直接人件費個別明細表5[[#This Row],[列1]],"aaaa")) | D19: ～ | G19: =IF(作業日報兼直接人件費個別明細表5[[#This Row],[列2]]="","",MIN(IF((作業日報兼直接人件費個別明細表5[[#This Row],[列4]]-作業日報兼直接人件費個別明細表5[[#This Row],[列2]]-作業日報兼直接人件費個別明細表5[[#This Row],[列5]])>0,FLOOR((作業日報兼直接人件費個別明細表5[[#This Row],[列4]]-作業日報兼直接人件費個別明細表5[[#This Row],[列2]]-作業日報兼直接人件費個別明細表5[[#This Row],[列5]]),"0:30"),""),"8:00"))
... B30: =IF(作業日報兼直接人件費個別明細表5[[#This Row],[列1]]="", "", TEXT(作業日報兼直接人件費個別明細表5[[#This Row],[列1]],"aaaa")) | D30: ～ | G30: =IF(作業日報兼直接人件費個別明細表5[[#This Row],[列2]]="","",MIN(IF((作業日報兼直接人件費個別明細表5[[#This Row],[列4]]-作業日報兼直接人件費個別明細表5[[#This Row],[列2]]-作業日報兼直接人件費個別明細表5[[#This Row],[列5]])>0,FLOOR((作業日報兼直接人件費個別明細表5[[#This Row],[列4]]-作業日報兼直接人件費個別明細表5[[#This Row],[列2]]-作業日報兼直接人件費個別明細表5[[#This Row],[列5]]),"0:30"),""),"8:00"))
A31: 合計 | G31: =SUBTOTAL(109,作業日報兼直接人件費個別明細表5[列6]) -> 0

Sheet R8年9月
A1: 様式第６号（別紙４－２）
A2: 作業日報兼直接人件費個別明細表
A3: 年月 | B3: =MID(CELL("filename",$A$3),FIND("]",CELL("filename",$A$3))+1,31) -> R8年9月
A4: 企業名 | B4: =IF(算定表!B4="","",算定表!B4)
A5: 従事者氏名 | B5: =IF(算定表!B5="","",算定表!B5)
A6: （注）30分単位で記入してください。
A7: 日付 | B7: 曜日 | C7: 作業時刻 | F7: 休憩等 除外時間 | G7: 作業時間数 | H7: 作業内容
B8: =IF(作業日報兼直接人件費個別明細表6[[#This Row],[列1]]="", "", TEXT(作業日報兼直接人件費個別明細表6[[#This Row],[列1]],"aaaa")) | D8: ～ | G8: =IF(作業日報兼直接人件費個別明細表6[[#This Row],[列2]]="","",MIN(IF((作業日報兼直接人件費個別明細表6[[#This Row],[列4]]-作業日報兼直接人件費個別明細表6[[#This Row],[列2]]-作業日報兼直接人件費個別明細表6[[#This Row],[列5]])>0,FLOOR((作業日報兼直接人件費個別明細表6[[#This Row],[列4]]-作業日報兼直接人件費個別明細表6[[#This Row],[列2]]-作業日報兼直接人件費個別明細表6[[#This Row],[列5]]),"0:30"),""),"8:00"))
B9: =IF(作業日報兼直接人件費個別明細表6[[#This Row],[列1]]="", "", TEXT(作業日報兼直接人件費個別明細表6[[#This Row],[列1]],"aaaa")) | D9: ～ | G9: =IF(作業日報兼直接人件費個別明細表6[[#This Row],[列2]]="","",MIN(IF((作業日報兼直接人件費個別明細表6[[#This Row],[列4]]-作業日報兼直接人件費個別明細表6[[#This Row],[列2]]-作業日報兼直接人件費個別明細表6[[#This Row],[列5]])>0,FLOOR((作業日報兼直接人件費個別明細表6[[#This Row],[列4]]-作業日報兼直接人件費個別明細表6[[#This Row],[列2]]-作業日報兼直接人件費個別明細表6[[#This Row],[列5]]),"0:30"),""),"8:00"))
B10: =IF(作業日報兼直接人件費個別明細表6[[#This Row],[列1]]="", "", TEXT(作業日報兼直接人件費個別明細表6[[#This Row],[列1]],"aaaa")) | D10: ～ | G10: =IF(作業日報兼直接人件費個別明細表6[[#This Row],[列2]]="","",MIN(IF((作業日報兼直接人件費個別明細表6[[#This Row],[列4]]-作業日報兼直接人件費個別明細表6[[#This Row],[列2]]-作業日報兼直接人件費個別明細表6[[#This Row],[列5]])>0,FLOOR((作業日報兼直接人件費個別明細表6[[#This Row],[列4]]-作業日報兼直接人件費個別明細表6[[#This Row],[列2]]-作業日報兼直接人件費個別明細表6[[#This Row],[列5]]),"0:30"),""),"8:00"))
B11: =IF(作業日報兼直接人件費個別明細表6[[#This Row],[列1]]="", "", TEXT(作業日報兼直接人件費個別明細表6[[#This Row],[列1]],"aaaa")) | D11: ～ | G11: =IF(作業日報兼直接人件費個別明細表6[[#This Row],[列2]]="","",MIN(IF((作業日報兼直接人件費個別明細表6[[#This Row],[列4]]-作業日報兼直接人件費個別明細表6[[#This Row],[列2]]-作業日報兼直接人件費個別明細表6[[#This Row],[列5]])>0,FLOOR((作業日報兼直接人件費個別明細表6[[#This Row],[列4]]-作業日報兼直接人件費個別明細表6[[#This Row],[列2]]-作業日報兼直接人件費個別明細表6[[#This Row],[列5]]),"0:30"),""),"8:00"))
B12: =IF(作業日報兼直接人件費個別明細表6[[#This Row],[列1]]="", "", TEXT(作業日報兼直接人件費個別明細表6[[#This Row],[列1]],"aaaa")) | D12: ～ | G12: =IF(作業日報兼直接人件費個別明細表6[[#This Row],[列2]]="","",MIN(IF((作業日報兼直接人件費個別明細表6[[#This Row],[列4]]-作業日報兼直接人件費個別明細表6[[#This Row],[列2]]-作業日報兼直接人件費個別明細表6[[#This Row],[列5]])>0,FLOOR((作業日報兼直接人件費個別明細表6[[#This Row],[列4]]-作業日報兼直接人件費個別明細表6[[#This Row],[列2]]-作業日報兼直接人件費個別明細表6[[#This Row],[列5]]),"0:30"),""),"8:00"))
B13: =IF(作業日報兼直接人件費個別明細表6[[#This Row],[列1]]="", "", TEXT(作業日報兼直接人件費個別明細表6[[#This Row],[列1]],"aaaa")) | D13: ～ | G13: =IF(作業日報兼直接人件費個別明細表6[[#This Row],[列2]]="","",MIN(IF((作業日報兼直接人件費個別明細表6[[#This Row],[列4]]-作業日報兼直接人件費個別明細表6[[#This Row],[列2]]-作業日報兼直接人件費個別明細表6[[#This Row],[列5]])>0,FLOOR((作業日報兼直接人件費個別明細表6[[#This Row],[列4]]-作業日報兼直接人件費個別明細表6[[#This Row],[列2]]-作業日報兼直接人件費個別明細表6[[#This Row],[列5]]),"0:30"),""),"8:00"))
B14: =IF(作業日報兼直接人件費個別明細表6[[#This Row],[列1]]="", "", TEXT(作業日報兼直接人件費個別明細表6[[#This Row],[列1]],"aaaa")) | D14: ～ | G14: =IF(作業日報兼直接人件費個別明細表6[[#This Row],[列2]]="","",MIN(IF((作業日報兼直接人件費個別明細表6[[#This Row],[列4]]-作業日報兼直接人件費個別明細表6[[#This Row],[列2]]-作業日報兼直接人件費個別明細表6[[#This Row],[列5]])>0,FLOOR((作業日報兼直接人件費個別明細表6[[#This Row],[列4]]-作業日報兼直接人件費個別明細表6[[#This Row],[列2]]-作業日報兼直接人件費個別明細表6[[#This Row],[列5]]),"0:30"),""),"8:00"))
B15: =IF(作業日報兼直接人件費個別明細表6[[#This Row],[列1]]="", "", TEXT(作業日報兼直接人件費個別明細表6[[#This Row],[列1]],"aaaa")) | D15: ～ | G15: =IF(作業日報兼直接人件費個別明細表6[[#This Row],[列2]]="","",MIN(IF((作業日報兼直接人件費個別明細表6[[#This Row],[列4]]-作業日報兼直接人件費個別明細表6[[#This Row],[列2]]-作業日報兼直接人件費個別明細表6[[#This Row],[列5]])>0,FLOOR((作業日報兼直接人件費個別明細表6[[#This Row],[列4]]-作業日報兼直接人件費個別明細表6[[#This Row],[列2]]-作業日報兼直接人件費個別明細表6[[#This Row],[列5]]),"0:30"),""),"8:00"))
B16: =IF(作業日報兼直接人件費個別明細表6[[#This Row],[列1]]="", "", TEXT(作業日報兼直接人件費個別明細表6[[#This Row],[列1]],"aaaa")) | D16: ～ | G16: =IF(作業日報兼直接人件費個別明細表6[[#This Row],[列2]]="","",MIN(IF((作業日報兼直接人件費個別明細表6[[#This Row],[列4]]-作業日報兼直接人件費個別明細表6[[#This Row],[列2]]-作業日報兼直接人件費個別明細表6[[#This Row],[列5]])>0,FLOOR((作業日報兼直接人件費個別明細表6[[#This Row],[列4]]-作業日報兼直接人件費個別明細表6[[#This Row],[列2]]-作業日報兼直接人件費個別明細表6[[#This Row],[列5]]),"0:30"),""),"8:00"))
B17: =IF(作業日報兼直接人件費個別明細表6[[#This Row],[列1]]="", "", TEXT(作業日報兼直接人件費個別明細表6[[#This Row],[列1]],"aaaa")) | D17: ～ | G17: =IF(作業日報兼直接人件費個別明細表6[[#This Row],[列2]]="","",MIN(IF((作業日報兼直接人件費個別明細表6[[#This Row],[列4]]-作業日報兼直接人件費個別明細表6[[#This Row],[列2]]-作業日報兼直接人件費個別明細表6[[#This Row],[列5]])>0,FLOOR((作業日報兼直接人件費個別明細表6[[#This Row],[列4]]-作業日報兼直接人件費個別明細表6[[#This Row],[列2]]-作業日報兼直接人件費個別明細表6[[#This Row],[列5]]),"0:30"),""),"8:00"))
B18: =IF(作業日報兼直接人件費個別明細表6[[#This Row],[列1]]="", "", TEXT(作業日報兼直接人件費個別明細表6[[#This Row],[列1]],"aaaa")) | D18: ～ | G18: =IF(作業日報兼直接人件費個別明細表6[[#This Row],[列2]]="","",MIN(IF((作業日報兼直接人件費個別明細表6[[#This Row],[列4]]-作業日報兼直接人件費個別明細表6[[#This Row],[列2]]-作業日報兼直接人件費個別明細表6[[#This Row],[列5]])>0,FLOOR((作業日報兼直接人件費個別明細表6[[#This Row],[列4]]-作業日報兼直接人件費個別明細表6[[#This Row],[列2]]-作業日報兼直接人件費個別明細表6[[#This Row],[列5]]),"0:30"),""),"8:00"))
B19: =IF(作業日報兼直接人件費個別明細表6[[#This Row],[列1]]="", "", TEXT(作業日報兼直接人件費個別明細表6[[#This Row],[列1]],"aaaa")) | D19: ～ | G19: =IF(作業日報兼直接人件費個別明細表6[[#This Row],[列2]]="","",MIN(IF((作業日報兼直接人件費個別明細表6[[#This Row],[列4]]-作業日報兼直接人件費個別明細表6[[#This Row],[列2]]-作業日報兼直接人件費個別明細表6[[#This Row],[列5]])>0,FLOOR((作業日報兼直接人件費個別明細表6[[#This Row],[列4]]-作業日報兼直接人件費個別明細表6[[#This Row],[列2]]-作業日報兼直接人件費個別明細表6[[#This Row],[列5]]),"0:30"),""),"8:00"))
... B30: =IF(作業日報兼直接人件費個別明細表6[[#This Row],[列1]]="", "", TEXT(作業日報兼直接人件費個別明細表6[[#This Row],[列1]],"aaaa")) | D30: ～ | G30: =IF(作業日報兼直接人件費個別明細表6[[#This Row],[列2]]="","",MIN(IF((作業日報兼直接人件費個別明細表6[[#This Row],[列4]]-作業日報兼直接人件費個別明細表6[[#This Row],[列2]]-作業日報兼直接人件費個別明細表6[[#This Row],[列5]])>0,FLOOR((作業日報兼直接人件費個別明細表6[[#This Row],[列4]]-作業日報兼直接人件費個別明細表6[[#This Row],[列2]]-作業日報兼直接人件費個別明細表6[[#This Row],[列5]]),"0:30"),""),"8:00"))
A31: 合計 | G31: =SUBTOTAL(109,作業日報兼直接人件費個別明細表6[列6]) -> 0

Sheet R8年10月
A1: 様式第６号（別紙４－２）
A2: 作業日報兼直接人件費個別明細表
A3: 年月 | B3: =MID(CELL("filename",$A$3),FIND("]",CELL("filename",$A$3))+1,31) -> R8年10月
A4: 企業名 | B4: =IF(算定表!B4="","",算定表!B4)
A5: 従事者氏名 | B5: =IF(算定表!B5="","",算定表!B5)
A6: （注）30分単位で記入してください。
A7: 日付 | B7: 曜日 | C7: 作業時刻 | F7: 休憩等 除外時間 | G7: 作業時間数 | H7: 作業内容
B8: =IF(作業日報兼直接人件費個別明細表7[[#This Row],[列1]]="", "", TEXT(作業日報兼直接人件費個別明細表7[[#This Row],[列1]],"aaaa")) | D8: ～ | G8: =IF(作業日報兼直接人件費個別明細表7[[#This Row],[列2]]="","",MIN(IF((作業日報兼直接人件費個別明細表7[[#This Row],[列4]]-作業日報兼直接人件費個別明細表7[[#This Row],[列2]]-作業日報兼直接人件費個別明細表7[[#This Row],[列5]])>0,FLOOR((作業日報兼直接人件費個別明細表7[[#This Row],[列4]]-作業日報兼直接人件費個別明細表7[[#This Row],[列2]]-作業日報兼直接人件費個別明細表7[[#This Row],[列5]]),"0:30"),""),"8:00"))
B9: =IF(作業日報兼直接人件費個別明細表7[[#This Row],[列1]]="", "", TEXT(作業日報兼直接人件費個別明細表7[[#This Row],[列1]],"aaaa")) | D9: ～ | G9: =IF(作業日報兼直接人件費個別明細表7[[#This Row],[列2]]="","",MIN(IF((作業日報兼直接人件費個別明細表7[[#This Row],[列4]]-作業日報兼直接人件費個別明細表7[[#This Row],[列2]]-作業日報兼直接人件費個別明細表7[[#This Row],[列5]])>0,FLOOR((作業日報兼直接人件費個別明細表7[[#This Row],[列4]]-作業日報兼直接人件費個別明細表7[[#This Row],[列2]]-作業日報兼直接人件費個別明細表7[[#This Row],[列5]]),"0:30"),""),"8:00"))
B10: =IF(作業日報兼直接人件費個別明細表7[[#This Row],[列1]]="", "", TEXT(作業日報兼直接人件費個別明細表7[[#This Row],[列1]],"aaaa")) | D10: ～ | G10: =IF(作業日報兼直接人件費個別明細表7[[#This Row],[列2]]="","",MIN(IF((作業日報兼直接人件費個別明細表7[[#This Row],[列4]]-作業日報兼直接人件費個別明細表7[[#This Row],[列2]]-作業日報兼直接人件費個別明細表7[[#This Row],[列5]])>0,FLOOR((作業日報兼直接人件費個別明細表7[[#This Row],[列4]]-作業日報兼直接人件費個別明細表7[[#This Row],[列2]]-作業日報兼直接人件費個別明細表7[[#This Row],[列5]]),"0:30"),""),"8:00"))
B11: =IF(作業日報兼直接人件費個別明細表7[[#This Row],[列1]]="", "", TEXT(作業日報兼直接人件費個別明細表7[[#This Row],[列1]],"aaaa")) | D11: ～ | G11: =IF(作業日報兼直接人件費個別明細表7[[#This Row],[列2]]="","",MIN(IF((作業日報兼直接人件費個別明細表7[[#This Row],[列4]]-作業日報兼直接人件費個別明細表7[[#This Row],[列2]]-作業日報兼直接人件費個別明細表7[[#This Row],[列5]])>0,FLOOR((作業日報兼直接人件費個別明細表7[[#This Row],[列4]]-作業日報兼直接人件費個別明細表7[[#This Row],[列2]]-作業日報兼直接人件費個別明細表7[[#This Row],[列5]]),"0:30"),""),"8:00"))
B12: =IF(作業日報兼直接人件費個別明細表7[[#This Row],[列1]]="", "", TEXT(作業日報兼直接人件費個別明細表7[[#This Row],[列1]],"aaaa")) | D12: ～ | G12: =IF(作業日報兼直接人件費個別明細表7[[#This Row],[列2]]="","",MIN(IF((作業日報兼直接人件費個別明細表7[[#This Row],[列4]]-作業日報兼直接人件費個別明細表7[[#This Row],[列2]]-作業日報兼直接人件費個別明細表7[[#This Row],[列5]])>0,FLOOR((作業日報兼直接人件費個別明細表7[[#This Row],[列4]]-作業日報兼直接人件費個別明細表7[[#This Row],[列2]]-作業日報兼直接人件費個別明細表7[[#This Row],[列5]]),"0:30"),""),"8:00"))
B13: =IF(作業日報兼直接人件費個別明細表7[[#This Row],[列1]]="", "", TEXT(作業日報兼直接人件費個別明細表7[[#This Row],[列1]],"aaaa")) | D13: ～ | G13: =IF(作業日報兼直接人件費個別明細表7[[#This Row],[列2]]="","",MIN(IF((作業日報兼直接人件費個別明細表7[[#This Row],[列4]]-作業日報兼直接人件費個別明細表7[[#This Row],[列2]]-作業日報兼直接人件費個別明細表7[[#This Row],[列5]])>0,FLOOR((作業日報兼直接人件費個別明細表7[[#This Row],[列4]]-作業日報兼直接人件費個別明細表7[[#This Row],[列2]]-作業日報兼直接人件費個別明細表7[[#This Row],[列5]]),"0:30"),""),"8:00"))
B14: =IF(作業日報兼直接人件費個別明細表7[[#This Row],[列1]]="", "", TEXT(作業日報兼直接人件費個別明細表7[[#This Row],[列1]],"aaaa")) | D14: ～ | G14: =IF(作業日報兼直接人件費個別明細表7[[#This Row],[列2]]="","",MIN(IF((作業日報兼直接人件費個別明細表7[[#This Row],[列4]]-作業日報兼直接人件費個別明細表7[[#This Row],[列2]]-作業日報兼直接人件費個別明細表7[[#This Row],[列5]])>0,FLOOR((作業日報兼直接人件費個別明細表7[[#This Row],[列4]]-作業日報兼直接人件費個別明細表7[[#This Row],[列2]]-作業日報兼直接人件費個別明細表7[[#This Row],[列5]]),"0:30"),""),"8:00"))
B15: =IF(作業日報兼直接人件費個別明細表7[[#This Row],[列1]]="", "", TEXT(作業日報兼直接人件費個別明細表7[[#This Row],[列1]],"aaaa")) | D15: ～ | G15: =IF(作業日報兼直接人件費個別明細表7[[#This Row],[列2]]="","",MIN(IF((作業日報兼直接人件費個別明細表7[[#This Row],[列4]]-作業日報兼直接人件費個別明細表7[[#This Row],[列2]]-作業日報兼直接人件費個別明細表7[[#This Row],[列5]])>0,FLOOR((作業日報兼直接人件費個別明細表7[[#This Row],[列4]]-作業日報兼直接人件費個別明細表7[[#This Row],[列2]]-作業日報兼直接人件費個別明細表7[[#This Row],[列5]]),"0:30"),""),"8:00"))
B16: =IF(作業日報兼直接人件費個別明細表7[[#This Row],[列1]]="", "", TEXT(作業日報兼直接人件費個別明細表7[[#This Row],[列1]],"aaaa")) | D16: ～ | G16: =IF(作業日報兼直接人件費個別明細表7[[#This Row],[列2]]="","",MIN(IF((作業日報兼直接人件費個別明細表7[[#This Row],[列4]]-作業日報兼直接人件費個別明細表7[[#This Row],[列2]]-作業日報兼直接人件費個別明細表7[[#This Row],[列5]])>0,FLOOR((作業日報兼直接人件費個別明細表7[[#This Row],[列4]]-作業日報兼直接人件費個別明細表7[[#This Row],[列2]]-作業日報兼直接人件費個別明細表7[[#This Row],[列5]]),"0:30"),""),"8:00"))
