Workbook
Name 時給単価: 集計!$A$11:$B$11
Name 日額給与: 'R7年4月':'R8年10月'!$I$31
Name 日額給与: 'R7年4月':'R8年11月'!$I$31
Name 日額給与: 'R7年4月':'R8年12月'!$I$31
Name 日額給与: 'R7年4月':'R8年9月'!$I$31
Name 日額給与: 'R7年4月':'R8年9月'!$I$31
Name 日額給与: 'R7年4月':'R9年1月'!$I$31
Name 日額給与: 'R7年4月':'R9年2月'!$I$31
Name 日額給与: 'R7年4月':'R9年3月'!$I$31
Name 日額給与: 'R7年4月':'R9年4月'!$I$31
Name 日額給与: 'R7年4月':'R9年5月'!$I$31
Name 日額給与: 'R7年4月':'R9年6月'!$I$31
Name 日額給与: 'R7年4月':'R9年7月'!$I$31
Name 日額給与: 'R7年4月':'R9年8月'!$I$31
Name 日額給与: 'R7年4月':'R9年9月'!$I$31
Name 日額給与: 'R7年4月':'R8年9月'!$I$31

Sheet 【記入例】はじめにお読みください
A1: 様式第６号（別紙４－２）
A2: 作業日報兼直接人件費個別明細表
A3: 年月 | B3: R8年5月
A4: 企業名 | B4: 株式会社 公社
A5: 従事者氏名 | B5: 〇〇 〇〇
A6: （注）30分単位で記入してください。
A7: 日付 | B7: 曜日 | C7: 作業時刻 | F7: 休憩等 除外時間 | G7: 作業時間数 | H7: 時給単価 | I7: 日額給与 | J7: 作業内容
A8: 46133 | B8: 火 | C8: 0.375 | D8: ～ | E8: 0.75 | F8: 0.041666667 | G8: =IF(作業日報兼直接人件費個別明細表記入例[[#This Row],[列2]]="","",MIN(IF((作業日報兼直接人件費個別明細表記入例[[#This Row],[列4]]-作業日報兼直接人件費個別明細表記入例[[#This Row],[列2]]-作業日報兼直接人件費個別明細表記入例[[#This Row],[列5]])>0,FLOOR((作業日報兼直接人件費個別明細表記入例[[#This Row],[列4]]-作業日報兼直接人件費個別明細表記入例[[#This Row],[列2]]-作業日報兼直接人件費個別明細表記入例[[#This Row],[列5]]),"0:30"),""),"8:00")) -> 0.33333333 | J8: サービス構築に向けたプロトタイプの製作
A9: 46134 | B9: 水 | C9: 0.375 | D9: ～ | E9: 0.75 | F9: 0.041666667 | G9: =IF(作業日報兼直接人件費個別明細表記入例[[#This Row],[列2]]="","",MIN(IF((作業日報兼直接人件費個別明細表記入例[[#This Row],[列4]]-作業日報兼直接人件費個別明細表記入例[[#This Row],[列2]]-作業日報兼直接人件費個別明細表記入例[[#This Row],[列5]])>0,FLOOR((作業日報兼直接人件費個別明細表記入例[[#This Row],[列4]]-作業日報兼直接人件費個別明細表記入例[[#This Row],[列2]]-作業日報兼直接人件費個別明細表記入例[[#This Row],[列5]]),"0:30"),""),"8:00")) -> 0.33333333 | J9: サービス構築に向けたプロトタイプの製作
A10: 46135 | B10: 木 | C10: 0.54166667 | D10: ～ | E10: 0.75 | G10: =IF(作業日報兼直接人件費個別明細表記入例[[#This Row],[列2]]="","",MIN(IF((作業日報兼直接人件費個別明細表記入例[[#This Row],[列4]]-作業日報兼直接人件費個別明細表記入例[[#This Row],[列2]]-作業日報兼直接人件費個別明細表記入例[[#This Row],[列5]])>0,FLOOR((作業日報兼直接人件費個別明細表記入例[[#This Row],[列4]]-作業日報兼直接人件費個別明細表記入例[[#This Row],[列2]]-作業日報兼直接人件費個別明細表記入例[[#This Row],[列5]]),"0:30"),""),"8:00")) -> 0.20833333 | J10: サービス構築に向けたプロトタイプの製作
A11: 46136 | B11: 金 | C11: 0.375 | D11: ～ | E11: 0.75 | F11: 0.041666667 | G11: =IF(作業日報兼直接人件費個別明細表記入例[[#This Row],[列2]]="","",MIN(IF((作業日報兼直接人件費個別明細表記入例[[#This Row],[列4]]-作業日報兼直接人件費個別明細表記入例[[#This Row],[列2]]-作業日報兼直接人件費個別明細表記入例[[#This Row],[列5]])>0,FLOOR((作業日報兼直接人件費個別明細表記入例[[#This Row],[列4]]-作業日報兼直接人件費個別明細表記入例[[#This Row],[列2]]-作業日報兼直接人件費個別明細表記入例[[#This Row],[列5]]),"0:30"),""),"8:00")) -> 0.33333333 | J11: サービス構築に向けたプロトタイプの製作
A12: 46137 | B12: 土 | C12: 0.375 | D12: ～ | E12: 0.5 | G12: =IF(作業日報兼直接人件費個別明細表記入例[[#This Row],[列2]]="","",MIN(IF((作業日報兼直接人件費個別明細表記入例[[#This Row],[列4]]-作業日報兼直接人件費個別明細表記入例[[#This Row],[列2]]-作業日報兼直接人件費個別明細表記入例[[#This Row],[列5]])>0,FLOOR((作業日報兼直接人件費個別明細表記入例[[#This Row],[列4]]-作業日報兼直接人件費個別明細表記入例[[#This Row],[列2]]-作業日報兼直接人件費個別明細表記入例[[#This Row],[列5]]),"0:30"),""),"8:00")) -> 0.125 | J12: サービス構築に向けたプロトタイプの製作
A13: 46138 | B13: 日 | C13: 0.54166667 | D13: ～ | E13: 0.75 | F13: 0.041666667 | G13: =IF(作業日報兼直接人件費個別明細表記入例[[#This Row],[列2]]="","",MIN(IF((作業日報兼直接人件費個別明細表記入例[[#This Row],[列4]]-作業日報兼直接人件費個別明細表記入例[[#This Row],[列2]]-作業日報兼直接人件費個別明細表記入例[[#This Row],[列5]])>0,FLOOR((作業日報兼直接人件費個別明細表記入例[[#This Row],[列4]]-作業日報兼直接人件費個別明細表記入例[[#This Row],[列2]]-作業日報兼直接人件費個別明細表記入例[[#This Row],[列5]]),"0:30"),""),"8:00")) -> 0.16666667 | J13: サービス構築に向けたプロトタイプの製作
A14: 46139 | B14: 月 | C14: 0.375 | D14: ～ | E14: 0.75 | F14: 0.041666667 | G14: =IF(作業日報兼直接人件費個別明細表記入例[[#This Row],[列2]]="","",MIN(IF((作業日報兼直接人件費個別明細表記入例[[#This Row],[列4]]-作業日報兼直接人件費個別明細表記入例[[#This Row],[列2]]-作業日報兼直接人件費個別明細表記入例[[#This Row],[列5]])>0,FLOOR((作業日報兼直接人件費個別明細表記入例[[#This Row],[列4]]-作業日報兼直接人件費個別明細表記入例[[#This Row],[列2]]-作業日報兼直接人件費個別明細表記入例[[#This Row],[列5]]),"0:30"),""),"8:00")) -> 0.33333333 | J14: サービス構築に向けたプロトタイプの製作
D15: ～ | G15: =IF(作業日報兼直接人件費個別明細表記入例[[#This Row],[列2]]="","",MIN(IF((作業日報兼直接人件費個別明細表記入例[[#This Row],[列4]]-作業日報兼直接人件費個別明細表記入例[[#This Row],[列2]]-作業日報兼直接人件費個別明細表記入例[[#This Row],[列5]])>0,FLOOR((作業日報兼直接人件費個別明細表記入例[[#This Row],[列4]]-作業日報兼直接人件費個別明細表記入例[[#This Row],[列2]]-作業日報兼直接人件費個別明細表記入例[[#This Row],[列5]]),"0:30"),""),"8:00"))
D16: ～ | G16: =IF(作業日報兼直接人件費個別明細表記入例[[#This Row],[列2]]="","",MIN(IF((作業日報兼直接人件費個別明細表記入例[[#This Row],[列4]]-作業日報兼直接人件費個別明細表記入例[[#This Row],[列2]]-作業日報兼直接人件費個別明細表記入例[[#This Row],[列5]])>0,FLOOR((作業日報兼直接人件費個別明細表記入例[[#This Row],[列4]]-作業日報兼直接人件費個別明細表記入例[[#This Row],[列2]]-作業日報兼直接人件費個別明細表記入例[[#This Row],[列5]]),"0:30"),""),"8:00"))
D17: ～ | G17: =IF(作業日報兼直接人件費個別明細表記入例[[#This Row],[列2]]="","",MIN(IF((作業日報兼直接人件費個別明細表記入例[[#This Row],[列4]]-作業日報兼直接人件費個別明細表記入例[[#This Row],[列2]]-作業日報兼直接人件費個別明細表記入例[[#This Row],[列5]])>0,FLOOR((作業日報兼直接人件費個別明細表記入例[[#This Row],[列4]]-作業日報兼直接人件費個別明細表記入例[[#This Row],[列2]]-作業日報兼直接人件費個別明細表記入例[[#This Row],[列5]]),"0:30"),""),"8:00"))
D18: ～ | G18: =IF(作業日報兼直接人件費個別明細表記入例[[#This Row],[列2]]="","",MIN(IF((作業日報兼直接人件費個別明細表記入例[[#This Row],[列4]]-作業日報兼直接人件費個別明細表記入例[[#This Row],[列2]]-作業日報兼直接人件費個別明細表記入例[[#This Row],[列5]])>0,FLOOR((作業日報兼直接人件費個別明細表記入例[[#This Row],[列4]]-作業日報兼直接人件費個別明細表記入例[[#This Row],[列2]]-作業日報兼直接人件費個別明細表記入例[[#This Row],[列5]]),"0:30"),""),"8:00"))
D19: ～ | G19: =IF(作業日報兼直接人件費個別明細表記入例[[#This Row],[列2]]="","",MIN(IF((作業日報兼直接人件費個別明細表記入例[[#This Row],[列4]]-作業日報兼直接人件費個別明細表記入例[[#This Row],[列2]]-作業日報兼直接人件費個別明細表記入例[[#This Row],[列5]])>0,FLOOR((作業日報兼直接人件費個別明細表記入例[[#This Row],[列4]]-作業日報兼直接人件費個別明細表記入例[[#This Row],[列2]]-作業日報兼直接人件費個別明細表記入例[[#This Row],[列5]]),"0:30"),""),"8:00"))
D20: ～ | G20: =IF(作業日報兼直接人件費個別明細表記入例[[#This Row],[列2]]="","",MIN(IF((作業日報兼直接人件費個別明細表記入例[[#This Row],[列4]]-作業日報兼直接人件費個別明細表記入例[[#This Row],[列2]]-作業日報兼直接人件費個別明細表記入例[[#This Row],[列5]])>0,FLOOR((作業日報兼直接人件費個別明細表記入例[[#This Row],[列4]]-作業日報兼直接人件費個別明細表記入例[[#This Row],[列2]]-作業日報兼直接人件費個別明細表記入例[[#This Row],[列5]]),"0:30"),""),"8:00"))
D21: ～ | G21: =IF(作業日報兼直接人件費個別明細表記入例[[#This Row],[列2]]="","",MIN(IF((作業日報兼直接人件費個別明細表記入例[[#This Row],[列4]]-作業日報兼直接人件費個別明細表記入例[[#This Row],[列2]]-作業日報兼直接人件費個別明細表記入例[[#This Row],[列5]])>0,FLOOR((作業日報兼直接人件費個別明細表記入例[[#This Row],[列4]]-作業日報兼直接人件費個別明細表記入例[[#This Row],[列2]]-作業日報兼直接人件費個別明細表記入例[[#This Row],[列5]]),"0:30"),""),"8:00"))
D22: ～ | G22: =IF(作業日報兼直接人件費個別明細表記入例[[#This Row],[列2]]="","",MIN(IF((作業日報兼直接人件費個別明細表記入例[[#This Row],[列4]]-作業日報兼直接人件費個別明細表記入例[[#This Row],[列2]]-作業日報兼直接人件費個別明細表記入例[[#This Row],[列5]])>0,FLOOR((作業日報兼直接人件費個別明細表記入例[[#This Row],[列4]]-作業日報兼直接人件費個別明細表記入例[[#This Row],[列2]]-作業日報兼直接人件費個別明細表記入例[[#This Row],[列5]]),"0:30"),""),"8:00"))
D23: ～ | G23: =IF(作業日報兼直接人件費個別明細表記入例[[#This Row],[列2]]="","",MIN(IF((作業日報兼直接人件費個別明細表記入例[[#This Row],[列4]]-作業日報兼直接人件費個別明細表記入例[[#This Row],[列2]]-作業日報兼直接人件費個別明細表記入例[[#This Row],[列5]])>0,FLOOR((作業日報兼直接人件費個別明細表記入例[[#This Row],[列4]]-作業日報兼直接人件費個別明細表記入例[[#This Row],[列2]]-作業日報兼直接人件費個別明細表記入例[[#This Row],[列5]]),"0:30"),""),"8:00"))
D24: ～ | G24: =IF(作業日報兼直接人件費個別明細表記入例[[#This Row],[列2]]="","",MIN(IF((作業日報兼直接人件費個別明細表記入例[[#This Row],[列4]]-作業日報兼直接人件費個別明細表記入例[[#This Row],[列2]]-作業日報兼直接人件費個別明細表記入例[[#This Row],[列5]])>0,FLOOR((作業日報兼直接人件費個別明細表記入例[[#This Row],[列4]]-作業日報兼直接人件費個別明細表記入例[[#This Row],[列2]]-作業日報兼直接人件費個別明細表記入例[[#This Row],[列5]]),"0:30"),""),"8:00"))
D25: ～ | G25: =IF(作業日報兼直接人件費個別明細表記入例[[#This Row],[列2]]="","",MIN(IF((作業日報兼直接人件費個別明細表記入例[[#This Row],[列4]]-作業日報兼直接人件費個別明細表記入例[[#This Row],[列2]]-作業日報兼直接人件費個別明細表記入例[[#This Row],[列5]])>0,FLOOR((作業日報兼直接人件費個別明細表記入例[[#This Row],[列4]]-作業日報兼直接人件費個別明細表記入例[[#This Row],[列2]]-作業日報兼直接人件費個別明細表記入例[[#This Row],[列5]]),"0:30"),""),"8:00"))
D26: ～ | G26: =IF(作業日報兼直接人件費個別明細表記入例[[#This Row],[列2]]="","",MIN(IF((作業日報兼直接人件費個別明細表記入例[[#This Row],[列4]]-作業日報兼直接人件費個別明細表記入例[[#This Row],[列2]]-作業日報兼直接人件費個別明細表記入例[[#This Row],[列5]])>0,FLOOR((作業日報兼直接人件費個別明細表記入例[[#This Row],[列4]]-作業日報兼直接人件費個別明細表記入例[[#This Row],[列2]]-作業日報兼直接人件費個別明細表記入例[[#This Row],[列5]]),"0:30"),""),"8:00"))
... D30: ～ | G30: =IF(作業日報兼直接人件費個別明細表記入例[[#This Row],[列2]]="","",MIN(IF((作業日報兼直接人件費個別明細表記入例[[#This Row],[列4]]-作業日報兼直接人件費個別明細表記入例[[#This Row],[列2]]-作業日報兼直接人件費個別明細表記入例[[#This Row],[列5]])>0,FLOOR((作業日報兼直接人件費個別明細表記入例[[#This Row],[列4]]-作業日報兼直接人件費個別明細表記入例[[#This Row],[列2]]-作業日報兼直接人件費個別明細表記入例[[#This Row],[列5]]),"0:30"),""),"8:00"))
A31: 合計 | G31: =SUBTOTAL(109,作業日報兼直接人件費個別明細表記入例[列6]) -> 1.8333333

Sheet 集計
A1: 個別明細集計
A3: 企業名
A4: 従事者氏名
A6: 総日数 | B6: =SUM('R8年4月:R9年9月'!C31) -> 0
A7: 総時間 | B7: =SUM('R8年4月:R9年9月'!G31) -> 0
A8: 平均従事時間/日 | B8: =IF(B7=0,0,B7/B6) -> 0
A9: 対象経費総額 | B9: =SUM('R8年4月:R8年12月'!I31) -> 0
A11: 時給単価①
A12: 時給単価②
A13: 時給単価③

Sheet R8年4月
A1: 様式第６号（別紙４－２）
A2: 作業日報兼直接人件費個別明細表
A3: 年月 | B3: =MID(CELL("filename",$A$3),FIND("]",CELL("filename",$A$3))+1,31) -> R8年4月
A4: 企業名 | B4: =集計!B3 -> 0
A5: 従事者氏名 | B5: =集計!B4 -> 0
A6: （注）30分単位で記入してください。
A7: 日付 | B7: 曜日 | C7: 作業時刻 | F7: 休憩等 除外時間 | G7: 作業時間数 | H7: 時給単価 | I7: 日額給与 | J7: 作業内容
B8: =IF(人件費個別明細表22[[#This Row],[列1]]="", "", TEXT(人件費個別明細表22[[#This Row],[列1]],"aaaa")) | D8: ～ | G8: =IF(人件費個別明細表22[[#This Row],[列2]]="","",MIN(IF((人件費個別明細表22[[#This Row],[列4]]-人件費個別明細表22[[#This Row],[列2]]-人件費個別明細表22[[#This Row],[列5]])>0,FLOOR((人件費個別明細表22[[#This Row],[列4]]-人件費個別明細表22[[#This Row],[列2]]-人件費個別明細表22[[#This Row],[列5]]),"0:30"),""),"8:00")) | I8: =IF(G8="","",IF(人件費個別明細表22[[#This Row],[列6]]*24*人件費個別明細表22[[#This Row],[列10]]>10000,10000,人件費個別明細表22[[#This Row],[列6]]*24*人件費個別明細表22[[#This Row],[列10]]))
B9: =IF(人件費個別明細表22[[#This Row],[列1]]="", "", TEXT(人件費個別明細表22[[#This Row],[列1]],"aaaa")) | D9: ～ | G9: =IF(人件費個別明細表22[[#This Row],[列2]]="","",MIN(IF((人件費個別明細表22[[#This Row],[列4]]-人件費個別明細表22[[#This Row],[列2]]-人件費個別明細表22[[#This Row],[列5]])>0,FLOOR((人件費個別明細表22[[#This Row],[列4]]-人件費個別明細表22[[#This Row],[列2]]-人件費個別明細表22[[#This Row],[列5]]),"0:30"),""),"8:00")) | I9: =IF(G9="","",IF(人件費個別明細表22[[#This Row],[列6]]*24*人件費個別明細表22[[#This Row],[列10]]>10000,10000,人件費個別明細表22[[#This Row],[列6]]*24*人件費個別明細表22[[#This Row],[列10]]))
B10: =IF(人件費個別明細表22[[#This Row],[列1]]="", "", TEXT(人件費個別明細表22[[#This Row],[列1]],"aaaa")) | D10: ～ | G10: =IF(人件費個別明細表22[[#This Row],[列2]]="","",MIN(IF((人件費個別明細表22[[#This Row],[列4]]-人件費個別明細表22[[#This Row],[列2]]-人件費個別明細表22[[#This Row],[列5]])>0,FLOOR((人件費個別明細表22[[#This Row],[列4]]-人件費個別明細表22[[#This Row],[列2]]-人件費個別明細表22[[#This Row],[列5]]),"0:30"),""),"8:00")) | I10: =IF(G10="","",IF(人件費個別明細表22[[#This Row],[列6]]*24*人件費個別明細表22[[#This Row],[列10]]>10000,10000,人件費個別明細表22[[#This Row],[列6]]*24*人件費個別明細表22[[#This Row],[列10]]))
B11: =IF(人件費個別明細表22[[#This Row],[列1]]="", "", TEXT(人件費個別明細表22[[#This Row],[列1]],"aaaa")) | D11: ～ | G11: =IF(人件費個別明細表22[[#This Row],[列2]]="","",MIN(IF((人件費個別明細表22[[#This Row],[列4]]-人件費個別明細表22[[#This Row],[列2]]-人件費個別明細表22[[#This Row],[列5]])>0,FLOOR((人件費個別明細表22[[#This Row],[列4]]-人件費個別明細表22[[#This Row],[列2]]-人件費個別明細表22[[#This Row],[列5]]),"0:30"),""),"8:00")) | I11: =IF(G11="","",IF(人件費個別明細表22[[#This Row],[列6]]*24*人件費個別明細表22[[#This Row],[列10]]>10000,10000,人件費個別明細表22[[#This Row],[列6]]*24*人件費個別明細表22[[#This Row],[列10]]))
B12: =IF(人件費個別明細表22[[#This Row],[列1]]="", "", TEXT(人件費個別明細表22[[#This Row],[列1]],"aaaa")) | D12: ～ | G12: =IF(人件費個別明細表22[[#This Row],[列2]]="","",MIN(IF((人件費個別明細表22[[#This Row],[列4]]-人件費個別明細表22[[#This Row],[列2]]-人件費個別明細表22[[#This Row],[列5]])>0,FLOOR((人件費個別明細表22[[#This Row],[列4]]-人件費個別明細表22[[#This Row],[列2]]-人件費個別明細表22[[#This Row],[列5]]),"0:30"),""),"8:00")) | I12: =IF(G12="","",IF(人件費個別明細表22[[#This Row],[列6]]*24*人件費個別明細表22[[#This Row],[列10]]>10000,10000,人件費個別明細表22[[#This Row],[列6]]*24*人件費個別明細表22[[#This Row],[列10]]))
B13: =IF(人件費個別明細表22[[#This Row],[列1]]="", "", TEXT(人件費個別明細表22[[#This Row],[列1]],"aaaa")) | D13: ～ | G13: =IF(人件費個別明細表22[[#This Row],[列2]]="","",MIN(IF((人件費個別明細表22[[#This Row],[列4]]-人件費個別明細表22[[#This Row],[列2]]-人件費個別明細表22[[#This Row],[列5]])>0,FLOOR((人件費個別明細表22[[#This Row],[列4]]-人件費個別明細表22[[#This Row],[列2]]-人件費個別明細表22[[#This Row],[列5]]),"0:30"),""),"8:00")) | I13: =IF(G13="","",IF(人件費個別明細表22[[#This Row],[列6]]*24*人件費個別明細表22[[#This Row],[列10]]>10000,10000,人件費個別明細表22[[#This Row],[列6]]*24*人件費個別明細表22[[#This Row],[列10]]))
B14: =IF(人件費個別明細表22[[#This Row],[列1]]="", "", TEXT(人件費個別明細表22[[#This Row],[列1]],"aaaa")) | D14: ～ | G14: =IF(人件費個別明細表22[[#This Row],[列2]]="","",MIN(IF((人件費個別明細表22[[#This Row],[列4]]-人件費個別明細表22[[#This Row],[列2]]-人件費個別明細表22[[#This Row],[列5]])>0,FLOOR((人件費個別明細表22[[#This Row],[列4]]-人件費個別明細表22[[#This Row],[列2]]-人件費個別明細表22[[#This Row],[列5]]),"0:30"),""),"8:00")) | I14: =IF(G14="","",IF(人件費個別明細表22[[#This Row],[列6]]*24*人件費個別明細表22[[#This Row],[列10]]>10000,10000,人件費個別明細表22[[#This Row],[列6]]*24*人件費個別明細表22[[#This Row],[列10]]))
B15: =IF(人件費個別明細表22[[#This Row],[列1]]="", "", TEXT(人件費個別明細表22[[#This Row],[列1]],"aaaa")) | D15: ～ | G15: =IF(人件費個別明細表22[[#This Row],[列2]]="","",MIN(IF((人件費個別明細表22[[#This Row],[列4]]-人件費個別明細表22[[#This Row],[列2]]-人件費個別明細表22[[#This Row],[列5]])>0,FLOOR((人件費個別明細表22[[#This Row],[列4]]-人件費個別明細表22[[#This Row],[列2]]-人件費個別明細表22[[#This Row],[列5]]),"0:30"),""),"8:00")) | I15: =IF(G15="","",IF(人件費個別明細表22[[#This Row],[列6]]*24*人件費個別明細表22[[#This Row],[列10]]>10000,10000,人件費個別明細表22[[#This Row],[列6]]*24*人件費個別明細表22[[#This Row],[列10]]))
B16: =IF(人件費個別明細表22[[#This Row],[列1]]="", "", TEXT(人件費個別明細表22[[#This Row],[列1]],"aaaa")) | D16: ～ | G16: =IF(人件費個別明細表22[[#This Row],[列2]]="","",MIN(IF((人件費個別明細表22[[#This Row],[列4]]-人件費個別明細表22[[#This Row],[列2]]-人件費個別明細表22[[#This Row],[列5]])>0,FLOOR((人件費個別明細表22[[#This Row],[列4]]-人件費個別明細表22[[#This Row],[列2]]-人件費個別明細表22[[#This Row],[列5]]),"0:30"),""),"8:00")) | I16: =IF(G16="","",IF(人件費個別明細表22[[#This Row],[列6]]*24*人件費個別明細表22[[#This Row],[列10]]>10000,10000,人件費個別明細表22[[#This Row],[列6]]*24*人件費個別明細表22[[#This Row],[列10]]))
B17: =IF(人件費個別明細表22[[#This Row],[列1]]="", "", TEXT(人件費個別明細表22[[#This Row],[列1]],"aaaa")) | D17: ～ | G17: =IF(人件費個別明細表22[[#This Row],[列2]]="","",MIN(IF((人件費個別明細表22[[#This Row],[列4]]-人件費個別明細表22[[#This Row],[列2]]-人件費個別明細表22[[#This Row],[列5]])>0,FLOOR((人件費個別明細表22[[#This Row],[列4]]-人件費個別明細表22[[#This Row],[列2]]-人件費個別明細表22[[#This Row],[列5]]),"0:30"),""),"8:00")) | I17: =IF(G17="","",IF(人件費個別明細表22[[#This Row],[列6]]*24*人件費個別明細表22[[#This Row],[列10]]>10000,10000,人件費個別明細表22[[#This Row],[列6]]*24*人件費個別明細表22[[#This Row],[列10]]))
B18: =IF(人件費個別明細表22[[#This Row],[列1]]="", "", TEXT(人件費個別明細表22[[#This Row],[列1]],"aaaa")) | D18: ～ | G18: =IF(人件費個別明細表22[[#This Row],[列2]]="","",MIN(IF((人件費個別明細表22[[#This Row],[列4]]-人件費個別明細表22[[#This Row],[列2]]-人件費個別明細表22[[#This Row],[列5]])>0,FLOOR((人件費個別明細表22[[#This Row],[列4]]-人件費個別明細表22[[#This Row],[列2]]-人件費個別明細表22[[#This Row],[列5]]),"0:30"),""),"8:00")) | I18: =IF(G18="","",IF(人件費個別明細表22[[#This Row],[列6]]*24*人件費個別明細表22[[#This Row],[列10]]>10000,10000,人件費個別明細表22[[#This Row],[列6]]*24*人件費個別明細表22[[#This Row],[列10]]))
B19: =IF(人件費個別明細表22[[#This Row],[列1]]="", "", TEXT(人件費個別明細表22[[#This Row],[列1]],"aaaa")) | D19: ～ | G19: =IF(人件費個別明細表22[[#This Row],[列2]]="","",MIN(IF((人件費個別明細表22[[#This Row],[列4]]-人件費個別明細表22[[#This Row],[列2]]-人件費個別明細表22[[#This Row],[列5]])>0,FLOOR((人件費個別明細表22[[#This Row],[列4]]-人件費個別明細表22[[#This Row],[列2]]-人件費個別明細表22[[#This Row],[列5]]),"0:30"),""),"8:00")) | I19: =IF(G19="","",IF(人件費個別明細表22[[#This Row],[列6]]*24*人件費個別明細表22[[#This Row],[列10]]>10000,10000,人件費個別明細表22[[#This Row],[列6]]*24*人件費個別明細表22[[#This Row],[列10]]))
... B30: =IF(人件費個別明細表22[[#This Row],[列1]]="", "", TEXT(人件費個別明細表22[[#This Row],[列1]],"aaaa")) | D30: ～ | G30: =IF(人件費個別明細表22[[#This Row],[列2]]="","",MIN(IF((人件費個別明細表22[[#This Row],[列4]]-人件費個別明細表22[[#This Row],[列2]]-人件費個別明細表22[[#This Row],[列5]])>0,FLOOR((人件費個別明細表22[[#This Row],[列4]]-人件費個別明細表22[[#This Row],[列2]]-人件費個別明細表22[[#This Row],[列5]]),"0:30"),""),"8:00")) | I30: =IF(G30="","",IF(人件費個別明細表22[[#This Row],[列6]]*24*人件費個別明細表22[[#This Row],[列10]]>10000,10000,人件費個別明細表22[[#This Row],[列6]]*24*人件費個別明細表22[[#This Row],[列10]]))
A31: 合計 | C31: =SUBTOTAL(102,人件費個別明細表22[列2]) -> 0 | D31: 日 | G31: =SUBTOTAL(109,人件費個別明細表22[列6]) -> 0 | I31: =INT(SUBTOTAL(109,人件費個別明細表22[列9])) -> 0

Sheet R8年5月
A1: 様式第６号（別紙４－２）
A2: 作業日報兼直接人件費個別明細表
A3: 年月 | B3: =MID(CELL("filename",$A$3),FIND("]",CELL("filename",$A$3))+1,31) -> R8年5月
A4: 企業名 | B4: ='R8年4月'!B4:H4 -> 0
A5: 従事者氏名 | B5: ='R8年4月'!B5:H5 -> 0
A6: （注）30分単位で記入してください。
A7: 日付 | B7: 曜日 | C7: 作業時刻 | F7: 休憩等 除外時間 | G7: 作業時間数 | H7: 時給単価 | I7: 日額給与 | J7: 作業内容
B8: =IF(人件費個別明細表2[[#This Row],[列1]]="", "", TEXT(人件費個別明細表2[[#This Row],[列1]],"aaaa")) | D8: ～ | G8: =IF(人件費個別明細表2[[#This Row],[列2]]="","",MIN(IF((人件費個別明細表2[[#This Row],[列4]]-人件費個別明細表2[[#This Row],[列2]]-人件費個別明細表2[[#This Row],[列5]])>0,FLOOR((人件費個別明細表2[[#This Row],[列4]]-人件費個別明細表2[[#This Row],[列2]]-人件費個別明細表2[[#This Row],[列5]]),"0:30"),""),"8:00")) | I8: =IF(G8="","",IF(人件費個別明細表2[[#This Row],[列6]]*24*人件費個別明細表2[[#This Row],[列10]]>10000,10000,人件費個別明細表2[[#This Row],[列6]]*24*人件費個別明細表2[[#This Row],[列10]]))
B9: =IF(人件費個別明細表2[[#This Row],[列1]]="", "", TEXT(人件費個別明細表2[[#This Row],[列1]],"aaaa")) | D9: ～ | G9: =IF(人件費個別明細表2[[#This Row],[列2]]="","",MIN(IF((人件費個別明細表2[[#This Row],[列4]]-人件費個別明細表2[[#This Row],[列2]]-人件費個別明細表2[[#This Row],[列5]])>0,FLOOR((人件費個別明細表2[[#This Row],[列4]]-人件費個別明細表2[[#This Row],[列2]]-人件費個別明細表2[[#This Row],[列5]]),"0:30"),""),"8:00")) | I9: =IF(G9="","",IF(人件費個別明細表2[[#This Row],[列6]]*24*人件費個別明細表2[[#This Row],[列10]]>10000,10000,人件費個別明細表2[[#This Row],[列6]]*24*人件費個別明細表2[[#This Row],[列10]]))
B10: =IF(人件費個別明細表2[[#This Row],[列1]]="", "", TEXT(人件費個別明細表2[[#This Row],[列1]],"aaaa")) | D10: ～ | G10: =IF(人件費個別明細表2[[#This Row],[列2]]="","",MIN(IF((人件費個別明細表2[[#This Row],[列4]]-人件費個別明細表2[[#This Row],[列2]]-人件費個別明細表2[[#This Row],[列5]])>0,FLOOR((人件費個別明細表2[[#This Row],[列4]]-人件費個別明細表2[[#This Row],[列2]]-人件費個別明細表2[[#This Row],[列5]]),"0:30"),""),"8:00")) | I10: =IF(G10="","",IF(人件費個別明細表2[[#This Row],[列6]]*24*人件費個別明細表2[[#This Row],[列10]]>10000,10000,人件費個別明細表2[[#This Row],[列6]]*24*人件費個別明細表2[[#This Row],[列10]]))
B11: =IF(人件費個別明細表2[[#This Row],[列1]]="", "", TEXT(人件費個別明細表2[[#This Row],[列1]],"aaaa")) | D11: ～ | G11: =IF(人件費個別明細表2[[#This Row],[列2]]="","",MIN(IF((人件費個別明細表2[[#This Row],[列4]]-人件費個別明細表2[[#This Row],[列2]]-人件費個別明細表2[[#This Row],[列5]])>0,FLOOR((人件費個別明細表2[[#This Row],[列4]]-人件費個別明細表2[[#This Row],[列2]]-人件費個別明細表2[[#This Row],[列5]]),"0:30"),""),"8:00")) | I11: =IF(G11="","",IF(人件費個別明細表2[[#This Row],[列6]]*24*人件費個別明細表2[[#This Row],[列10]]>10000,10000,人件費個別明細表2[[#This Row],[列6]]*24*人件費個別明細表2[[#This Row],[列10]]))
B12: =IF(人件費個別明細表2[[#This Row],[列1]]="", "", TEXT(人件費個別明細表2[[#This Row],[列1]],"aaaa")) | D12: ～ | G12: =IF(人件費個別明細表2[[#This Row],[列2]]="","",MIN(IF((人件費個別明細表2[[#This Row],[列4]]-人件費個別明細表2[[#This Row],[列2]]-人件費個別明細表2[[#This Row],[列5]])>0,FLOOR((人件費個別明細表2[[#This Row],[列4]]-人件費個別明細表2[[#This Row],[列2]]-人件費個別明細表2[[#This Row],[列5]]),"0:30"),""),"8:00")) | I12: =IF(G12="","",IF(人件費個別明細表2[[#This Row],[列6]]*24*人件費個別明細表2[[#This Row],[列10]]>10000,10000,人件費個別明細表2[[#This Row],[列6]]*24*人件費個別明細表2[[#This Row],[列10]]))
B13: =IF(人件費個別明細表2[[#This Row],[列1]]="", "", TEXT(人件費個別明細表2[[#This Row],[列1]],"aaaa")) | D13: ～ | G13: =IF(人件費個別明細表2[[#This Row],[列2]]="","",MIN(IF((人件費個別明細表2[[#This Row],[列4]]-人件費個別明細表2[[#This Row],[列2]]-人件費個別明細表2[[#This Row],[列5]])>0,FLOOR((人件費個別明細表2[[#This Row],[列4]]-人件費個別明細表2[[#This Row],[列2]]-人件費個別明細表2[[#This Row],[列5]]),"0:30"),""),"8:00")) | I13: =IF(G13="","",IF(人件費個別明細表2[[#This Row],[列6]]*24*人件費個別明細表2[[#This Row],[列10]]>10000,10000,人件費個別明細表2[[#This Row],[列6]]*24*人件費個別明細表2[[#This Row],[列10]]))
B14: =IF(人件費個別明細表2[[#This Row],[列1]]="", "", TEXT(人件費個別明細表2[[#This Row],[列1]],"aaaa")) | D14: ～ | G14: =IF(人件費個別明細表2[[#This Row],[列2]]="","",MIN(IF((人件費個別明細表2[[#This Row],[列4]]-人件費個別明細表2[[#This Row],[列2]]-人件費個別明細表2[[#This Row],[列5]])>0,FLOOR((人件費個別明細表2[[#This Row],[列4]]-人件費個別明細表2[[#This Row],[列2]]-人件費個別明細表2[[#This Row],[列5]]),"0:30"),""),"8:00")) | I14: =IF(G14="","",IF(人件費個別明細表2[[#This Row],[列6]]*24*人件費個別明細表2[[#This Row],[列10]]>10000,10000,人件費個別明細表2[[#This Row],[列6]]*24*人件費個別明細表2[[#This Row],[列10]]))
B15: =IF(人件費個別明細表2[[#This Row],[列1]]="", "", TEXT(人件費個別明細表2[[#This Row],[列1]],"aaaa")) | D15: ～ | G15: =IF(人件費個別明細表2[[#This Row],[列2]]="","",MIN(IF((人件費個別明細表2[[#This Row],[列4]]-人件費個別明細表2[[#This Row],[列2]]-人件費個別明細表2[[#This Row],[列5]])>0,FLOOR((人件費個別明細表2[[#This Row],[列4]]-人件費個別明細表2[[#This Row],[列2]]-人件費個別明細表2[[#This Row],[列5]]),"0:30"),""),"8:00")) | I15: =IF(G15="","",IF(人件費個別明細表2[[#This Row],[列6]]*24*人件費個別明細表2[[#This Row],[列10]]>10000,10000,人件費個別明細表2[[#This Row],[列6]]*24*人件費個別明細表2[[#This Row],[列10]]))
B16: =IF(人件費個別明細表2[[#This Row],[列1]]="", "", TEXT(人件費個別明細表2[[#This Row],[列1]],"aaaa")) | D16: ～ | G16: =IF(人件費個別明細表2[[#This Row],[列2]]="","",MIN(IF((人件費個別明細表2[[#This Row],[列4]]-人件費個別明細表2[[#This Row],[列2]]-人件費個別明細表2[[#This Row],[列5]])>0,FLOOR((人件費個別明細表2[[#This Row],[列4]]-人件費個別明細表2[[#This Row],[列2]]-人件費個別明細表2[[#This Row],[列5]]),"0:30"),""),"8:00")) | I16: =IF(G16="","",IF(人件費個別明細表2[[#This Row],[列6]]*24*人件費個別明細表2[[#This Row],[列10]]>10000,10000,人件費個別明細表2[[#This Row],[列6]]*24*人件費個別明細表2[[#This Row],[列10]]))
B17: =IF(人件費個別明細表2[[#This Row],[列1]]="", "", TEXT(人件費個別明細表2[[#This Row],[列1]],"aaaa")) | D17: ～ | G17: =IF(人件費個別明細表2[[#This Row],[列2]]="","",MIN(IF((人件費個別明細表2[[#This Row],[列4]]-人件費個別明細表2[[#This Row],[列2]]-人件費個別明細表2[[#This Row],[列5]])>0,FLOOR((人件費個別明細表2[[#This Row],[列4]]-人件費個別明細表2[[#This Row],[列2]]-人件費個別明細表2[[#This Row],[列5]]),"0:30"),""),"8:00")) | I17: =IF(G17="","",IF(人件費個別明細表2[[#This Row],[列6]]*24*人件費個別明細表2[[#This Row],[列10]]>10000,10000,人件費個別明細表2[[#This Row],[列6]]*24*人件費個別明細表2[[#This Row],[列10]]))
B18: =IF(人件費個別明細表2[[#This Row],[列1]]="", "", TEXT(人件費個別明細表2[[#This Row],[列1]],"aaaa")) | D18: ～ | G18: =IF(人件費個別明細表2[[#This Row],[列2]]="","",MIN(IF((人件費個別明細表2[[#This Row],[列4]]-人件費個別明細表2[[#This Row],[列2]]-人件費個別明細表2[[#This Row],[列5]])>0,FLOOR((人件費個別明細表2[[#This Row],[列4]]-人件費個別明細表2[[#This Row],[列2]]-人件費個別明細表2[[#This Row],[列5]]),"0:30"),""),"8:00")) | I18: =IF(G18="","",IF(人件費個別明細表2[[#This Row],[列6]]*24*人件費個別明細表2[[#This Row],[列10]]>10000,10000,人件費個別明細表2[[#This Row],[列6]]*24*人件費個別明細表2[[#This Row],[列10]]))
B19: =IF(人件費個別明細表2[[#This Row],[列1]]="", "", TEXT(人件費個別明細表2[[#This Row],[列1]],"aaaa")) | D19: ～ | G19: =IF(人件費個別明細表2[[#This Row],[列2]]="","",MIN(IF((人件費個別明細表2[[#This Row],[列4]]-人件費個別明細表2[[#This Row],[列2]]-人件費個別明細表2[[#This Row],[列5]])>0,FLOOR((人件費個別明細表2[[#This Row],[列4]]-人件費個別明細表2[[#This Row],[列2]]-人件費個別明細表2[[#This Row],[列5]]),"0:30"),""),"8:00")) | I19: =IF(G19="","",IF(人件費個別明細表2[[#This Row],[列6]]*24*人件費個別明細表2[[#This Row],[列10]]>10000,10000,人件費個別明細表2[[#This Row],[列6]]*24*人件費個別明細表2[[#This Row],[列10]]))
... B30: =IF(人件費個別明細表2[[#This Row],[列1]]="", "", TEXT(人件費個別明細表2[[#This Row],[列1]],"aaaa")) | D30: ～ | G30: =IF(人件費個別明細表2[[#This Row],[列2]]="","",MIN(IF((人件費個別明細表2[[#This Row],[列4]]-人件費個別明細表2[[#This Row],[列2]]-人件費個別明細表2[[#This Row],[列5]])>0,FLOOR((人件費個別明細表2[[#This Row],[列4]]-人件費個別明細表2[[#This Row],[列2]]-人件費個別明細表2[[#This Row],[列5]]),"0:30"),""),"8:00")) | I30: =IF(G30="","",IF(人件費個別明細表2[[#This Row],[列6]]*24*人件費個別明細表2[[#This Row],[列10]]>10000,10000,人件費個別明細表2[[#This Row],[列6]]*24*人件費個別明細表2[[#This Row],[列10]]))
A31: 合計 | C31: =SUBTOTAL(102,人件費個別明細表2[列2]) -> 0 | D31: 日 | G31: =SUBTOTAL(109,人件費個別明細表2[列6]) -> 0 | I31: =INT(SUBTOTAL(109,人件費個別明細表2[列9])) -> 0

Sheet R8年6月
A1: 様式第６号（別紙４－２）
A2: 作業日報兼直接人件費個別明細表
A3: 年月 | B3: =MID(CELL("filename",$A$3),FIND("]",CELL("filename",$A$3))+1,31) -> R8年6月
A4: 企業名 | B4: =集計!B3 -> 0
A5: 従事者氏名 | B5: =集計!B4 -> 0
A6: （注）30分単位で記入してください。
A7: 日付 | B7: 曜日 | C7: 作業時刻 | F7: 休憩等 除外時間 | G7: 作業時間数 | H7: 時給単価 | I7: 日額給与 | J7: 作業内容
B8: =IF(人件費個別明細表3[[#This Row],[列1]]="", "", TEXT(人件費個別明細表3[[#This Row],[列1]],"aaaa")) | D8: ～ | G8: =IF(人件費個別明細表3[[#This Row],[列2]]="","",MIN(IF((人件費個別明細表3[[#This Row],[列4]]-人件費個別明細表3[[#This Row],[列2]]-人件費個別明細表3[[#This Row],[列5]])>0,FLOOR((人件費個別明細表3[[#This Row],[列4]]-人件費個別明細表3[[#This Row],[列2]]-人件費個別明細表3[[#This Row],[列5]]),"0:30"),""),"8:00")) | I8: =IF(G8="","",IF(人件費個別明細表3[[#This Row],[列6]]*24*人件費個別明細表3[[#This Row],[列10]]>10000,10000,人件費個別明細表3[[#This Row],[列6]]*24*人件費個別明細表3[[#This Row],[列10]]))
B9: =IF(人件費個別明細表3[[#This Row],[列1]]="", "", TEXT(人件費個別明細表3[[#This Row],[列1]],"aaaa")) | D9: ～ | G9: =IF(人件費個別明細表3[[#This Row],[列2]]="","",MIN(IF((人件費個別明細表3[[#This Row],[列4]]-人件費個別明細表3[[#This Row],[列2]]-人件費個別明細表3[[#This Row],[列5]])>0,FLOOR((人件費個別明細表3[[#This Row],[列4]]-人件費個別明細表3[[#This Row],[列2]]-人件費個別明細表3[[#This Row],[列5]]),"0:30"),""),"8:00")) | I9: =IF(人件費個別明細表3[[#This Row],[列6]]="","",IF(人件費個別明細表3[[#This Row],[列6]]*24*人件費個別明細表3[[#This Row],[列10]]>10000,10000,人件費個別明細表3[[#This Row],[列6]]*24*人件費個別明細表3[[#This Row],[列10]]))
B10: =IF(人件費個別明細表3[[#This Row],[列1]]="", "", TEXT(人件費個別明細表3[[#This Row],[列1]],"aaaa")) | D10: ～ | G10: =IF(人件費個別明細表3[[#This Row],[列2]]="","",MIN(IF((人件費個別明細表3[[#This Row],[列4]]-人件費個別明細表3[[#This Row],[列2]]-人件費個別明細表3[[#This Row],[列5]])>0,FLOOR((人件費個別明細表3[[#This Row],[列4]]-人件費個別明細表3[[#This Row],[列2]]-人件費個別明細表3[[#This Row],[列5]]),"0:30"),""),"8:00")) | I10: =IF(人件費個別明細表3[[#This Row],[列6]]="","",IF(人件費個別明細表3[[#This Row],[列6]]*24*人件費個別明細表3[[#This Row],[列10]]>10000,10000,人件費個別明細表3[[#This Row],[列6]]*24*人件費個別明細表3[[#This Row],[列10]]))
B11: =IF(人件費個別明細表3[[#This Row],[列1]]="", "", TEXT(人件費個別明細表3[[#This Row],[列1]],"aaaa")) | D11: ～ | G11: =IF(人件費個別明細表3[[#This Row],[列2]]="","",MIN(IF((人件費個別明細表3[[#This Row],[列4]]-人件費個別明細表3[[#This Row],[列2]]-人件費個別明細表3[[#This Row],[列5]])>0,FLOOR((人件費個別明細表3[[#This Row],[列4]]-人件費個別明細表3[[#This Row],[列2]]-人件費個別明細表3[[#This Row],[列5]]),"0:30"),""),"8:00")) | I11: =IF(人件費個別明細表3[[#This Row],[列6]]="","",IF(人件費個別明細表3[[#This Row],[列6]]*24*人件費個別明細表3[[#This Row],[列10]]>10000,10000,人件費個別明細表3[[#This Row],[列6]]*24*人件費個別明細表3[[#This Row],[列10]]))
B12: =IF(人件費個別明細表3[[#This Row],[列1]]="", "", TEXT(人件費個別明細表3[[#This Row],[列1]],"aaaa")) | D12: ～ | G12: =IF(人件費個別明細表3[[#This Row],[列2]]="","",MIN(IF((人件費個別明細表3[[#This Row],[列4]]-人件費個別明細表3[[#This Row],[列2]]-人件費個別明細表3[[#This Row],[列5]])>0,FLOOR((人件費個別明細表3[[#This Row],[列4]]-人件費個別明細表3[[#This Row],[列2]]-人件費個別明細表3[[#This Row],[列5]]),"0:30"),""),"8:00")) | I12: =IF(人件費個別明細表3[[#This Row],[列6]]="","",IF(人件費個別明細表3[[#This Row],[列6]]*24*人件費個別明細表3[[#This Row],[列10]]>10000,10000,人件費個別明細表3[[#This Row],[列6]]*24*人件費個別明細表3[[#This Row],[列10]]))
B13: =IF(人件費個別明細表3[[#This Row],[列1]]="", "", TEXT(人件費個別明細表3[[#This Row],[列1]],"aaaa")) | D13: ～ | G13: =IF(人件費個別明細表3[[#This Row],[列2]]="","",MIN(IF((人件費個別明細表3[[#This Row],[列4]]-人件費個別明細表3[[#This Row],[列2]]-人件費個別明細表3[[#This Row],[列5]])>0,FLOOR((人件費個別明細表3[[#This Row],[列4]]-人件費個別明細表3[[#This Row],[列2]]-人件費個別明細表3[[#This Row],[列5]]),"0:30"),""),"8:00")) | I13: =IF(人件費個別明細表3[[#This Row],[列6]]="","",IF(人件費個別明細表3[[#This Row],[列6]]*24*人件費個別明細表3[[#This Row],[列10]]>10000,10000,人件費個別明細表3[[#This Row],[列6]]*24*人件費個別明細表3[[#This Row],[列10]]))
B14: =IF(人件費個別明細表3[[#This Row],[列1]]="", "", TEXT(人件費個別明細表3[[#This Row],[列1]],"aaaa")) | D14: ～ | G14: =IF(人件費個別明細表3[[#This Row],[列2]]="","",MIN(IF((人件費個別明細表3[[#This Row],[列4]]-人件費個別明細表3[[#This Row],[列2]]-人件費個別明細表3[[#This Row],[列5]])>0,FLOOR((人件費個別明細表3[[#This Row],[列4]]-人件費個別明細表3[[#This Row],[列2]]-人件費個別明細表3[[#This Row],[列5]]),"0:30"),""),"8:00")) | I14: =IF(人件費個別明細表3[[#This Row],[列6]]="","",IF(人件費個別明細表3[[#This Row],[列6]]*24*人件費個別明細表3[[#This Row],[列10]]>10000,10000,人件費個別明細表3[[#This Row],[列6]]*24*人件費個別明細表3[[#This Row],[列10]]))
B15: =IF(人件費個別明細表3[[#This Row],[列1]]="", "", TEXT(人件費個別明細表3[[#This Row],[列1]],"aaaa")) | D15: ～ | G15: =IF(人件費個別明細表3[[#This Row],[列2]]="","",MIN(IF((人件費個別明細表3[[#This Row],[列4]]-人件費個別明細表3[[#This Row],[列2]]-人件費個別明細表3[[#This Row],[列5]])>0,FLOOR((人件費個別明細表3[[#This Row],[列4]]-人件費個別明細表3[[#This Row],[列2]]-人件費個別明細表3[[#This Row],[列5]]),"0:30"),""),"8:00")) | I15: =IF(人件費個別明細表3[[#This Row],[列6]]="","",IF(人件費個別明細表3[[#This Row],[列6]]*24*人件費個別明細表3[[#This Row],[列10]]>10000,10000,人件費個別明細表3[[#This Row],[列6]]*24*人件費個別明細表3[[#This Row],[列10]]))
B16: =IF(人件費個別明細表3[[#This Row],[列1]]="", "", TEXT(人件費個別明細表3[[#This Row],[列1]],"aaaa")) | D16: ～ | G16: =IF(人件費個別明細表3[[#This Row],[列2]]="","",MIN(IF((人件費個別明細表3[[#This Row],[列4]]-人件費個別明細表3[[#This Row],[列2]]-人件費個別明細表3[[#This Row],[列5]])>0,FLOOR((人件費個別明細表3[[#This Row],[列4]]-人件費個別明細表3[[#This Row],[列2]]-人件費個別明細表3[[#This Row],[列5]]),"0:30"),""),"8:00")) | I16: =IF(人件費個別明細表3[[#This Row],[列6]]="","",IF(人件費個別明細表3[[#This Row],[列6]]*24*人件費個別明細表3[[#This Row],[列10]]>10000,10000,人件費個別明細表3[[#This Row],[列6]]*24*人件費個別明細表3[[#This Row],[列10]]))
B17: =IF(人件費個別明細表3[[#This Row],[列1]]="", "", TEXT(人件費個別明細表3[[#This Row],[列1]],"aaaa")) | D17: ～ | G17: =IF(人件費個別明細表3[[#This Row],[列2]]="","",MIN(IF((人件費個別明細表3[[#This Row],[列4]]-人件費個別明細表3[[#This Row],[列2]]-人件費個別明細表3[[#This Row],[列5]])>0,FLOOR((人件費個別明細表3[[#This Row],[列4]]-人件費個別明細表3[[#This Row],[列2]]-人件費個別明細表3[[#This Row],[列5]]),"0:30"),""),"8:00")) | I17: =IF(人件費個別明細表3[[#This Row],[列6]]="","",IF(人件費個別明細表3[[#This Row],[列6]]*24*人件費個別明細表3[[#This Row],[列10]]>10000,10000,人件費個別明細表3[[#This Row],[列6]]*24*人件費個別明細表3[[#This Row],[列10]]))
B18: =IF(人件費個別明細表3[[#This Row],[列1]]="", "", TEXT(人件費個別明細表3[[#This Row],[列1]],"aaaa")) | D18: ～ | G18: =IF(人件費個別明細表3[[#This Row],[列2]]="","",MIN(IF((人件費個別明細表3[[#This Row],[列4]]-人件費個別明細表3[[#This Row],[列2]]-人件費個別明細表3[[#This Row],[列5]])>0,FLOOR((人件費個別明細表3[[#This Row],[列4]]-人件費個別明細表3[[#This Row],[列2]]-人件費個別明細表3[[#This Row],[列5]]),"0:30"),""),"8:00")) | I18: =IF(人件費個別明細表3[[#This Row],[列6]]="","",IF(人件費個別明細表3[[#This Row],[列6]]*24*人件費個別明細表3[[#This Row],[列10]]>10000,10000,人件費個別明細表3[[#This Row],[列6]]*24*人件費個別明細表3[[#This Row],[列10]]))
B19: =IF(人件費個別明細表3[[#This Row],[列1]]="", "", TEXT(人件費個別明細表3[[#This Row],[列1]],"aaaa")) | D19: ～ | G19: =IF(人件費個別明細表3[[#This Row],[列2]]="","",MIN(IF((人件費個別明細表3[[#This Row],[列4]]-人件費個別明細表3[[#This Row],[列2]]-人件費個別明細表3[[#This Row],[列5]])>0,FLOOR((人件費個別明細表3[[#This Row],[列4]]-人件費個別明細表3[[#This Row],[列2]]-人件費個別明細表3[[#This Row],[列5]]),"0:30"),""),"8:00")) | I19: =IF(人件費個別明細表3[[#This Row],[列6]]="","",IF(人件費個別明細表3[[#This Row],[列6]]*24*人件費個別明細表3[[#This Row],[列10]]>10000,10000,人件費個別明細表3[[#This Row],[列6]]*24*人件費個別明細表3[[#This Row],[列10]]))
B20: =IF(人件費個別明細表3[[#This Row],[列1]]="", "", TEXT(人件費個別明細表3[[#This Row],[列1]],"aaaa")) | D20: ～ | G20: =IF(人件費個別明細表3[[#This Row],[列2]]="","",MIN(IF((人件費個別明細表3[[#This Row],[列4]]-人件費個別明細表3[[#This Row],[列2]]-人件費個別明細表3[[#This Row],[列5]])>0,FLOOR((人件費個別明細表3[[#This Row],[列4]]-人件費個別明細表3[[#This Row],[列2]]-人件費個別明細表3[[#This Row],[列5]]),"0:30"),""),"8:00")) | I20: =IF(人件費個別明細表3[[#This Row],[列6]]="","",IF(人件費個別明細表3[[#This Row],[列6]]*24*人件費個別明細表3[[#This Row],[列10]]>10000,10000,人件費個別明細表3[[#This Row],[列6]]*24*人件費個別明細表3[[#This Row],[列10]]))
... B30: =IF(人件費個別明細表3[[#This Row],[列1]]="", "", TEXT(人件費個別明細表3[[#This Row],[列1]],"aaaa")) | D30: ～ | G30: =IF(人件費個別明細表3[[#This Row],[列2]]="","",MIN(IF((人件費個別明細表3[[#This Row],[列4]]-人件費個別明細表3[[#This Row],[列2]]-人件費個別明細表3[[#This Row],[列5]])>0,FLOOR((人件費個別明細表3[[#This Row],[列4]]-人件費個別明細表3[[#This Row],[列2]]-人件費個別明細表3[[#This Row],[列5]]),"0:30"),""),"8:00")) | I30: =IF(人件費個別明細表3[[#This Row],[列6]]="","",IF(人件費個別明細表3[[#This Row],[列6]]*24*人件費個別明細表3[[#This Row],[列10]]>10000,10000,人件費個別明細表3[[#This Row],[列6]]*24*人件費個別明細表3[[#This Row],[列10]]))
A31: 合計 | C31: =SUBTOTAL(102,人件費個別明細表3[列2]) -> 0 | D31: 日 | G31: =SUBTOTAL(109,人件費個別明細表3[列6]) -> 0 | I31: =INT(SUBTOTAL(109,人件費個別明細表3[列9])) -> 0

Sheet R8年7月
A1: 様式第６号（別紙４－２）
A2: 作業日報兼直接人件費個別明細表
A3: 年月 | B3: =MID(CELL("filename",$A$3),FIND("]",CELL("filename",$A$3))+1,31) -> R8年7月
A4: 企業名 | B4: =集計!B3 -> 0
A5: 従事者氏名 | B5: =集計!B4 -> 0
A6: （注）30分単位で記入してください。
A7: 日付 | B7: 曜日 | C7: 作業時刻 | F7: 休憩等 除外時間 | G7: 作業時間数 | H7: 時給単価 | I7: 日額給与 | J7: 作業内容
B8: =IF(人件費個別明細表4[[#This Row],[列1]]="", "", TEXT(人件費個別明細表4[[#This Row],[列1]],"aaaa")) | D8: ～ | G8: =IF(人件費個別明細表4[[#This Row],[列2]]="","",MIN(IF((人件費個別明細表4[[#This Row],[列4]]-人件費個別明細表4[[#This Row],[列2]]-人件費個別明細表4[[#This Row],[列5]])>0,FLOOR((人件費個別明細表4[[#This Row],[列4]]-人件費個別明細表4[[#This Row],[列2]]-人件費個別明細表4[[#This Row],[列5]]),"0:30"),""),"8:00")) | I8: =IF(人件費個別明細表4[[#This Row],[列6]]="","",IF(人件費個別明細表4[[#This Row],[列6]]*24*人件費個別明細表4[[#This Row],[列10]]>10000,10000,人件費個別明細表4[[#This Row],[列6]]*24*人件費個別明細表4[[#This Row],[列10]]))
B9: =IF(人件費個別明細表4[[#This Row],[列1]]="", "", TEXT(人件費個別明細表4[[#This Row],[列1]],"aaaa")) | D9: ～ | G9: =IF(人件費個別明細表4[[#This Row],[列2]]="","",MIN(IF((人件費個別明細表4[[#This Row],[列4]]-人件費個別明細表4[[#This Row],[列2]]-人件費個別明細表4[[#This Row],[列5]])>0,FLOOR((人件費個別明細表4[[#This Row],[列4]]-人件費個別明細表4[[#This Row],[列2]]-人件費個別明細表4[[#This Row],[列5]]),"0:30"),""),"8:00")) | I9: =IF(人件費個別明細表4[[#This Row],[列6]]="","",IF(人件費個別明細表4[[#This Row],[列6]]*24*人件費個別明細表4[[#This Row],[列10]]>10000,10000,人件費個別明細表4[[#This Row],[列6]]*24*人件費個別明細表4[[#This Row],[列10]]))
B10: =IF(人件費個別明細表4[[#This Row],[列1]]="", "", TEXT(人件費個別明細表4[[#This Row],[列1]],"aaaa")) | D10: ～ | G10: =IF(人件費個別明細表4[[#This Row],[列2]]="","",MIN(IF((人件費個別明細表4[[#This Row],[列4]]-人件費個別明細表4[[#This Row],[列2]]-人件費個別明細表4[[#This Row],[列5]])>0,FLOOR((人件費個別明細表4[[#This Row],[列4]]-人件費個別明細表4[[#This Row],[列2]]-人件費個別明細表4[[#This Row],[列5]]),"0:30"),""),"8:00")) | I10: =IF(人件費個別明細表4[[#This Row],[列6]]="","",IF(人件費個別明細表4[[#This Row],[列6]]*24*人件費個別明細表4[[#This Row],[列10]]>10000,10000,人件費個別明細表4[[#This Row],[列6]]*24*人件費個別明細表4[[#This Row],[列10]]))
B11: =IF(人件費個別明細表4[[#This Row],[列1]]="", "", TEXT(人件費個別明細表4[[#This Row],[列1]],"aaaa")) | D11: ～ | G11: =IF(人件費個別明細表4[[#This Row],[列2]]="","",MIN(IF((人件費個別明細表4[[#This Row],[列4]]-人件費個別明細表4[[#This Row],[列2]]-人件費個別明細表4[[#This Row],[列5]])>0,FLOOR((人件費個別明細表4[[#This Row],[列4]]-人件費個別明細表4[[#This Row],[列2]]-人件費個別明細表4[[#This Row],[列5]]),"0:30"),""),"8:00")) | I11: =IF(人件費個別明細表4[[#This Row],[列6]]="","",IF(人件費個別明細表4[[#This Row],[列6]]*24*人件費個別明細表4[[#This Row],[列10]]>10000,10000,人件費個別明細表4[[#This Row],[列6]]*24*人件費個別明細表4[[#This Row],[列10]]))
B12: =IF(人件費個別明細表4[[#This Row],[列1]]="", "", TEXT(人件費個別明細表4[[#This Row],[列1]],"aaaa")) | D12: ～ | G12: =IF(人件費個別明細表4[[#This Row],[列2]]="","",MIN(IF((人件費個別明細表4[[#This Row],[列4]]-人件費個別明細表4[[#This Row],[列2]]-人件費個別明細表4[[#This Row],[列5]])>0,FLOOR((人件費個別明細表4[[#This Row],[列4]]-人件費個別明細表4[[#This Row],[列2]]-人件費個別明細表4[[#This Row],[列5]]),"0:30"),""),"8:00")) | I12: =IF(人件費個別明細表4[[#This Row],[列6]]="","",IF(人件費個別明細表4[[#This Row],[列6]]*24*人件費個別明細表4[[#This Row],[列10]]>10000,10000,人件費個別明細表4[[#This Row],[列6]]*24*人件費個別明細表4[[#This Row],[列10]]))
B13: =IF(人件費個別明細表4[[#This Row],[列1]]="", "", TEXT(人件費個別明細表4[[#This Row],[列1]],"aaaa")) | D13: ～ | G13: =IF(人件費個別明細表4[[#This Row],[列2]]="","",MIN(IF((人件費個別明細表4[[#This Row],[列4]]-人件費個別明細表4[[#This Row],[列2]]-人件費個別明細表4[[#This Row],[列5]])>0,FLOOR((人件費個別明細表4[[#This Row],[列4]]-人件費個別明細表4[[#This Row],[列2]]-人件費個別明細表4[[#This Row],[列5]]),"0:30"),""),"8:00")) | I13: =IF(人件費個別明細表4[[#This Row],[列6]]="","",IF(人件費個別明細表4[[#This Row],[列6]]*24*人件費個別明細表4[[#This Row],[列10]]>10000,10000,人件費個別明細表4[[#This Row],[列6]]*24*人件費個別明細表4[[#This Row],[列10]]))
B14: =IF(人件費個別明細表4[[#This Row],[列1]]="", "", TEXT(人件費個別明細表4[[#This Row],[列1]],"aaaa")) | D14: ～ | G14: =IF(人件費個別明細表4[[#This Row],[列2]]="","",MIN(IF((人件費個別明細表4[[#This Row],[列4]]-人件費個別明細表4[[#This Row],[列2]]-人件費個別明細表4[[#This Row],[列5]])>0,FLOOR((人件費個別明細表4[[#This Row],[列4]]-人件費個別明細表4[[#This Row],[列2]]-人件費個別明細表4[[#This Row],[列5]]),"0:30"),""),"8:00")) | I14: =IF(人件費個別明細表4[[#This Row],[列6]]="","",IF(人件費個別明細表4[[#This Row],[列6]]*24*人件費個別明細表4[[#This Row],[列10]]>10000,10000,人件費個別明細表4[[#This Row],[列6]]*24*人件費個別明細表4[[#This Row],[列10]]))
B15: =IF(人件費個別明細表4[[#This Row],[列1]]="", "", TEXT(人件費個別明細表4[[#This Row],[列1]],"aaaa")) | D15: ～ | G15: =IF(人件費個別明細表4[[#This Row],[列2]]="","",MIN(IF((人件費個別明細表4[[#This Row],[列4]]-人件費個別明細表4[[#This Row],[列2]]-人件費個別明細表4[[#This Row],[列5]])>0,FLOOR((人件費個別明細表4[[#This Row],[列4]]-人件費個別明細表4[[#This Row],[列2]]-人件費個別明細表4[[#This Row],[列5]]),"0:30"),""),"8:00")) | I15: =IF(人件費個別明細表4[[#This Row],[列6]]="","",IF(人件費個別明細表4[[#This Row],[列6]]*24*人件費個別明細表4[[#This Row],[列10]]>10000,10000,人件費個別明細表4[[#This Row],[列6]]*24*人件費個別明細表4[[#This Row],[列10]]))
B16: =IF(人件費個別明細表4[[#This Row],[列1]]="", "", TEXT(人件費個別明細表4[[#This Row],[列1]],"aaaa")) | D16: ～ | G16: =IF(人件費個別明細表4[[#This Row],[列2]]="","",MIN(IF((人件費個別明細表4[[#This Row],[列4]]-人件費個別明細表4[[#This Row],[列2]]-人件費個別明細表4[[#This Row],[列5]])>0,FLOOR((人件費個別明細表4[[#This Row],[列4]]-人件費個別明細表4[[#This Row],[列2]]-人件費個別明細表4[[#This Row],[列5]]),"0:30"),""),"8:00")) | I16: =IF(人件費個別明細表4[[#This Row],[列6]]="","",IF(人件費個別明細表4[[#This Row],[列6]]*24*人件費個別明細表4[[#This Row],[列10]]>10000,10000,人件費個別明細表4[[#This Row],[列6]]*24*人件費個別明細表4[[#This Row],[列10]]))
B17: =IF(人件費個別明細表4[[#This Row],[列1]]="", "", TEXT(人件費個別明細表4[[#This Row],[列1]],"aaaa")) | D17: ～ | G17: =IF(人件費個別明細表4[[#This Row],[列2]]="","",MIN(IF((人件費個別明細表4[[#This Row],[列4]]-人件費個別明細表4[[#This Row],[列2]]-人件費個別明細表4[[#This Row],[列5]])>0,FLOOR((人件費個別明細表4[[#This Row],[列4]]-人件費個別明細表4[[#This Row],[列2]]-人件費個別明細表4[[#This Row],[列5]]),"0:30"),""),"8:00")) | I17: =IF(人件費個別明細表4[[#This Row],[列6]]="","",IF(人件費個別明細表4[[#This Row],[列6]]*24*人件費個別明細表4[[#This Row],[列10]]>10000,10000,人件費個別明細表4[[#This Row],[列6]]*24*人件費個別明細表4[[#This Row],[列10]]))
B18: =IF(人件費個別明細表4[[#This Row],[列1]]="", "", TEXT(人件費個別明細表4[[#This Row],[列1]],"aaaa")) | D18: ～ | G18: =IF(人件費個別明細表4[[#This Row],[列2]]="","",MIN(IF((人件費個別明細表4[[#This Row],[列4]]-人件費個別明細表4[[#This Row],[列2]]-人件費個別明細表4[[#This Row],[列5]])>0,FLOOR((人件費個別明細表4[[#This Row],[列4]]-人件費個別明細表4[[#This Row],[列2]]-人件費個別明細表4[[#This Row],[列5]]),"0:30"),""),"8:00")) | I18: =IF(人件費個別明細表4[[#This Row],[列6]]="","",IF(人件費個別明細表4[[#This Row],[列6]]*24*人件費個別明細表4[[#This Row],[列10]]>10000,10000,人件費個別明細表4[[#This Row],[列6]]*24*人件費個別明細表4[[#This Row],[列10]]))
B19: =IF(人件費個別明細表4[[#This Row],[列1]]="", "", TEXT(人件費個別明細表4[[#This Row],[列1]],"aaaa")) | D19: ～ | G19: =IF(人件費個別明細表4[[#This Row],[列2]]="","",MIN(IF((人件費個別明細表4[[#This Row],[列4]]-人件費個別明細表4[[#This Row],[列2]]-人件費個別明細表4[[#This Row],[列5]])>0,FLOOR((人件費個別明細表4[[#This Row],[列4]]-人件費個別明細表4[[#This Row],[列2]]-人件費個別明細表4[[#This Row],[列5]]),"0:30"),""),"8:00")) | I19: =IF(人件費個別明細表4[[#This Row],[列6]]="","",IF(人件費個別明細表4[[#This Row],[列6]]*24*人件費個別明細表4[[#This Row],[列10]]>10000,10000,人件費個別明細表4[[#This Row],[列6]]*24*人件費個別明細表4[[#This Row],[列10]]))
... B30: =IF(人件費個別明細表4[[#This Row],[列1]]="", "", TEXT(人件費個別明細表4[[#This Row],[列1]],"aaaa")) | D30: ～ | G30: =IF(人件費個別明細表4[[#This Row],[列2]]="","",MIN(IF((人件費個別明細表4[[#This Row],[列4]]-人件費個別明細表4[[#This Row],[列2]]-人件費個別明細表4[[#This Row],[列5]])>0,FLOOR((人件費個別明細表4[[#This Row],[列4]]-人件費個別明細表4[[#This Row],[列2]]-人件費個別明細表4[[#This Row],[列5]]),"0:30"),""),"8:00")) | I30: =IF(人件費個別明細表4[[#This Row],[列6]]="","",IF(人件費個別明細表4[[#This Row],[列6]]*24*人件費個別明細表4[[#This Row],[列10]]>10000,10000,人件費個別明細表4[[#This Row],[列6]]*24*人件費個別明細表4[[#This Row],[列10]]))
A31: 合計 | C31: =SUBTOTAL(102,人件費個別明細表4[列2]) -> 0 | D31: 日 | G31: =SUBTOTAL(109,人件費個別明細表4[列6]) -> 0 | I31: =SUBTOTAL(109,人件費個別明細表4[列9]) -> 0

Sheet R8年8月
A1: 様式第６号（別紙４－２）
A2: 作業日報兼直接人件費個別明細表
A3: 年月 | B3: =MID(CELL("filename",$A$3),FIND("]",CELL("filename",$A$3))+1,31) -> R8年8月
A4: 企業名 | B4: =集計!B3 -> 0
A5: 従事者氏名 | B5: =集計!B4 -> 0
A6: （注）30分単位で記入してください。
A7: 日付 | B7: 曜日 | C7: 作業時刻 | F7: 休憩等 除外時間 | G7: 作業時間数 | H7: 時給単価 | I7: 日額給与 | J7: 作業内容
B8: =IF(人件費個別明細表43[[#This Row],[列1]]="", "", TEXT(人件費個別明細表43[[#This Row],[列1]],"aaaa")) | D8: ～ | G8: =IF(人件費個別明細表43[[#This Row],[列2]]="","",MIN(IF((人件費個別明細表43[[#This Row],[列4]]-人件費個別明細表43[[#This Row],[列2]]-人件費個別明細表43[[#This Row],[列5]])>0,FLOOR((人件費個別明細表43[[#This Row],[列4]]-人件費個別明細表43[[#This Row],[列2]]-人件費個別明細表43[[#This Row],[列5]]),"0:30"),""),"8:00")) | I8: =IF(人件費個別明細表43[[#This Row],[列6]]="","",IF(人件費個別明細表43[[#This Row],[列6]]*24*人件費個別明細表43[[#This Row],[列10]]>10000,10000,人件費個別明細表43[[#This Row],[列6]]*24*人件費個別明細表43[[#This Row],[列10]]))
B9: =IF(人件費個別明細表43[[#This Row],[列1]]="", "", TEXT(人件費個別明細表43[[#This Row],[列1]],"aaaa")) | D9: ～ | G9: =IF(人件費個別明細表43[[#This Row],[列2]]="","",MIN(IF((人件費個別明細表43[[#This Row],[列4]]-人件費個別明細表43[[#This Row],[列2]]-人件費個別明細表43[[#This Row],[列5]])>0,FLOOR((人件費個別明細表43[[#This Row],[列4]]-人件費個別明細表43[[#This Row],[列2]]-人件費個別明細表43[[#This Row],[列5]]),"0:30"),""),"8:00")) | I9: =IF(人件費個別明細表43[[#This Row],[列6]]="","",IF(人件費個別明細表43[[#This Row],[列6]]*24*人件費個別明細表43[[#This Row],[列10]]>10000,10000,人件費個別明細表43[[#This Row],[列6]]*24*人件費個別明細表43[[#This Row],[列10]]))
B10: =IF(人件費個別明細表43[[#This Row],[列1]]="", "", TEXT(人件費個別明細表43[[#This Row],[列1]],"aaaa")) | D10: ～ | G10: =IF(人件費個別明細表43[[#This Row],[列2]]="","",MIN(IF((人件費個別明細表43[[#This Row],[列4]]-人件費個別明細表43[[#This Row],[列2]]-人件費個別明細表43[[#This Row],[列5]])>0,FLOOR((人件費個別明細表43[[#This Row],[列4]]-人件費個別明細表43[[#This Row],[列2]]-人件費個別明細表43[[#This Row],[列5]]),"0:30"),""),"8:00")) | I10: =IF(人件費個別明細表43[[#This Row],[列6]]="","",IF(人件費個別明細表43[[#This Row],[列6]]*24*人件費個別明細表43[[#This Row],[列10]]>10000,10000,人件費個別明細表43[[#This Row],[列6]]*24*人件費個別明細表43[[#This Row],[列10]]))
B11: =IF(人件費個別明細表43[[#This Row],[列1]]="", "", TEXT(人件費個別明細表43[[#This Row],[列1]],"aaaa")) | D11: ～ | G11: =IF(人件費個別明細表43[[#This Row],[列2]]="","",MIN(IF((人件費個別明細表43[[#This Row],[列4]]-人件費個別明細表43[[#This Row],[列2]]-人件費個別明細表43[[#This Row],[列5]])>0,FLOOR((人件費個別明細表43[[#This Row],[列4]]-人件費個別明細表43[[#This Row],[列2]]-人件費個別明細表43[[#This Row],[列5]]),"0:30"),""),"8:00")) | I11: =IF(人件費個別明細表43[[#This Row],[列6]]="","",IF(人件費個別明細表43[[#This Row],[列6]]*24*人件費個別明細表43[[#This Row],[列10]]>10000,10000,人件費個別明細表43[[#This Row],[列6]]*24*人件費個別明細表43[[#This Row],[列10]]))
B12: =IF(人件費個別明細表43[[#This Row],[列1]]="", "", TEXT(人件費個別明細表43[[#This Row],[列1]],"aaaa")) | D12: ～ | G12: =IF(人件費個別明細表43[[#This Row],[列2]]="","",MIN(IF((人件費個別明細表43[[#This Row],[列4]]-人件費個別明細表43[[#This Row],[列2]]-人件費個別明細表43[[#This Row],[列5]])>0,FLOOR((人件費個別明細表43[[#This Row],[列4]]-人件費個別明細表43[[#This Row],[列2]]-人件費個別明細表43[[#This Row],[列5]]),"0:30"),""),"8:00")) | I12: =IF(人件費個別明細表43[[#This Row],[列6]]="","",IF(人件費個別明細表43[[#This Row],[列6]]*24*人件費個別明細表43[[#This Row],[列10]]>10000,10000,人件費個別明細表43[[#This Row],[列6]]*24*人件費個別明細表43[[#This Row],[列10]]))
B13: =IF(人件費個別明細表43[[#This Row],[列1]]="", "", TEXT(人件費個別明細表43[[#This Row],[列1]],"aaaa")) | D13: ～ | G13: =IF(人件費個別明細表43[[#This Row],[列2]]="","",MIN(IF((人件費個別明細表43[[#This Row],[列4]]-人件費個別明細表43[[#This Row],[列2]]-人件費個別明細表43[[#This Row],[列5]])>0,FLOOR((人件費個別明細表43[[#This Row],[列4]]-人件費個別明細表43[[#This Row],[列2]]-人件費個別明細表43[[#This Row],[列5]]),"0:30"),""),"8:00")) | I13: =IF(人件費個別明細表43[[#This Row],[列6]]="","",IF(人件費個別明細表43[[#This Row],[列6]]*24*人件費個別明細表43[[#This Row],[列10]]>10000,10000,人件費個別明細表43[[#This Row],[列6]]*24*人件費個別明細表43[[#This Row],[列10]]))
B14: =IF(人件費個別明細表43[[#This Row],[列1]]="", "", TEXT(人件費個別明細表43[[#This Row],[列1]],"aaaa")) | D14: ～ | G14: =IF(人件費個別明細表43[[#This Row],[列2]]="","",MIN(IF((人件費個別明細表43[[#This Row],[列4]]-人件費個別明細表43[[#This Row],[列2]]-人件費個別明細表43[[#This Row],[列5]])>0,FLOOR((人件費個別明細表43[[#This Row],[列4]]-人件費個別明細表43[[#This Row],[列2]]-人件費個別明細表43[[#This Row],[列5]]),"0:30"),""),"8:00")) | I14: =IF(人件費個別明細表43[[#This Row],[列6]]="","",IF(人件費個別明細表43[[#This Row],[列6]]*24*人件費個別明細表43[[#This Row],[列10]]>10000,10000,人件費個別明細表43[[#This Row],[列6]]*24*人件費個別明細表43[[#This Row],[列10]]))
B15: =IF(人件費個別明細表43[[#This Row],[列1]]="", "", TEXT(人件費個別明細表43[[#This Row],[列1]],"aaaa")) | D15: ～ | G15: =IF(人件費個別明細表43[[#This Row],[列2]]="","",MIN(IF((人件費個別明細表43[[#This Row],[列4]]-人件費個別明細表43[[#This Row],[列2]]-人件費個別明細表43[[#This Row],[列5]])>0,FLOOR((人件費個別明細表43[[#This Row],[列4]]-人件費個別明細表43[[#This Row],[列2]]-人件費個別明細表43[[#This Row],[列5]]),"0:30"),""),"8:00")) | I15: =IF(人件費個別明細表43[[#This Row],[列6]]="","",IF(人件費個別明細表43[[#This Row],[列6]]*24*人件費個別明細表43[[#This Row],[列10]]>10000,10000,人件費個別明細表43[[#This Row],[列6]]*24*人件費個別明細表43[[#This Row],[列10]]))
B16: =IF(人件費個別明細表43[[#This Row],[列1]]="", "", TEXT(人件費個別明細表43[[#This Row],[列1]],"aaaa")) | D16: ～ | G16: =IF(人件費個別明細表43[[#This Row],[列2]]="","",MIN(IF((人件費個別明細表43[[#This Row],[列4]]-人件費個別明細表43[[#This Row],[列2]]-人件費個別明細表43[[#This Row],[列5]])>0,FLOOR((人件費個別明細表43[[#This Row],[列4]]-人件費個別明細表43[[#This Row],[列2]]-人件費個別明細表43[[#This Row],[列5]]),"0:30"),""),"8:00")) | I16: =IF(人件費個別明細表43[[#This Row],[列6]]="","",IF(人件費個別明細表43[[#This Row],[列6]]*24*人件費個別明細表43[[#This Row],[列10]]>10000,10000,人件費個別明細表43[[#This Row],[列6]]*24*人件費個別明細表43[[#This Row],[列10]]))
B17: =IF(人件費個別明細表43[[#This Row],[列1]]="", "", TEXT(人件費個別明細表43[[#This Row],[列1]],"aaaa")) | D17: ～ | G17: =IF(人件費個別明細表43[[#This Row],[列2]]="","",MIN(IF((人件費個別明細表43[[#This Row],[列4]]-人件費個別明細表43[[#This Row],[列2]]-人件費個別明細表43[[#This Row],[列5]])>0,FLOOR((人件費個別明細表43[[#This Row],[列4]]-人件費個別明細表43[[#This Row],[列2]]-人件費個別明細表43[[#This Row],[列5]]),"0:30"),""),"8:00")) | I17: =IF(人件費個別明細表43[[#This Row],[列6]]="","",IF(人件費個別明細表43[[#This Row],[列6]]*24*人件費個別明細表43[[#This Row],[列10]]>10000,10000,人件費個別明細表43[[#This Row],[列6]]*24*人件費個別明細表43[[#This Row],[列10]]))
B18: =IF(人件費個別明細表43[[#This Row],[列1]]="", "", TEXT(人件費個別明細表43[[#This Row],[列1]],"aaaa")) | D18: ～ | G18: =IF(人件費個別明細表43[[#This Row],[列2]]="","",MIN(IF((人件費個別明細表43[[#This Row],[列4]]-人件費個別明細表43[[#This Row],[列2]]-人件費個別明細表43[[#This Row],[列5]])>0,FLOOR((人件費個別明細表43[[#This Row],[列4]]-人件費個別明細表43[[#This Row],[列2]]-人件費個別明細表43[[#This Row],[列5]]),"0:30"),""),"8:00")) | I18: =IF(人件費個別明細表43[[#This Row],[列6]]="","",IF(人件費個別明細表43[[#This Row],[列6]]*24*人件費個別明細表43[[#This Row],[列10]]>10000,10000,人件費個別明細表43[[#This Row],[列6]]*24*人件費個別明細表43[[#This Row],[列10]]))
B19: =IF(人件費個別明細表43[[#This Row],[列1]]="", "", TEXT(人件費個別明細表43[[#This Row],[列1]],"aaaa")) | D19: ～ | G19: =IF(人件費個別明細表43[[#This Row],[列2]]="","",MIN(IF((人件費個別明細表43[[#This Row],[列4]]-人件費個別明細表43[[#This Row],[列2]]-人件費個別明細表43[[#This Row],[列5]])>0,FLOOR((人件費個別明細表43[[#This Row],[列4]]-人件費個別明細表43[[#This Row],[列2]]-人件費個別明細表43[[#This Row],[列5]]),"0:30"),""),"8:00")) | I19: =IF(人件費個別明細表43[[#This Row],[列6]]="","",IF(人件費個別明細表43[[#This Row],[列6]]*24*人件費個別明細表43[[#This Row],[列10]]>10000,10000,人件費個別明細表43[[#This Row],[列6]]*24*人件費個別明細表43[[#This Row],[列10]]))
... B30: =IF(人件費個別明細表43[[#This Row],[列1]]="", "", TEXT(人件費個別明細表43[[#This Row],[列1]],"aaaa")) | D30: ～ | G30: =IF(人件費個別明細表43[[#This Row],[列2]]="","",MIN(IF((人件費個別明細表43[[#This Row],[列4]]-人件費個別明細表43[[#This Row],[列2]]-人件費個別明細表43[[#This Row],[列5]])>0,FLOOR((人件費個別明細表43[[#This Row],[列4]]-人件費個別明細表43[[#This Row],[列2]]-人件費個別明細表43[[#This Row],[列5]]),"0:30"),""),"8:00")) | I30: =IF(人件費個別明細表43[[#This Row],[列6]]="","",IF(人件費個別明細表43[[#This Row],[列6]]*24*人件費個別明細表43[[#This Row],[列10]]>10000,10000,人件費個別明細表43[[#This Row],[列6]]*24*人件費個別明細表43[[#This Row],[列10]]))
A31: 合計 | C31: =SUBTOTAL(102,人件費個別明細表43[列2]) -> 0 | D31: 日 | G31: =SUBTOTAL(109,人件費個別明細表43[列6]) -> 0 | I31: =SUBTOTAL(109,人件費個別明細表43[列9]) -> 0

Sheet R8年9月
A1: 様式第６号（別紙４－２）
A2: 作業日報兼直接人件費個別明細表
A3: 年月 | B3: =MID(CELL("filename",$A$3),FIND("]",CELL("filename",$A$3))+1,31) -> R8年9月
A4: 企業名 | B4: =集計!B3 -> 0
A5: 従事者氏名 | B5: =集計!B4 -> 0
A6: （注）30分単位で記入してください。
A7: 日付 | B7: 曜日 | C7: 作業時刻 | F7: 休憩等 除外時間 | G7: 作業時間数 | H7: 時給単価 | I7: 日額給与 | J7: 作業内容
B8: =IF(人件費個別明細表6[[#This Row],[列1]]="", "", TEXT(人件費個別明細表6[[#This Row],[列1]],"aaaa")) | D8: ～ | G8: =IF(人件費個別明細表6[[#This Row],[列2]]="","",MIN(IF((人件費個別明細表6[[#This Row],[列4]]-人件費個別明細表6[[#This Row],[列2]]-人件費個別明細表6[[#This Row],[列5]])>0,FLOOR((人件費個別明細表6[[#This Row],[列4]]-人件費個別明細表6[[#This Row],[列2]]-人件費個別明細表6[[#This Row],[列5]]),"0:30"),""),"8:00")) | I8: =IF(人件費個別明細表6[[#This Row],[列6]]="","",IF(人件費個別明細表6[[#This Row],[列6]]*24*人件費個別明細表6[[#This Row],[列10]]>10000,10000,人件費個別明細表6[[#This Row],[列6]]*24*人件費個別明細表6[[#This Row],[列10]]))
B9: =IF(人件費個別明細表6[[#This Row],[列1]]="", "", TEXT(人件費個別明細表6[[#This Row],[列1]],"aaaa")) | D9: ～ | G9: =IF(人件費個別明細表6[[#This Row],[列2]]="","",MIN(IF((人件費個別明細表6[[#This Row],[列4]]-人件費個別明細表6[[#This Row],[列2]]-人件費個別明細表6[[#This Row],[列5]])>0,FLOOR((人件費個別明細表6[[#This Row],[列4]]-人件費個別明細表6[[#This Row],[列2]]-人件費個別明細表6[[#This Row],[列5]]),"0:30"),""),"8:00")) | I9: =IF(人件費個別明細表6[[#This Row],[列6]]="","",IF(人件費個別明細表6[[#This Row],[列6]]*24*人件費個別明細表6[[#This Row],[列10]]>10000,10000,人件費個別明細表6[[#This Row],[列6]]*24*人件費個別明細表6[[#This Row],[列10]]))
B10: =IF(人件費個別明細表6[[#This Row],[列1]]="", "", TEXT(人件費個別明細表6[[#This Row],[列1]],"aaaa")) | D10: ～ | G10: =IF(人件費個別明細表6[[#This Row],[列2]]="","",MIN(IF((人件費個別明細表6[[#This Row],[列4]]-人件費個別明細表6[[#This Row],[列2]]-人件費個別明細表6[[#This Row],[列5]])>0,FLOOR((人件費個別明細表6[[#This Row],[列4]]-人件費個別明細表6[[#This Row],[列2]]-人件費個別明細表6[[#This Row],[列5]]),"0:30"),""),"8:00")) | I10: =IF(人件費個別明細表6[[#This Row],[列6]]="","",IF(人件費個別明細表6[[#This Row],[列6]]*24*人件費個別明細表6[[#This Row],[列10]]>10000,10000,人件費個別明細表6[[#This Row],[列6]]*24*人件費個別明細表6[[#This Row],[列10]]))
B11: =IF(人件費個別明細表6[[#This Row],[列1]]="", "", TEXT(人件費個別明細表6[[#This Row],[列1]],"aaaa")) | D11: ～ | G11: =IF(人件費個別明細表6[[#This Row],[列2]]="","",MIN(IF((人件費個別明細表6[[#This Row],[列4]]-人件費個別明細表6[[#This Row],[列2]]-人件費個別明細表6[[#This Row],[列5]])>0,FLOOR((人件費個別明細表6[[#This Row],[列4]]-人件費個別明細表6[[#This Row],[列2]]-人件費個別明細表6[[#This Row],[列5]]),"0:30"),""),"8:00")) | I11: =IF(人件費個別明細表6[[#This Row],[列6]]="","",IF(人件費個別明細表6[[#This Row],[列6]]*24*人件費個別明細表6[[#This Row],[列10]]>10000,10000,人件費個別明細表6[[#This Row],[列6]]*24*人件費個別明細表6[[#This Row],[列10]]))
B12: =IF(人件費個別明細表6[[#This Row],[列1]]="", "", TEXT(人件費個別明細表6[[#This Row],[列1]],"aaaa")) | D12: ～ | G12: =IF(人件費個別明細表6[[#This Row],[列2]]="","",MIN(IF((人件費個別明細表6[[#This Row],[列4]]-人件費個別明細表6[[#This Row],[列2]]-人件費個別明細表6[[#This Row],[列5]])>0,FLOOR((人件費個別明細表6[[#This Row],[列4]]-人件費個別明細表6[[#This Row],[列2]]-人件費個別明細表6[[#This Row],[列5]]),"0:30"),""),"8:00")) | I12: =IF(人件費個別明細表6[[#This Row],[列6]]="","",IF(人件費個別明細表6[[#This Row],[列6]]*24*人件費個別明細表6[[#This Row],[列10]]>10000,10000,人件費個別明細表6[[#This Row],[列6]]*24*人件費個別明細表6[[#This Row],[列10]]))
B13: =IF(人件費個別明細表6[[#This Row],[列1]]="", "", TEXT(人件費個別明細表6[[#This Row],[列1]],"aaaa")) | D13: ～ | G13: =IF(人件費個別明細表6[[#This Row],[列2]]="","",MIN(IF((人件費個別明細表6[[#This Row],[列4]]-人件費個別明細表6[[#This Row],[列2]]-人件費個別明細表6[[#This Row],[列5]])>0,FLOOR((人件費個別明細表6[[#This Row],[列4]]-人件費個別明細表6[[#This Row],[列2]]-人件費個別明細表6[[#This Row],[列5]]),"0:30"),""),"8:00")) | I13: =IF(人件費個別明細表6[[#This Row],[列6]]="","",IF(人件費個別明細表6[[#This Row],[列6]]*24*人件費個別明細表6[[#This Row],[列10]]>10000,10000,人件費個別明細表6[[#This Row],[列6]]*24*人件費個別明細表6[[#This Row],[列10]]))
B14: =IF(人件費個別明細表6[[#This Row],[列1]]="", "", TEXT(人件費個別明細表6[[#This Row],[列1]],"aaaa")) | D14: ～ | G14: =IF(人件費個別明細表6[[#This Row],[列2]]="","",MIN(IF((人件費個別明細表6[[#This Row],[列4]]-人件費個別明細表6[[#This Row],[列2]]-人件費個別明細表6[[#This Row],[列5]])>0,FLOOR((人件費個別明細表6[[#This Row],[列4]]-人件費個別明細表6[[#This Row],[列2]]-人件費個別明細表6[[#This Row],[列5]]),"0:30"),""),"8:00")) | I14: =IF(人件費個別明細表6[[#This Row],[列6]]="","",IF(人件費個別明細表6[[#This Row],[列6]]*24*人件費個別明細表6[[#This Row],[列10]]>10000,10000,人件費個別明細表6[[#This Row],[列6]]*24*人件費個別明細表6[[#This Row],[列10]]))
B15: =IF(人件費個別明細表6[[#This Row],[列1]]="", "", TEXT(人件費個別明細表6[[#This Row],[列1]],"aaaa")) | D15: ～ | G15: =IF(人件費個別明細表6[[#This Row],[列2]]="","",MIN(IF((人件費個別明細表6[[#This Row],[列4]]-人件費個別明細表6[[#This Row],[列2]]-人件費個別明細表6[[#This Row],[列5]])>0,FLOOR((人件費個別明細表6[[#This Row],[列4]]-人件費個別明細表6[[#This Row],[列2]]-人件費個別明細表6[[#This Row],[列5]]),"0:30"),""),"8:00")) | I15: =IF(人件費個別明細表6[[#This Row],[列6]]="","",IF(人件費個別明細表6[[#This Row],[列6]]*24*人件費個別明細表6[[#This Row],[列10]]>10000,10000,人件費個別明細表6[[#This Row],[列6]]*24*人件費個別明細表6[[#This Row],[列10]]))
B16: =IF(人件費個別明細表6[[#This Row],[列1]]="", "", TEXT(人件費個別明細表6[[#This Row],[列1]],"aaaa")) | D16: ～ | G16: =IF(人件費個別明細表6[[#This Row],[列2]]="","",MIN(IF((人件費個別明細表6[[#This Row],[列4]]-人件費個別明細表6[[#This Row],[列2]]-人件費個別明細表6[[#This Row],[列5]])>0,FLOOR((人件費個別明細表6[[#This Row],[列4]]-人件費個別明細表6[[#This Row],[列2]]-人件費個別明細表6[[#This Row],[列5]]),"0:30"),""),"8:00")) | I16: =IF(人件費個別明細表6[[#This Row],[列6]]="","",IF(人件費個別明細表6[[#This Row],[列6]]*24*人件費個別明細表6[[#This Row],[列10]]>10000,10000,人件費個別明細表6[[#This Row],[列6]]*24*人件費個別明細表6[[#This Row],[列10]]))
B17: =IF(人件費個別明細表6[[#This Row],[列1]]="", "", TEXT(人件費個別明細表6[[#This Row],[列1]],"aaaa")) | D17: ～ | G17: =IF(人件費個別明細表6[[#This Row],[列2]]="","",MIN(IF((人件費個別明細表6[[#This Row],[列4]]-人件費個別明細表6[[#This Row],[列2]]-人件費個別明細表6[[#This Row],[列5]])>0,FLOOR((人件費個別明細表6[[#This Row],[列4]]-人件費個別明細表6[[#This Row],[列2]]-人件費個別明細表6[[#This Row],[列5]]),"0:30"),""),"8:00")) | I17: =IF(人件費個別明細表6[[#This Row],[列6]]="","",IF(人件費個別明細表6[[#This Row],[列6]]*24*人件費個別明細表6[[#This Row],[列10]]>10000,10000,人件費個別明細表6[[#This Row],[列6]]*24*人件費個別明細表6[[#This Row],[列10]]))
B18: =IF(人件費個別明細表6[[#This Row],[列1]]="", "", TEXT(人件費個別明細表6[[#This Row],[列1]],"aaaa")) | D18: ～ | G18: =IF(人件費個別明細表6[[#This Row],[列2]]="","",MIN(IF((人件費個別明細表6[[#This Row],[列4]]-人件費個別明細表6[[#This Row],[列2]]-人件費個別明細表6[[#This Row],[列5]])>0,FLOOR((人件費個別明細表6[[#This Row],[列4]]-人件費個別明細表6[[#This Row],[列2]]-人件費個別明細表6[[#This Row],[列5]]),"0:30"),""),"8:00")) | I18: =IF(人件費個別明細表6[[#This Row],[列6]]="","",IF(人件費個別明細表6[[#This Row],[列6]]*24*人件費個別明細表6[[#This Row],[列10]]>10000,10000,人件費個別明細表6[[#This Row],[列6]]*24*人件費個別明細表6[[#This Row],[列10]]))
B19: =IF(人件費個別明細表6[[#This Row],[列1]]="", "", TEXT(人件費個別明細表6[[#This Row],[列1]],"aaaa")) | D19: ～ | G19: =IF(人件費個別明細表6[[#This Row],[列2]]="","",MIN(IF((人件費個別明細表6[[#This Row],[列4]]-人件費個別明細表6[[#This Row],[列2]]-人件費個別明細表6[[#This Row],[列5]])>0,FLOOR((人件費個別明細表6[[#This Row],[列4]]-人件費個別明細表6[[#This Row],[列2]]-人件費個別明細表6[[#This Row],[列5]]),"0:30"),""),"8:00")) | I19: =IF(人件費個別明細表6[[#This Row],[列6]]="","",IF(人件費個別明細表6[[#This Row],[列6]]*24*人件費個別明細表6[[#This Row],[列10]]>10000,10000,人件費個別明細表6[[#This Row],[列6]]*24*人件費個別明細表6[[#This Row],[列10]]))
... B30: =IF(人件費個別明細表6[[#This Row],[列1]]="", "", TEXT(人件費個別明細表6[[#This Row],[列1]],"aaaa")) | D30: ～ | G30: =IF(人件費個別明細表6[[#This Row],[列2]]="","",MIN(IF((人件費個別明細表6[[#This Row],[列4]]-人件費個別明細表6[[#This Row],[列2]]-人件費個別明細表6[[#This Row],[列5]])>0,FLOOR((人件費個別明細表6[[#This Row],[列4]]-人件費個別明細表6[[#This Row],[列2]]-人件費個別明細表6[[#This Row],[列5]]),"0:30"),""),"8:00")) | I30: =IF(人件費個別明細表6[[#This Row],[列6]]="","",IF(人件費個別明細表6[[#This Row],[列6]]*24*人件費個別明細表6[[#This Row],[列10]]>10000,10000,人件費個別明細表6[[#This Row],[列6]]*24*人件費個別明細表6[[#This Row],[列10]]))
A31: 合計 | C31: =SUBTOTAL(102,人件費個別明細表6[列2]) -> 0 | D31: 日 | G31: =SUBTOTAL(109,人件費個別明細表6[列6]) -> 0 | I31: =SUBTOTAL(109,人件費個別明細表6[列9]) -> 0

Sheet R8年10月
A1: 様式第６号（別紙４－２）
A2: 作業日報兼直接人件費個別明細表
A3: 年月 | B3: =MID(CELL("filename",$A$3),FIND("]",CELL("filename",$A$3))+1,31) -> R8年10月
A4: 企業名 | B4: =集計!B3 -> 0
A5: 従事者氏名 | B5: =集計!B4 -> 0
A6: （注）30分単位で記入してください。
A7: 日付 | B7: 曜日 | C7: 作業時刻 | F7: 休憩等 除外時間 | G7: 作業時間数 | H7: 時給単価 | I7: 日額給与 | J7: 作業内容
B8: =IF(人件費個別明細表68[[#This Row],[列1]]="", "", TEXT(人件費個別明細表68[[#This Row],[列1]],"aaaa")) | D8: ～ | G8: =IF(人件費個別明細表68[[#This Row],[列2]]="","",MIN(IF((人件費個別明細表68[[#This Row],[列4]]-人件費個別明細表68[[#This Row],[列2]]-人件費個別明細表68[[#This Row],[列5]])>0,FLOOR((人件費個別明細表68[[#This Row],[列4]]-人件費個別明細表68[[#This Row],[列2]]-人件費個別明細表68[[#This Row],[列5]]),"0:30"),""),"8:00")) | I8: =IF(人件費個別明細表68[[#This Row],[列6]]="","",IF(人件費個別明細表68[[#This Row],[列6]]*24*人件費個別明細表68[[#This Row],[列10]]>10000,10000,人件費個別明細表68[[#This Row],[列6]]*24*人件費個別明細表68[[#This Row],[列10]]))
B9: =IF(人件費個別明細表68[[#This Row],[列1]]="", "", TEXT(人件費個別明細表68[[#This Row],[列1]],"aaaa")) | D9: ～ | G9: =IF(人件費個別明細表68[[#This Row],[列2]]="","",MIN(IF((人件費個別明細表68[[#This Row],[列4]]-人件費個別明細表68[[#This Row],[列2]]-人件費個別明細表68[[#This Row],[列5]])>0,FLOOR((人件費個別明細表68[[#This Row],[列4]]-人件費個別明細表68[[#This Row],[列2]]-人件費個別明細表68[[#This Row],[列5]]),"0:30"),""),"8:00")) | I9: =IF(人件費個別明細表68[[#This Row],[列6]]="","",IF(人件費個別明細表68[[#This Row],[列6]]*24*人件費個別明細表68[[#This Row],[列10]]>10000,10000,人件費個別明細表68[[#This Row],[列6]]*24*人件費個別明細表68[[#This Row],[列10]]))
B10: =IF(人件費個別明細表68[[#This Row],[列1]]="", "", TEXT(人件費個別明細表68[[#This Row],[列1]],"aaaa")) | D10: ～ | G10: =IF(人件費個別明細表68[[#This Row],[列2]]="","",MIN(IF((人件費個別明細表68[[#This Row],[列4]]-人件費個別明細表68[[#This Row],[列2]]-人件費個別明細表68[[#This Row],[列5]])>0,FLOOR((人件費個別明細表68[[#This Row],[列4]]-人件費個別明細表68[[#This Row],[列2]]-人件費個別明細表68[[#This Row],[列5]]),"0:30"),""),"8:00")) | I10: =IF(人件費個別明細表68[[#This Row],[列6]]="","",IF(人件費個別明細表68[[#This Row],[列6]]*24*人件費個別明細表68[[#This Row],[列10]]>10000,10000,人件費個別明細表68[[#This Row],[列6]]*24*人件費個別明細表68[[#This Row],[列10]]))
B11: =IF(人件費個別明細表68[[#This Row],[列1]]="", "", TEXT(人件費個別明細表68[[#This Row],[列1]],"aaaa")) | D11: ～ | G11: =IF(人件費個別明細表68[[#This Row],[列2]]="","",MIN(IF((人件費個別明細表68[[#This Row],[列4]]-人件費個別明細表68[[#This Row],[列2]]-人件費個別明細表68[[#This Row],[列5]])>0,FLOOR((人件費個別明細表68[[#This Row],[列4]]-人件費個別明細表68[[#This Row],[列2]]-人件費個別明細表68[[#This Row],[列5]]),"0:30"),""),"8:00")) | I11: =IF(人件費個別明細表68[[#This Row],[列6]]="","",IF(人件費個別明細表68[[#This Row],[列6]]*24*人件費個別明細表68[[#This Row],[列10]]>10000,10000,人件費個別明細表68[[#This Row],[列6]]*24*人件費個別明細表68[[#This Row],[列10]]))
B12: =IF(人件費個別明細表68[[#This Row],[列1]]="", "", TEXT(人件費個別明細表68[[#This Row],[列1]],"aaaa")) | D12: ～ | G12: =IF(人件費個別明細表68[[#This Row],[列2]]="","",MIN(IF((人件費個別明細表68[[#This Row],[列4]]-人件費個別明細表68[[#This Row],[列2]]-人件費個別明細表68[[#This Row],[列5]])>0,FLOOR((人件費個別明細表68[[#This Row],[列4]]-人件費個別明細表68[[#This Row],[列2]]-人件費個別明細表68[[#This Row],[列5]]),"0:30"),""),"8:00")) | I12: =IF(人件費個別明細表68[[#This Row],[列6]]="","",IF(人件費個別明細表68[[#This Row],[列6]]*24*人件費個別明細表68[[#This Row],[列10]]>10000,10000,人件費個別明細表68[[#This Row],[列6]]*24*人件費個別明細表68[[#This Row],[列10]]))
B13: =IF(人件費個別明細表68[[#This Row],[列1]]="", "", TEXT(人件費個別明細表68[[#This Row],[列1]],"aaaa")) | D13: ～ | G13: =IF(人件費個別明細表68[[#This Row],[列2]]="","",MIN(IF((人件費個別明細表68[[#This Row],[列4]]-人件費個別明細表68[[#This Row],[列2]]-人件費個別明細表68[[#This Row],[列5]])>0,FLOOR((人件費個別明細表68[[#This Row],[列4]]-人件費個別明細表68[[#This Row],[列2]]-人件費個別明細表68[[#This Row],[列5]]),"0:30"),""),"8:00")) | I13: =IF(人件費個別明細表68[[#This Row],[列6]]="","",IF(人件費個別明細表68[[#This Row],[列6]]*24*人件費個別明細表68[[#This Row],[列10]]>10000,10000,人件費個別明細表68[[#This Row],[列6]]*24*人件費個別明細表68[[#This Row],[列10]]))
B14: =IF(人件費個別明細表68[[#This Row],[列1]]="", "", TEXT(人件費個別明細表68[[#This Row],[列1]],"aaaa")) | D14: ～ | G14: =IF(人件費個別明細表68[[#This Row],[列2]]="","",MIN(IF((人件費個別明細表68[[#This Row],[列4]]-人件費個別明細表68[[#This Row],[列2]]-人件費個別明細表68[[#This Row],[列5]])>0,FLOOR((人件費個別明細表68[[#This Row],[列4]]-人件費個別明細表68[[#This Row],[列2]]-人件費個別明細表68[[#This Row],[列5]]),"0:30"),""),"8:00")) | I14: =IF(人件費個別明細表68[[#This Row],[列6]]="","",IF(人件費個別明細表68[[#This Row],[列6]]*24*人件費個別明細表68[[#This Row],[列10]]>10000,10000,人件費個別明細表68[[#This Row],[列6]]*24*人件費個別明細表68[[#This Row],[列10]]))
B15: =IF(人件費個別明細表68[[#This Row],[列1]]="", "", TEXT(人件費個別明細表68[[#This Row],[列1]],"aaaa")) | D15: ～ | G15: =IF(人件費個別明細表68[[#This Row],[列2]]="","",MIN(IF((人件費個別明細表68[[#This Row],[列4]]-人件費個別明細表68[[#This Row],[列2]]-人件費個別明細表68[[#This Row],[列5]])>0,FLOOR((人件費個別明細表68[[#This Row],[列4]]-人件費個別明細表68[[#This Row],[列2]]-人件費個別明細表68[[#This Row],[列5]]),"0:30"),""),"8:00")) | I15: =IF(人件費個別明細表68[[#This Row],[列6]]="","",IF(人件費個別明細表68[[#This Row],[列6]]*24*人件費個別明細表68[[#This Row],[列10]]>10000,10000,人件費個別明細表68[[#This Row],[列6]]*24*人件費個別明細表68[[#This Row],[列10]]))
B16: =IF(人件費個別明細表68[[#This Row],[列1]]="", "", TEXT(人件費個別明細表68[[#This Row],[列1]],"aaaa")) | D16: ～ | G16: =IF(人件費個別明細表68[[#This Row],[列2]]="","",MIN(IF((人件費個別明細表68[[#This Row],[列4]]-人件費個別明細表68[[#This Row],[列2]]-人件費個別明細表68[[#This Row],[列5]])>0,FLOOR((人件費個別明細表68[[#This Row],[列4]]-人件費個別明細表68[[#This Row],[列2]]-人件費個別明細表68[[#This Row],[列5]]),"0:30"),""),"8:00")) | I16: =IF(人件費個別明細表68[[#This Row],[列6]]="","",IF(人件費個別明細表68[[#This Row],[列6]]*24*人件費個別明細表68[[#This Row],[列10]]>10000,10000,人件費個別明細表68[[#This Row],[列6]]*24*人件費個別明細表68[[#This Row],[列10]]))
B17: =IF(人件費個別明細表68[[#This Row],[列1]]="", "", TEXT(人件費個別明細表68[[#This Row],[列1]],"aaaa")) | D17: ～ | G17: =IF(人件費個別明細表68[[#This Row],[列2]]="","",MIN(IF((人件費個別明細表68[[#This Row],[列4]]-人件費個別明細表68[[#This Row],[列2]]-人件費個別明細表68[[#This Row],[列5]])>0,FLOOR((人件費個別明細表68[[#This Row],[列4]]-人件費個別明細表68[[#This Row],[列2]]-人件費個別明細表68[[#This Row],[列5]]),"0:30"),""),"8:00")) | I17: =IF(人件費個別明細表68[[#This Row],[列6]]="","",IF(人件費個別明細表68[[#This Row],[列6]]*24*人件費個別明細表68[[#This Row],[列10]]>10000,10000,人件費個別明細表68[[#This Row],[列6]]*24*人件費個別明細表68[[#This Row],[列10]]))
B18: =IF(人件費個別明細表68[[#This Row],[列1]]="", "", TEXT(人件費個別明細表68[[#This Row],[列1]],"aaaa")) | D18: ～ | G18: =IF(人件費個別明細表68[[#This Row],[列2]]="","",MIN(IF((人件費個別明細表68[[#This Row],[列4]]-人件費個別明細表68[[#This Row],[列2]]-人件費個別明細表68[[#This Row],[列5]])>0,FLOOR((人件費個別明細表68[[#This Row],[列4]]-人件費個別明細表68[[#This Row],[列2]]-人件費個別明細表68[[#This Row],[列5]]),"0:30"),""),"8:00")) | I18: =IF(人件費個別明細表68[[#This Row],[列6]]="","",IF(人件費個別明細表68[[#This Row],[列6]]*24*人件費個別明細表68[[#This Row],[列10]]>10000,10000,人件費個別明細表68[[#This Row],[列6]]*24*人件費個別明細表68[[#This Row],[列10]]))
B19: =IF(人件費個別明細表68[[#This Row],[列1]]="", "", TEXT(人件費個別明細表68[[#This Row],[列1]],"aaaa")) | D19: ～ | G19: =IF(人件費個別明細表68[[#This Row],[列2]]="","",MIN(IF((人件費個別明細表68[[#This Row],[列4]]-人件費個別明細表68[[#This Row],[列2]]-人件費個別明細表68[[#This Row],[列5]])>0,FLOOR((人件費個別明細表68[[#This Row],[列4]]-人件費個別明細表68[[#This Row],[列2]]-人件費個別明細表68[[#This Row],[列5]]),"0:30"),""),"8:00")) | I19: =IF(人件費個別明細表68[[#This Row],[列6]]="","",IF(人件費個別明細表68[[#This Row],[列6]]*24*人件費個別明細表68[[#This Row],[列10]]>10000,10000,人件費個別明細表68[[#This Row],[列6]]*24*人件費個別明細表68[[#This Row],[列10]]))
... B30: =IF(人件費個別明細表68[[#This Row],[列1]]="", "", TEXT(人件費個別明細表68[[#This Row],[列1]],"aaaa")) | D30: ～ | G30: =IF(人件費個別明細表68[[#This Row],[列2]]="","",MIN(IF((人件費個別明細表68[[#This Row],[列4]]-人件費個別明細表68[[#This Row],[列2]]-人件費個別明細表68[[#This Row],[列5]])>0,FLOOR((人件費個別明細表68[[#This Row],[列4]]-人件費個別明細表68[[#This Row],[列2]]-人件費個別明細表68[[#This Row],[列5]]),"0:30"),""),"8:00")) | I30: =IF(人件費個別明細表68[[#This Row],[列6]]="","",IF(人件費個別明細表68[[#This Row],[列6]]*24*人件費個別明細表68[[#This Row],[列10]]>10000,10000,人件費個別明細表68[[#This Row],[列6]]*24*人件費個別明細表68[[#This Row],[列10]]))
A31: 合計 | C31: =SUBTOTAL(102,人件費個別明細表68[列2]) -> 0 | D31: 日 | G31: =SUBTOTAL(109,人件費個別明細表68[列6]) -> 0 | I31: =SUBTOTAL(109,人件費個別明細表68[列9]) -> 0

Sheet R8年11月
A1: 様式第６号（別紙４－２）
A2: 作業日報兼直接人件費個別明細表
A3: 年月 | B3: =MID(CELL("filename",$A$3),FIND("]",CELL("filename",$A$3))+1,31) -> R8年11月
A4: 企業名 | B4: =集計!B3 -> 0
A5: 従事者氏名 | B5: =集計!B4 -> 0
A6: （注）30分単位で記入してください。
A7: 日付 | B7: 曜日 | C7: 作業時刻 | F7: 休憩等 除外時間 | G7: 作業時間数 | H7: 時給単価 | I7: 日額給与 | J7: 作業内容
B8: =IF(人件費個別明細表6810[[#This Row],[列1]]="", "", TEXT(人件費個別明細表6810[[#This Row],[列1]],"aaaa")) | D8: ～ | G8: =IF(人件費個別明細表6810[[#This Row],[列2]]="","",MIN(IF((人件費個別明細表6810[[#This Row],[列4]]-人件費個別明細表6810[[#This Row],[列2]]-人件費個別明細表6810[[#This Row],[列5]])>0,FLOOR((人件費個別明細表6810[[#This Row],[列4]]-人件費個別明細表6810[[#This Row],[列2]]-人件費個別明細表6810[[#This Row],[列5]]),"0:30"),""),"8:00")) | I8: =IF(人件費個別明細表6810[[#This Row],[列6]]="","",IF(人件費個別明細表6810[[#This Row],[列6]]*24*人件費個別明細表6810[[#This Row],[列10]]>10000,10000,人件費個別明細表6810[[#This Row],[列6]]*24*人件費個別明細表6810[[#This Row],[列10]]))
B9: =IF(人件費個別明細表6810[[#This Row],[列1]]="", "", TEXT(人件費個別明細表6810[[#This Row],[列1]],"aaaa")) | D9: ～ | G9: =IF(人件費個別明細表6810[[#This Row],[列2]]="","",MIN(IF((人件費個別明細表6810[[#This Row],[列4]]-人件費個別明細表6810[[#This Row],[列2]]-人件費個別明細表6810[[#This Row],[列5]])>0,FLOOR((人件費個別明細表6810[[#This Row],[列4]]-人件費個別明細表6810[[#This Row],[列2]]-人件費個別明細表6810[[#This Row],[列5]]),"0:30"),""),"8:00")) | I9: =IF(人件費個別明細表6810[[#This Row],[列6]]="","",IF(人件費個別明細表6810[[#This Row],[列6]]*24*人件費個別明細表6810[[#This Row],[列10]]>10000,10000,人件費個別明細表6810[[#This Row],[列6]]*24*人件費個別明細表6810[[#This Row],[列10]]))
B10: =IF(人件費個別明細表6810[[#This Row],[列1]]="", "", TEXT(人件費個別明細表6810[[#This Row],[列1]],"aaaa")) | D10: ～ | G10: =IF(人件費個別明細表6810[[#This Row],[列2]]="","",MIN(IF((人件費個別明細表6810[[#This Row],[列4]]-人件費個別明細表6810[[#This Row],[列2]]-人件費個別明細表6810[[#This Row],[列5]])>0,FLOOR((人件費個別明細表6810[[#This Row],[列4]]-人件費個別明細表6810[[#This Row],[列2]]-人件費個別明細表6810[[#This Row],[列5]]),"0:30"),""),"8:00")) | I10: =IF(人件費個別明細表6810[[#This Row],[列6]]="","",IF(人件費個別明細表6810[[#This Row],[列6]]*24*人件費個別明細表6810[[#This Row],[列10]]>10000,10000,人件費個別明細表6810[[#This Row],[列6]]*24*人件費個別明細表6810[[#This Row],[列10]]))
B11: =IF(人件費個別明細表6810[[#This Row],[列1]]="", "", TEXT(人件費個別明細表6810[[#This Row],[列1]],"aaaa")) | D11: ～ | G11: =IF(人件費個別明細表6810[[#This Row],[列2]]="","",MIN(IF((人件費個別明細表6810[[#This Row],[列4]]-人件費個別明細表6810[[#This Row],[列2]]-人件費個別明細表6810[[#This Row],[列5]])>0,FLOOR((人件費個別明細表6810[[#This Row],[列4]]-人件費個別明細表6810[[#This Row],[列2]]-人件費個別明細表6810[[#This Row],[列5]]),"0:30"),""),"8:00")) | I11: =IF(人件費個別明細表6810[[#This Row],[列6]]="","",IF(人件費個別明細表6810[[#This Row],[列6]]*24*人件費個別明細表6810[[#This Row],[列10]]>10000,10000,人件費個別明細表6810[[#This Row],[列6]]*24*人件費個別明細表6810[[#This Row],[列10]]))
B12: =IF(人件費個別明細表6810[[#This Row],[列1]]="", "", TEXT(人件費個別明細表6810[[#This Row],[列1]],"aaaa")) | D12: ～ | G12: =IF(人件費個別明細表6810[[#This Row],[列2]]="","",MIN(IF((人件費個別明細表6810[[#This Row],[列4]]-人件費個別明細表6810[[#This Row],[列2]]-人件費個別明細表6810[[#This Row],[列5]])>0,FLOOR((人件費個別明細表6810[[#This Row],[列4]]-人件費個別明細表6810[[#This Row],[列2]]-人件費個別明細表6810[[#This Row],[列5]]),"0:30"),""),"8:00")) | I12: =IF(人件費個別明細表6810[[#This Row],[列6]]="","",IF(人件費個別明細表6810[[#This Row],[列6]]*24*人件費個別明細表6810[[#This Row],[列10]]>10000,10000,人件費個別明細表6810[[#This Row],[列6]]*24*人件費個別明細表6810[[#This Row],[列10]]))
B13: =IF(人件費個別明細表6810[[#This Row],[列1]]="", "", TEXT(人件費個別明細表6810[[#This Row],[列1]],"aaaa")) | D13: ～ | G13: =IF(人件費個別明細表6810[[#This Row],[列2]]="","",MIN(IF((人件費個別明細表6810[[#This Row],[列4]]-人件費個別明細表6810[[#This Row],[列2]]-人件費個別明細表6810[[#This Row],[列5]])>0,FLOOR((人件費個別明細表6810[[#This Row],[列4]]-人件費個別明細表6810[[#This Row],[列2]]-人件費個別明細表6810[[#This Row],[列5]]),"0:30"),""),"8:00")) | I13: =IF(人件費個別明細表6810[[#This Row],[列6]]="","",IF(人件費個別明細表6810[[#This Row],[列6]]*24*人件費個別明細表6810[[#This Row],[列10]]>10000,10000,人件費個別明細表6810[[#This Row],[列6]]*24*人件費個別明細表6810[[#This Row],[列10]]))
B14: =IF(人件費個別明細表6810[[#This Row],[列1]]="", "", TEXT(人件費個別明細表6810[[#This Row],[列1]],"aaaa")) | D14: ～ | G14: =IF(人件費個別明細表6810[[#This Row],[列2]]="","",MIN(IF((人件費個別明細表6810[[#This Row],[列4]]-人件費個別明細表6810[[#This Row],[列2]]-人件費個別明細表6810[[#This Row],[列5]])>0,FLOOR((人件費個別明細表6810[[#This Row],[列4]]-人件費個別明細表6810[[#This Row],[列2]]-人件費個別明細表6810[[#This Row],[列5]]),"0:30"),""),"8:00")) | I14: =IF(人件費個別明細表6810[[#This Row],[列6]]="","",IF(人件費個別明細表6810[[#This Row],[列6]]*24*人件費個別明細表6810[[#This Row],[列10]]>10000,10000,人件費個別明細表6810[[#This Row],[列6]]*24*人件費個別明細表6810[[#This Row],[列10]]))
B15: =IF(人件費個別明細表6810[[#This Row],[列1]]="", "", TEXT(人件費個別明細表6810[[#This Row],[列1]],"aaaa")) | D15: ～ | G15: =IF(人件費個別明細表6810[[#This Row],[列2]]="","",MIN(IF((人件費個別明細表6810[[#This Row],[列4]]-人件費個別明細表6810[[#This Row],[列2]]-人件費個別明細表6810[[#This Row],[列5]])>0,FLOOR((人件費個別明細表6810[[#This Row],[列4]]-人件費個別明細表6810[[#This Row],[列2]]-人件費個別明細表6810[[#This Row],[列5]]),"0:30"),""),"8:00")) | I15: =IF(人件費個別明細表6810[[#This Row],[列6]]="","",IF(人件費個別明細表6810[[#This Row],[列6]]*24*人件費個別明細表6810[[#This Row],[列10]]>10000,10000,人件費個別明細表6810[[#This Row],[列6]]*24*人件費個別明細表6810[[#This Row],[列10]]))
B16: =IF(人件費個別明細表6810[[#This Row],[列1]]="", "", TEXT(人件費個別明細表6810[[#This Row],[列1]],"aaaa")) | D16: ～ | G16: =IF(人件費個別明細表6810[[#This Row],[列2]]="","",MIN(IF((人件費個別明細表6810[[#This Row],[列4]]-人件費個別明細表6810[[#This Row],[列2]]-人件費個別明細表6810[[#This Row],[列5]])>0,FLOOR((人件費個別明細表6810[[#This Row],[列4]]-人件費個別明細表6810[[#This Row],[列2]]-人件費個別明細表6810[[#This Row],[列5]]),"0:30"),""),"8:00")) | I16: =IF(人件費個別明細表6810[[#This Row],[列6]]="","",IF(人件費個別明細表6810[[#This Row],[列6]]*24*人件費個別明細表6810[[#This Row],[列10]]>10000,10000,人件費個別明細表6810[[#This Row],[列6]]*24*人件費個別明細表6810[[#This Row],[列10]]))
B17: =IF(人件費個別明細表6810[[#This Row],[列1]]="", "", TEXT(人件費個別明細表6810[[#This Row],[列1]],"aaaa")) | D17: ～ | G17: =IF(人件費個別明細表6810[[#This Row],[列2]]="","",MIN(IF((人件費個別明細表6810[[#This Row],[列4]]-人件費個別明細表6810[[#This Row],[列2]]-人件費個別明細表6810[[#This Row],[列5]])>0,FLOOR((人件費個別明細表6810[[#This Row],[列4]]-人件費個別明細表6810[[#This Row],[列2]]-人件費個別明細表6810[[#This Row],[列5]]),"0:30"),""),"8:00")) | I17: =IF(人件費個別明細表6810[[#This Row],[列6]]="","",IF(人件費個別明細表6810[[#This Row],[列6]]*24*人件費個別明細表6810[[#This Row],[列10]]>10000,10000,人件費個別明細表6810[[#This Row],[列6]]*24*人件費個別明細表6810[[#This Row],[列10]]))
B18: =IF(人件費個別明細表6810[[#This Row],[列1]]="", "", TEXT(人件費個別明細表6810[[#This Row],[列1]],"aaaa")) | D18: ～ | G18: =IF(人件費個別明細表6810[[#This Row],[列2]]="","",MIN(IF((人件費個別明細表6810[[#This Row],[列4]]-人件費個別明細表6810[[#This Row],[列2]]-人件費個別明細表6810[[#This Row],[列5]])>0,FLOOR((人件費個別明細表6810[[#This Row],[列4]]-人件費個別明細表6810[[#This Row],[列2]]-人件費個別明細表6810[[#This Row],[列5]]),"0:30"),""),"8:00")) | I18: =IF(人件費個別明細表6810[[#This Row],[列6]]="","",IF(人件費個別明細表6810[[#This Row],[列6]]*24*人件費個別明細表6810[[#This Row],[列10]]>10000,10000,人件費個別明細表6810[[#This Row],[列6]]*24*人件費個別明細表6810[[#This Row],[列10]]))
B19: =IF(人件費個別明細表6810[[#This Row],[列1]]="", "", TEXT(人件費個別明細表6810[[#This Row],[列1]],"aaaa")) | D19: ～ | G19: =IF(人件費個別明細表6810[[#This Row],[列2]]="","",MIN(IF((人件費個別明細表6810[[#This Row],[列4]]-人件費個別明細表6810[[#This Row],[列2]]-人件費個別明細表6810[[#This Row],[列5]])>0,FLOOR((人件費個別明細表6810[[#This Row],[列4]]-人件費個別明細表6810[[#This Row],[列2]]-人件費個別明細表6810[[#This Row],[列5]]),"0:30"),""),"8:00")) | I19: =IF(人件費個別明細表6810[[#This Row],[列6]]="","",IF(人件費個別明細表6810[[#This Row],[列6]]*24*人件費個別明細表6810[[#This Row],[列10]]>10000,10000,人件費個別明細表6810[[#This Row],[列6]]*24*人件費個別明細表6810[[#This Row],[列10]]))
... B30: =IF(人件費個別明細表6810[[#This Row],[列1]]="", "", TEXT(人件費個別明細表6810[[#This Row],[列1]],"aaaa")) | D30: ～ | G30: =IF(人件費個別明細表6810[[#This Row],[列2]]="","",MIN(IF((人件費個別明細表6810[[#This Row],[列4]]-人件費個別明細表6810[[#This Row],[列2]]-人件費個別明細表6810[[#This Row],[列5]])>0,FLOOR((人件費個別明細表6810[[#This Row],[列4]]-人件費個別明細表6810[[#This Row],[列2]]-人件費個別明細表6810[[#This Row],[列5]]),"0:30"),""),"8:00")) | I30: =IF(人件費個別明細表6810[[#This Row],[列6]]="","",IF(人件費個別明細表6810[[#This Row],[列6]]*24*人件費個別明細表6810[[#This Row],[列10]]>10000,10000,人件費個別明細表6810[[#This Row],[列6]]*24*人件費個別明細表6810[[#This Row],[列10]]))
A31: 合計 | C31: =SUBTOTAL(102,人件費個別明細表6810[列2]) -> 0 | D31: 日 | G31: =SUBTOTAL(109,人件費個別明細表6810[列6]) -> 0 | I31: =SUBTOTAL(109,人件費個別明細表6810[列9]) -> 0

Sheet R8年12月
A1: 様式第６号（別紙４－２）
A2: 作業日報兼直接人件費個別明細表
A3: 年月 | B3: =MID(CELL("filename",$A$3),FIND("]",CELL("filename",$A$3))+1,31) -> R8年12月
A4: 企業名 | B4: =集計!B3 -> 0
A5: 従事者氏名 | B5: =集計!B4 -> 0
A6: （注）30分単位で記入してください。
A7: 日付 | B7: 曜日 | C7: 作業時刻 | F7: 休憩等 除外時間 | G7: 作業時間数 | H7: 時給単価 | I7: 日額給与 | J7: 作業内容
B8: =IF(人件費個別明細表681011[[#This Row],[列1]]="", "", TEXT(人件費個別明細表681011[[#This Row],[列1]],"aaaa")) | D8: ～ | G8: =IF(人件費個別明細表681011[[#This Row],[列2]]="","",MIN(IF((人件費個別明細表681011[[#This Row],[列4]]-人件費個別明細表681011[[#This Row],[列2]]-人件費個別明細表681011[[#This Row],[列5]])>0,FLOOR((人件費個別明細表681011[[#This Row],[列4]]-人件費個別明細表681011[[#This Row],[列2]]-人件費個別明細表681011[[#This Row],[列5]]),"0:30"),""),"8:00")) | I8: =IF(人件費個別明細表681011[[#This Row],[列6]]="","",IF(人件費個別明細表681011[[#This Row],[列6]]*24*人件費個別明細表681011[[#This Row],[列10]]>10000,10000,人件費個別明細表681011[[#This Row],[列6]]*24*人件費個別明細表681011[[#This Row],[列10]]))
B9: =IF(人件費個別明細表681011[[#This Row],[列1]]="", "", TEXT(人件費個別明細表681011[[#This Row],[列1]],"aaaa")) | D9: ～ | G9: =IF(人件費個別明細表681011[[#This Row],[列2]]="","",MIN(IF((人件費個別明細表681011[[#This Row],[列4]]-人件費個別明細表681011[[#This Row],[列2]]-人件費個別明細表681011[[#This Row],[列5]])>0,FLOOR((人件費個別明細表681011[[#This Row],[列4]]-人件費個別明細表681011[[#This Row],[列2]]-人件費個別明細表681011[[#This Row],[列5]]),"0:30"),""),"8:00")) | I9: =IF(人件費個別明細表681011[[#This Row],[列6]]="","",IF(人件費個別明細表681011[[#This Row],[列6]]*24*人件費個別明細表681011[[#This Row],[列10]]>10000,10000,人件費個別明細表681011[[#This Row],[列6]]*24*人件費個別明細表681011[[#This Row],[列10]]))
B10: =IF(人件費個別明細表681011[[#This Row],[列1]]="", "", TEXT(人件費個別明細表681011[[#This Row],[列1]],"aaaa")) | D10: ～ | G10: =IF(人件費個別明細表681011[[#This Row],[列2]]="","",MIN(IF((人件費個別明細表681011[[#This Row],[列4]]-人件費個別明細表681011[[#This Row],[列2]]-人件費個別明細表681011[[#This Row],[列5]])>0,FLOOR((人件費個別明細表681011[[#This Row],[列4]]-人件費個別明細表681011[[#This Row],[列2]]-人件費個別明細表681011[[#This Row],[列5]]),"0:30"),""),"8:00")) | I10: =IF(人件費個別明細表681011[[#This Row],[列6]]="","",IF(人件費個別明細表681011[[#This Row],[列6]]*24*人件費個別明細表681011[[#This Row],[列10]]>10000,10000,人件費個別明細表681011[[#This Row],[列6]]*24*人件費個別明細表681011[[#This Row],[列10]]))
B11: =IF(人件費個別明細表681011[[#This Row],[列1]]="", "", TEXT(人件費個別明細表681011[[#This Row],[列1]],"aaaa")) | D11: ～ | G11: =IF(人件費個別明細表681011[[#This Row],[列2]]="","",MIN(IF((人件費個別明細表681011[[#This Row],[列4]]-人件費個別明細表681011[[#This Row],[列2]]-人件費個別明細表681011[[#This Row],[列5]])>0,FLOOR((人件費個別明細表681011[[#This Row],[列4]]-人件費個別明細表681011[[#This Row],[列2]]-人件費個別明細表681011[[#This Row],[列5]]),"0:30"),""),"8:00")) | I11: =IF(人件費個別明細表681011[[#This Row],[列6]]="","",IF(人件費個別明細表681011[[#This Row],[列6]]*24*人件費個別明細表681011[[#This Row],[列10]]>10000,10000,人件費個別明細表681011[[#This Row],[列6]]*24*人件費個別明細表681011[[#This Row],[列10]]))
B12: =IF(人件費個別明細表681011[[#This Row],[列1]]="", "", TEXT(人件費個別明細表681011[[#This Row],[列1]],"aaaa")) | D12: ～ | G12: =IF(人件費個別明細表681011[[#This Row],[列2]]="","",MIN(IF((人件費個別明細表681011[[#This Row],[列4]]-人件費個別明細表681011[[#This Row],[列2]]-人件費個別明細表681011[[#This Row],[列5]])>0,FLOOR((人件費個別明細表681011[[#This Row],[列4]]-人件費個別明細表681011[[#This Row],[列2]]-人件費個別明細表681011[[#This Row],[列5]]),"0:30"),""),"8:00")) | I12: =IF(人件費個別明細表681011[[#This Row],[列6]]="","",IF(人件費個別明細表681011[[#This Row],[列6]]*24*人件費個別明細表681011[[#This Row],[列10]]>10000,10000,人件費個別明細表681011[[#This Row],[列6]]*24*人件費個別明細表681011[[#This Row],[列10]]))
B13: =IF(人件費個別明細表681011[[#This Row],[列1]]="", "", TEXT(人件費個別明細表681011[[#This Row],[列1]],"aaaa")) | D13: ～ | G13: =IF(人件費個別明細表681011[[#This Row],[列2]]="","",MIN(IF((人件費個別明細表681011[[#This Row],[列4]]-人件費個別明細表681011[[#This Row],[列2]]-人件費個別明細表681011[[#This Row],[列5]])>0,FLOOR((人件費個別明細表681011[[#This Row],[列4]]-人件費個別明細表681011[[#This Row],[列2]]-人件費個別明細表681011[[#This Row],[列5]]),"0:30"),""),"8:00")) | I13: =IF(人件費個別明細表681011[[#This Row],[列6]]="","",IF(人件費個別明細表681011[[#This Row],[列6]]*24*人件費個別明細表681011[[#This Row],[列10]]>10000,10000,人件費個別明細表681011[[#This Row],[列6]]*24*人件費個別明細表681011[[#This Row],[列10]]))
B14: =IF(人件費個別明細表681011[[#This Row],[列1]]="", "", TEXT(人件費個別明細表681011[[#This Row],[列1]],"aaaa")) | D14: ～ | G14: =IF(人件費個別明細表681011[[#This Row],[列2]]="","",MIN(IF((人件費個別明細表681011[[#This Row],[列4]]-人件費個別明細表681011[[#This Row],[列2]]-人件費個別明細表681011[[#This Row],[列5]])>0,FLOOR((人件費個別明細表681011[[#This Row],[列4]]-人件費個別明細表681011[[#This Row],[列2]]-人件費個別明細表681011[[#This Row],[列5]]),"0:30"),""),"8:00")) | I14: =IF(人件費個別明細表681011[[#This Row],[列6]]="","",IF(人件費個別明細表681011[[#This Row],[列6]]*24*人件費個別明細表681011[[#This Row],[列10]]>10000,10000,人件費個別明細表681011[[#This Row],[列6]]*24*人件費個別明細表681011[[#This Row],[列10]]))
B15: =IF(人件費個別明細表681011[[#This Row],[列1]]="", "", TEXT(人件費個別明細表681011[[#This Row],[列1]],"aaaa")) | D15: ～ | G15: =IF(人件費個別明細表681011[[#This Row],[列2]]="","",MIN(IF((人件費個別明細表681011[[#This Row],[列4]]-人件費個別明細表681011[[#This Row],[列2]]-人件費個別明細表681011[[#This Row],[列5]])>0,FLOOR((人件費個別明細表681011[[#This Row],[列4]]-人件費個別明細表681011[[#This Row],[列2]]-人件費個別明細表681011[[#This Row],[列5]]),"0:30"),""),"8:00")) | I15: =IF(人件費個別明細表681011[[#This Row],[列6]]="","",IF(人件費個別明細表681011[[#This Row],[列6]]*24*人件費個別明細表681011[[#This Row],[列10]]>10000,10000,人件費個別明細表681011[[#This Row],[列6]]*24*人件費個別明細表681011[[#This Row],[列10]]))
B16: =IF(人件費個別明細表681011[[#This Row],[列1]]="", "", TEXT(人件費個別明細表681011[[#This Row],[列1]],"aaaa")) | D16: ～ | G16: =IF(人件費個別明細表681011[[#This Row],[列2]]="","",MIN(IF((人件費個別明細表681011[[#This Row],[列4]]-人件費個別明細表681011[[#This Row],[列2]]-人件費個別明細表681011[[#This Row],[列5]])>0,FLOOR((人件費個別明細表681011[[#This Row],[列4]]-人件費個別明細表681011[[#This Row],[列2]]-人件費個別明細表681011[[#This Row],[列5]]),"0:30"),""),"8:00")) | I16: =IF(人件費個別明細表681011[[#This Row],[列6]]="","",IF(人件費個別明細表681011[[#This Row],[列6]]*24*人件費個別明細表681011[[#This Row],[列10]]>10000,10000,人件費個別明細表681011[[#This Row],[列6]]*24*人件費個別明細表681011[[#This Row],[列10]]))
B17: =IF(人件費個別明細表681011[[#This Row],[列1]]="", "", TEXT(人件費個別明細表681011[[#This Row],[列1]],"aaaa")) | D17: ～ | G17: =IF(人件費個別明細表681011[[#This Row],[列2]]="","",MIN(IF((人件費個別明細表681011[[#This Row],[列4]]-人件費個別明細表681011[[#This Row],[列2]]-人件費個別明細表681011[[#This Row],[列5]])>0,FLOOR((人件費個別明細表681011[[#This Row],[列4]]-人件費個別明細表681011[[#This Row],[列2]]-人件費個別明細表681011[[#This Row],[列5]]),"0:30"),""),"8:00")) | I17: =IF(人件費個別明細表681011[[#This Row],[列6]]="","",IF(人件費個別明細表681011[[#This Row],[列6]]*24*人件費個別明細表681011[[#This Row],[列10]]>10000,10000,人件費個別明細表681011[[#This Row],[列6]]*24*人件費個別明細表681011[[#This Row],[列10]]))
B18: =IF(人件費個別明細表681011[[#This Row],[列1]]="", "", TEXT(人件費個別明細表681011[[#This Row],[列1]],"aaaa")) | D18: ～ | G18: =IF(人件費個別明細表681011[[#This Row],[列2]]="","",MIN(IF((人件費個別明細表681011[[#This Row],[列4]]-人件費個別明細表681011[[#This Row],[列2]]-人件費個別明細表681011[[#This Row],[列5]])>0,FLOOR((人件費個別明細表681011[[#This Row],[列4]]-人件費個別明細表681011[[#This Row],[列2]]-人件費個別明細表681011[[#This Row],[列5]]),"0:30"),""),"8:00")) | I18: =IF(人件費個別明細表681011[[#This Row],[列6]]="","",IF(人件費個別明細表681011[[#This Row],[列6]]*24*人件費個別明細表681011[[#This Row],[列10]]>10000,10000,人件費個別明細表681011[[#This Row],[列6]]*24*人件費個別明細表681011[[#This Row],[列10]]))
B19: =IF(人件費個別明細表681011[[#This Row],[列1]]="", "", TEXT(人件費個別明細表681011[[#This Row],[列1]],"aaaa")) | D19: ～ | G19: =IF(人件費個別明細表681011[[#This Row],[列2]]="","",MIN(IF((人件費個別明細表681011[[#This Row],[列4]]-人件費個別明細表681011[[#This Row],[列2]]-人件費個別明細表681011[[#This Row],[列5]])>0,FLOOR((人件費個別明細表681011[[#This Row],[列4]]-人件費個別明細表681011[[#This Row],[列2]]-人件費個別明細表681011[[#This Row],[列5]]),"0:30"),""),"8:00")) | I19: =IF(人件費個別明細表681011[[#This Row],[列6]]="","",IF(人件費個別明細表681011[[#This Row],[列6]]*24*人件費個別明細表681011[[#This Row],[列10]]>10000,10000,人件費個別明細表681011[[#This Row],[列6]]*24*人件費個別明細表681011[[#This Row],[列10]]))
... B30: =IF(人件費個別明細表681011[[#This Row],[列1]]="", "", TEXT(人件費個別明細表681011[[#This Row],[列1]],"aaaa")) | D30: ～ | G30: =IF(人件費個別明細表681011[[#This Row],[列2]]="","",MIN(IF((人件費個別明細表681011[[#This Row],[列4]]-人件費個別明細表681011[[#This Row],[列2]]-人件費個別明細表681011[[#This Row],[列5]])>0,FLOOR((人件費個別明細表681011[[#This Row],[列4]]-人件費個別明細表681011[[#This Row],[列2]]-人件費個別明細表681011[[#This Row],[列5]]),"0:30"),""),"8:00")) | I30: =IF(人件費個別明細表681011[[#This Row],[列6]]="","",IF(人件費個別明細表681011[[#This Row],[列6]]*24*人件費個別明細表681011[[#This Row],[列10]]>10000,10000,人件費個別明細表681011[[#This Row],[列6]]*24*人件費個別明細表681011[[#This Row],[列10]]))
A31: 合計 | C31: =SUBTOTAL(102,人件費個別明細表681011[列2]) -> 0 | D31: 日 | G31: =SUBTOTAL(109,人件費個別明細表681011[列6]) -> 0 | I31: =SUBTOTAL(109,人件費個別明細表681011[列9]) -> 0

Sheet R9年1月
A1: 様式第６号（別紙４－２）
A2: 作業日報兼直接人件費個別明細表
A3: 年月 | B3: =MID(CELL("filename",$A$3),FIND("]",CELL("filename",$A$3))+1,31) -> R9年1月
A4: 企業名 | B4: =集計!B3 -> 0
A5: 従事者氏名 | B5: =集計!B4 -> 0
A6: （注）30分単位で記入してください。
A7: 日付 | B7: 曜日 | C7: 作業時刻 | F7: 休憩等 除外時間 | G7: 作業時間数 | H7: 時給単価 | I7: 日額給与 | J7: 作業内容
B8: =IF(人件費個別明細表68101112[[#This Row],[列1]]="", "", TEXT(人件費個別明細表68101112[[#This Row],[列1]],"aaaa")) | D8: ～ | G8: =IF(人件費個別明細表68101112[[#This Row],[列2]]="","",MIN(IF((人件費個別明細表68101112[[#This Row],[列4]]-人件費個別明細表68101112[[#This Row],[列2]]-人件費個別明細表68101112[[#This Row],[列5]])>0,FLOOR((人件費個別明細表68101112[[#This Row],[列4]]-人件費個別明細表68101112[[#This Row],[列2]]-人件費個別明細表68101112[[#This Row],[列5]]),"0:30"),""),"8:00")) | I8: =IF(人件費個別明細表68101112[[#This Row],[列6]]="","",IF(人件費個別明細表68101112[[#This Row],[列6]]*24*人件費個別明細表68101112[[#This Row],[列10]]>10000,10000,人件費個別明細表68101112[[#This Row],[列6]]*24*人件費個別明細表68101112[[#This Row],[列10]]))
B9: =IF(人件費個別明細表68101112[[#This Row],[列1]]="", "", TEXT(人件費個別明細表68101112[[#This Row],[列1]],"aaaa")) | D9: ～ | G9: =IF(人件費個別明細表68101112[[#This Row],[列2]]="","",MIN(IF((人件費個別明細表68101112[[#This Row],[列4]]-人件費個別明細表68101112[[#This Row],[列2]]-人件費個別明細表68101112[[#This Row],[列5]])>0,FLOOR((人件費個別明細表68101112[[#This Row],[列4]]-人件費個別明細表68101112[[#This Row],[列2]]-人件費個別明細表68101112[[#This Row],[列5]]),"0:30"),""),"8:00")) | I9: =IF(人件費個別明細表68101112[[#This Row],[列6]]="","",IF(人件費個別明細表68101112[[#This Row],[列6]]*24*人件費個別明細表68101112[[#This Row],[列10]]>10000,10000,人件費個別明細表68101112[[#This Row],[列6]]*24*人件費個別明細表68101112[[#This Row],[列10]]))
B10: =IF(人件費個別明細表68101112[[#This Row],[列1]]="", "", TEXT(人件費個別明細表68101112[[#This Row],[列1]],"aaaa")) | D10: ～ | G10: =IF(人件費個別明細表68101112[[#This Row],[列2]]="","",MIN(IF((人件費個別明細表68101112[[#This Row],[列4]]-人件費個別明細表68101112[[#This Row],[列2]]-人件費個別明細表68101112[[#This Row],[列5]])>0,FLOOR((人件費個別明細表68101112[[#This Row],[列4]]-人件費個別明細表68101112[[#This Row],[列2]]-人件費個別明細表68101112[[#This Row],[列5]]),"0:30"),""),"8:00")) | I10: =IF(人件費個別明細表68101112[[#This Row],[列6]]="","",IF(人件費個別明細表68101112[[#This Row],[列6]]*24*人件費個別明細表68101112[[#This Row],[列10]]>10000,10000,人件費個別明細表68101112[[#This Row],[列6]]*24*人件費個別明細表68101112[[#This Row],[列10]]))
B11: =IF(人件費個別明細表68101112[[#This Row],[列1]]="", "", TEXT(人件費個別明細表68101112[[#This Row],[列1]],"aaaa")) | D11: ～ | G11: =IF(人件費個別明細表68101112[[#This Row],[列2]]="","",MIN(IF((人件費個別明細表68101112[[#This Row],[列4]]-人件費個別明細表68101112[[#This Row],[列2]]-人件費個別明細表68101112[[#This Row],[列5]])>0,FLOOR((人件費個別明細表68101112[[#This Row],[列4]]-人件費個別明細表68101112[[#This Row],[列2]]-人件費個別明細表68101112[[#This Row],[列5]]),"0:30"),""),"8:00")) | I11: =IF(人件費個別明細表68101112[[#This Row],[列6]]="","",IF(人件費個別明細表68101112[[#This Row],[列6]]*24*人件費個別明細表68101112[[#This Row],[列10]]>10000,10000,人件費個別明細表68101112[[#This Row],[列6]]*24*人件費個別明細表68101112[[#This Row],[列10]]))
B12: =IF(人件費個別明細表68101112[[#This Row],[列1]]="", "", TEXT(人件費個別明細表68101112[[#This Row],[列1]],"aaaa")) | D12: ～ | G12: =IF(人件費個別明細表68101112[[#This Row],[列2]]="","",MIN(IF((人件費個別明細表68101112[[#This Row],[列4]]-人件費個別明細表68101112[[#This Row],[列2]]-人件費個別明細表68101112[[#This Row],[列5]])>0,FLOOR((人件費個別明細表68101112[[#This Row],[列4]]-人件費個別明細表68101112[[#This Row],[列2]]-人件費個別明細表68101112[[#This Row],[列5]]),"0:30"),""),"8:00")) | I12: =IF(人件費個別明細表68101112[[#This Row],[列6]]="","",IF(人件費個別明細表68101112[[#This Row],[列6]]*24*人件費個別明細表68101112[[#This Row],[列10]]>10000,10000,人件費個別明細表68101112[[#This Row],[列6]]*24*人件費個別明細表68101112[[#This Row],[列10]]))
B13: =IF(人件費個別明細表68101112[[#This Row],[列1]]="", "", TEXT(人件費個別明細表68101112[[#This Row],[列1]],"aaaa")) | D13: ～ | G13: =IF(人件費個別明細表68101112[[#This Row],[列2]]="","",MIN(IF((人件費個別明細表68101112[[#This Row],[列4]]-人件費個別明細表68101112[[#This Row],[列2]]-人件費個別明細表68101112[[#This Row],[列5]])>0,FLOOR((人件費個別明細表68101112[[#This Row],[列4]]-人件費個別明細表68101112[[#This Row],[列2]]-人件費個別明細表68101112[[#This Row],[列5]]),"0:30"),""),"8:00")) | I13: =IF(人件費個別明細表68101112[[#This Row],[列6]]="","",IF(人件費個別明細表68101112[[#This Row],[列6]]*24*人件費個別明細表68101112[[#This Row],[列10]]>10000,10000,人件費個別明細表68101112[[#This Row],[列6]]*24*人件費個別明細表68101112[[#This Row],[列10]]))
B14: =IF(人件費個別明細表68101112[[#This Row],[列1]]="", "", TEXT(人件費個別明細表68101112[[#This Row],[列1]],"aaaa")) | D14: ～ | G14: =IF(人件費個別明細表68101112[[#This Row],[列2]]="","",MIN(IF((人件費個別明細表68101112[[#This Row],[列4]]-人件費個別明細表68101112[[#This Row],[列2]]-人件費個別明細表68101112[[#This Row],[列5]])>0,FLOOR((人件費個別明細表68101112[[#This Row],[列4]]-人件費個別明細表68101112[[#This Row],[列2]]-人件費個別明細表68101112[[#This Row],[列5]]),"0:30"),""),"8:00")) | I14: =IF(人件費個別明細表68101112[[#This Row],[列6]]="","",IF(人件費個別明細表68101112[[#This Row],[列6]]*24*人件費個別明細表68101112[[#This Row],[列10]]>10000,10000,人件費個別明細表68101112[[#This Row],[列6]]*24*人件費個別明細表68101112[[#This Row],[列10]]))
B15: =IF(人件費個別明細表68101112[[#This Row],[列1]]="", "", TEXT(人件費個別明細表68101112[[#This Row],[列1]],"aaaa")) | D15: ～ | G15: =IF(人件費個別明細表68101112[[#This Row],[列2]]="","",MIN(IF((人件費個別明細表68101112[[#This Row],[列4]]-人件費個別明細表68101112[[#This Row],[列2]]-人件費個別明細表68101112[[#This Row],[列5]])>0,FLOOR((人件費個別明細表68101112[[#This Row],[列4]]-人件費個別明細表68101112[[#This Row],[列2]]-人件費個別明細表68101112[[#This Row],[列5]]),"0:30"),""),"8:00")) | I15: =IF(人件費個別明細表68101112[[#This Row],[列6]]="","",IF(人件費個別明細表68101112[[#This Row],[列6]]*24*人件費個別明細表68101112[[#This Row],[列10]]>10000,10000,人件費個別明細表68101112[[#This Row],[列6]]*24*人件費個別明細表68101112[[#This Row],[列10]]))
B16: =IF(人件費個別明細表68101112[[#This Row],[列1]]="", "", TEXT(人件費個別明細表68101112[[#This Row],[列1]],"aaaa")) | D16: ～ | G16: =IF(人件費個別明細表68101112[[#This Row],[列2]]="","",MIN(IF((人件費個別明細表68101112[[#This Row],[列4]]-人件費個別明細表68101112[[#This Row],[列2]]-人件費個別明細表68101112[[#This Row],[列5]])>0,FLOOR((人件費個別明細表68101112[[#This Row],[列4]]-人件費個別明細表68101112[[#This Row],[列2]]-人件費個別明細表68101112[[#This Row],[列5]]),"0:30"),""),"8:00")) | I16: =IF(人件費個別明細表68101112[[#This Row],[列6]]="","",IF(人件費個別明細表68101112[[#This Row],[列6]]*24*人件費個別明細表68101112[[#This Row],[列10]]>10000,10000,人件費個別明細表68101112[[#This Row],[列6]]*24*人件費個別明細表68101112[[#This Row],[列10]]))
B17: =IF(人件費個別明細表68101112[[#This Row],[列1]]="", "", TEXT(人件費個別明細表68101112[[#This Row],[列1]],"aaaa")) | D17: ～ | G17: =IF(人件費個別明細表68101112[[#This Row],[列2]]="","",MIN(IF((人件費個別明細表68101112[[#This Row],[列4]]-人件費個別明細表68101112[[#This Row],[列2]]-人件費個別明細表68101112[[#This Row],[列5]])>0,FLOOR((人件費個別明細表68101112[[#This Row],[列4]]-人件費個別明細表68101112[[#This Row],[列2]]-人件費個別明細表68101112[[#This Row],[列5]]),"0:30"),""),"8:00")) | I17: =IF(人件費個別明細表68101112[[#This Row],[列6]]="","",IF(人件費個別明細表68101112[[#This Row],[列6]]*24*人件費個別明細表68101112[[#This Row],[列10]]>10000,10000,人件費個別明細表68101112[[#This Row],[列6]]*24*人件費個別明細表68101112[[#This Row],[列10]]))
B18: =IF(人件費個別明細表68101112[[#This Row],[列1]]="", "", TEXT(人件費個別明細表68101112[[#This Row],[列1]],"aaaa")) | D18: ～ | G18: =IF(人件費個別明細表68101112[[#This Row],[列2]]="","",MIN(IF((人件費個別明細表68101112[[#This Row],[列4]]-人件費個別明細表68101112[[#This Row],[列2]]-人件費個別明細表68101112[[#This Row],[列5]])>0,FLOOR((人件費個別明細表68101112[[#This Row],[列4]]-人件費個別明細表68101112[[#This Row],[列2]]-人件費個別明細表68101112[[#This Row],[列5]]),"0:30"),""),"8:00")) | I18: =IF(人件費個別明細表68101112[[#This Row],[列6]]="","",IF(人件費個別明細表68101112[[#This Row],[列6]]*24*人件費個別明細表68101112[[#This Row],[列10]]>10000,10000,人件費個別明細表68101112[[#This Row],[列6]]*24*人件費個別明細表68101112[[#This Row],[列10]]))
B19: =IF(人件費個別明細表68101112[[#This Row],[列1]]="", "", TEXT(人件費個別明細表68101112[[#This Row],[列1]],"aaaa")) | D19: ～ | G19: =IF(人件費個別明細表68101112[[#This Row],[列2]]="","",MIN(IF((人件費個別明細表68101112[[#This Row],[列4]]-人件費個別明細表68101112[[#This Row],[列2]]-人件費個別明細表68101112[[#This Row],[列5]])>0,FLOOR((人件費個別明細表68101112[[#This Row],[列4]]-人件費個別明細表68101112[[#This Row],[列2]]-人件費個別明細表68101112[[#This Row],[列5]]),"0:30"),""),"8:00")) | I19: =IF(人件費個別明細表68101112[[#This Row],[列6]]="","",IF(人件費個別明細表68101112[[#This Row],[列6]]*24*人件費個別明細表68101112[[#This Row],[列10]]>10000,10000,人件費個別明細表68101112[[#This Row],[列6]]*24*人件費個別明細表68101112[[#This Row],[列10]]))
... B30: =IF(人件費個別明細表68101112[[#This Row],[列1]]="", "", TEXT(人件費個別明細表68101112[[#This Row],[列1]],"aaaa")) | D30: ～ | G30: =IF(人件費個別明細表68101112[[#This Row],[列2]]="","",MIN(IF((人件費個別明細表68101112[[#This Row],[列4]]-人件費個別明細表68101112[[#This Row],[列2]]-人件費個別明細表68101112[[#This Row],[列5]])>0,FLOOR((人件費個別明細表68101112[[#This Row],[列4]]-人件費個別明細表68101112[[#This Row],[列2]]-人件費個別明細表68101112[[#This Row],[列5]]),"0:30"),""),"8:00")) | I30: =IF(人件費個別明細表68101112[[#This Row],[列6]]="","",IF(人件費個別明細表68101112[[#This Row],[列6]]*24*人件費個別明細表68101112[[#This Row],[列10]]>10000,10000,人件費個別明細表68101112[[#This Row],[列6]]*24*人件費個別明細表68101112[[#This Row],[列10]]))
A31: 合計 | C31: =SUBTOTAL(102,人件費個別明細表68101112[列2]) -> 0 | D31: 日 | G31: =SUBTOTAL(109,人件費個別明細表68101112[列6]) -> 0 | I31: =SUBTOTAL(109,人件費個別明細表68101112[列9]) -> 0

Sheet R9年2月
A1: 様式第６号（別紙４－２）
A2: 作業日報兼直接人件費個別明細表
A3: 年月 | B3: =MID(CELL("filename",$A$3),FIND("]",CELL("filename",$A$3))+1,31) -> R9年2月
A4: 企業名 | B4: =集計!B3 -> 0
A5: 従事者氏名 | B5: =集計!B4 -> 0
A6: （注）30分単位で記入してください。
A7: 日付 | B7: 曜日 | C7: 作業時刻 | F7: 休憩等 除外時間 | G7: 作業時間数 | H7: 時給単価 | I7: 日額給与 | J7: 作業内容
B8: =IF(人件費個別明細表681011124[[#This Row],[列1]]="", "", TEXT(人件費個別明細表681011124[[#This Row],[列1]],"aaaa")) | D8: ～ | G8: =IF(人件費個別明細表681011124[[#This Row],[列2]]="","",MIN(IF((人件費個別明細表681011124[[#This Row],[列4]]-人件費個別明細表681011124[[#This Row],[列2]]-人件費個別明細表681011124[[#This Row],[列5]])>0,FLOOR((人件費個別明細表681011124[[#This Row],[列4]]-人件費個別明細表681011124[[#This Row],[列2]]-人件費個別明細表681011124[[#This Row],[列5]]),"0:30"),""),"8:00")) | I8: =IF(人件費個別明細表681011124[[#This Row],[列6]]="","",IF(人件費個別明細表681011124[[#This Row],[列6]]*24*人件費個別明細表681011124[[#This Row],[列10]]>10000,10000,人件費個別明細表681011124[[#This Row],[列6]]*24*人件費個別明細表681011124[[#This Row],[列10]]))
B9: =IF(人件費個別明細表681011124[[#This Row],[列1]]="", "", TEXT(人件費個別明細表681011124[[#This Row],[列1]],"aaaa")) | D9: ～ | G9: =IF(人件費個別明細表681011124[[#This Row],[列2]]="","",MIN(IF((人件費個別明細表681011124[[#This Row],[列4]]-人件費個別明細表681011124[[#This Row],[列2]]-人件費個別明細表681011124[[#This Row],[列5]])>0,FLOOR((人件費個別明細表681011124[[#This Row],[列4]]-人件費個別明細表681011124[[#This Row],[列2]]-人件費個別明細表681011124[[#This Row],[列5]]),"0:30"),""),"8:00")) | I9: =IF(人件費個別明細表681011124[[#This Row],[列6]]="","",IF(人件費個別明細表681011124[[#This Row],[列6]]*24*人件費個別明細表681011124[[#This Row],[列10]]>10000,10000,人件費個別明細表681011124[[#This Row],[列6]]*24*人件費個別明細表681011124[[#This Row],[列10]]))
B10: =IF(人件費個別明細表681011124[[#This Row],[列1]]="", "", TEXT(人件費個別明細表681011124[[#This Row],[列1]],"aaaa")) | D10: ～ | G10: =IF(人件費個別明細表681011124[[#This Row],[列2]]="","",MIN(IF((人件費個別明細表681011124[[#This Row],[列4]]-人件費個別明細表681011124[[#This Row],[列2]]-人件費個別明細表681011124[[#This Row],[列5]])>0,FLOOR((人件費個別明細表681011124[[#This Row],[列4]]-人件費個別明細表681011124[[#This Row],[列2]]-人件費個別明細表681011124[[#This Row],[列5]]),"0:30"),""),"8:00")) | I10: =IF(人件費個別明細表681011124[[#This Row],[列6]]="","",IF(人件費個別明細表681011124[[#This Row],[列6]]*24*人件費個別明細表681011124[[#This Row],[列10]]>10000,10000,人件費個別明細表681011124[[#This Row],[列6]]*24*人件費個別明細表681011124[[#This Row],[列10]]))
B11: =IF(人件費個別明細表681011124[[#This Row],[列1]]="", "", TEXT(人件費個別明細表681011124[[#This Row],[列1]],"aaaa")) | D11: ～ | G11: =IF(人件費個別明細表681011124[[#This Row],[列2]]="","",MIN(IF((人件費個別明細表681011124[[#This Row],[列4]]-人件費個別明細表681011124[[#This Row],[列2]]-人件費個別明細表681011124[[#This Row],[列5]])>0,FLOOR((人件費個別明細表681011124[[#This Row],[列4]]-人件費個別明細表681011124[[#This Row],[列2]]-人件費個別明細表681011124[[#This Row],[列5]]),"0:30"),""),"8:00")) | I11: =IF(人件費個別明細表681011124[[#This Row],[列6]]="","",IF(人件費個別明細表681011124[[#This Row],[列6]]*24*人件費個別明細表681011124[[#This Row],[列10]]>10000,10000,人件費個別明細表681011124[[#This Row],[列6]]*24*人件費個別明細表681011124[[#This Row],[列10]]))
B12: =IF(人件費個別明細表681011124[[#This Row],[列1]]="", "", TEXT(人件費個別明細表681011124[[#This Row],[列1]],"aaaa")) | D12: ～ | G12: =IF(人件費個別明細表681011124[[#This Row],[列2]]="","",MIN(IF((人件費個別明細表681011124[[#This Row],[列4]]-人件費個別明細表681011124[[#This Row],[列2]]-人件費個別明細表681011124[[#This Row],[列5]])>0,FLOOR((人件費個別明細表681011124[[#This Row],[列4]]-人件費個別明細表681011124[[#This Row],[列2]]-人件費個別明細表681011124[[#This Row],[列5]]),"0:30"),""),"8:00")) | I12: =IF(人件費個別明細表681011124[[#This Row],[列6]]="","",IF(人件費個別明細表681011124[[#This Row],[列6]]*24*人件費個別明細表681011124[[#This Row],[列10]]>10000,10000,人件費個別明細表681011124[[#This Row],[列6]]*24*人件費個別明細表681011124[[#This Row],[列10]]))
B13: =IF(人件費個別明細表681011124[[#This Row],[列1]]="", "", TEXT(人件費個別明細表681011124[[#This Row],[列1]],"aaaa")) | D13: ～ | G13: =IF(人件費個別明細表681011124[[#This Row],[列2]]="","",MIN(IF((人件費個別明細表681011124[[#This Row],[列4]]-人件費個別明細表681011124[[#This Row],[列2]]-人件費個別明細表681011124[[#This Row],[列5]])>0,FLOOR((人件費個別明細表681011124[[#This Row],[列4]]-人件費個別明細表681011124[[#This Row],[列2]]-人件費個別明細表681011124[[#This Row],[列5]]),"0:30"),""),"8:00")) | I13: =IF(人件費個別明細表681011124[[#This Row],[列6]]="","",IF(人件費個別明細表681011124[[#This Row],[列6]]*24*人件費個別明細表681011124[[#This Row],[列10]]>10000,10000,人件費個別明細表681011124[[#This Row],[列6]]*24*人件費個別明細表681011124[[#This Row],[列10]]))
B14: =IF(人件費個別明細表681011124[[#This Row],[列1]]="", "", TEXT(人件費個別明細表681011124[[#This Row],[列1]],"aaaa")) | D14: ～ | G14: =IF(人件費個別明細表681011124[[#This Row],[列2]]="","",MIN(IF((人件費個別明細表681011124[[#This Row],[列4]]-人件費個別明細表681011124[[#This Row],[列2]]-人件費個別明細表681011124[[#This Row],[列5]])>0,FLOOR((人件費個別明細表681011124[[#This Row],[列4]]-人件費個別明細表681011124[[#This Row],[列2]]-人件費個別明細表681011124[[#This Row],[列5]]),"0:30"),""),"8:00")) | I14: =IF(人件費個別明細表681011124[[#This Row],[列6]]="","",IF(人件費個別明細表681011124[[#This Row],[列6]]*24*人件費個別明細表681011124[[#This Row],[列10]]>10000,10000,人件費個別明細表681011124[[#This Row],[列6]]*24*人件費個別明細表681011124[[#This Row],[列10]]))
B15: =IF(人件費個別明細表681011124[[#This Row],[列1]]="", "", TEXT(人件費個別明細表681011124[[#This Row],[列1]],"aaaa")) | D15: ～ | G15: =IF(人件費個別明細表681011124[[#This Row],[列2]]="","",MIN(IF((人件費個別明細表681011124[[#This Row],[列4]]-人件費個別明細表681011124[[#This Row],[列2]]-人件費個別明細表681011124[[#This Row],[列5]])>0,FLOOR((人件費個別明細表681011124[[#This Row],[列4]]-人件費個別明細表681011124[[#This Row],[列2]]-人件費個別明細表681011124[[#This Row],[列5]]),"0:30"),""),"8:00")) | I15: =IF(人件費個別明細表681011124[[#This Row],[列6]]="","",IF(人件費個別明細表681011124[[#This Row],[列6]]*24*人件費個別明細表681011124[[#This Row],[列10]]>10000,10000,人件費個別明細表681011124[[#This Row],[列6]]*24*人件費個別明細表681011124[[#This Row],[列10]]))
B16: =IF(人件費個別明細表681011124[[#This Row],[列1]]="", "", TEXT(人件費個別明細表681011124[[#This Row],[列1]],"aaaa")) | D16: ～ | G16: =IF(人件費個別明細表681011124[[#This Row],[列2]]="","",MIN(IF((人件費個別明細表681011124[[#This Row],[列4]]-人件費個別明細表681011124[[#This Row],[列2]]-人件費個別明細表681011124[[#This Row],[列5]])>0,FLOOR((人件費個別明細表681011124[[#This Row],[列4]]-人件費個別明細表681011124[[#This Row],[列2]]-人件費個別明細表681011124[[#This Row],[列5]]),"0:30"),""),"8:00")) | I16: =IF(人件費個別明細表681011124[[#This Row],[列6]]="","",IF(人件費個別明細表681011124[[#This Row],[列6]]*24*人件費個別明細表681011124[[#This Row],[列10]]>10000,10000,人件費個別明細表681011124[[#This Row],[列6]]*24*人件費個別明細表681011124[[#This Row],[列10]]))
B17: =IF(人件費個別明細表681011124[[#This Row],[列1]]="", "", TEXT(人件費個別明細表681011124[[#This Row],[列1]],"aaaa")) | D17: ～ | G17: =IF(人件費個別明細表681011124[[#This Row],[列2]]="","",MIN(IF((人件費個別明細表681011124[[#This Row],[列4]]-人件費個別明細表681011124[[#This Row],[列2]]-人件費個別明細表681011124[[#This Row],[列5]])>0,FLOOR((人件費個別明細表681011124[[#This Row],[列4]]-人件費個別明細表681011124[[#This Row],[列2]]-人件費個別明細表681011124[[#This Row],[列5]]),"0:30"),""),"8:00")) | I17: =IF(人件費個別明細表681011124[[#This Row],[列6]]="","",IF(人件費個別明細表681011124[[#This Row],[列6]]*24*人件費個別明細表681011124[[#This Row],[列10]]>10000,10000,人件費個別明細表681011124[[#This Row],[列6]]*24*人件費個別明細表681011124[[#This Row],[列10]]))
B18: =IF(人件費個別明細表681011124[[#This Row],[列1]]="", "", TEXT(人件費個別明細表681011124[[#This Row],[列1]],"aaaa")) | D18: ～ | G18: =IF(人件費個別明細表681011124[[#This Row],[列2]]="","",MIN(IF((人件費個別明細表681011124[[#This Row],[列4]]-人件費個別明細表681011124[[#This Row],[列2]]-人件費個別明細表681011124[[#This Row],[列5]])>0,FLOOR((人件費個別明細表681011124[[#This Row],[列4]]-人件費個別明細表681011124[[#This Row],[列2]]-人件費個別明細表681011124[[#This Row],[列5]]),"0:30"),""),"8:00")) | I18: =IF(人件費個別明細表681011124[[#This Row],[列6]]="","",IF(人件費個別明細表681011124[[#This Row],[列6]]*24*人件費個別明細表681011124[[#This Row],[列10]]>10000,10000,人件費個別明細表681011124[[#This Row],[列6]]*24*人件費個別明細表681011124[[#This Row],[列10]]))
B19: =IF(人件費個別明細表681011124[[#This Row],[列1]]="", "", TEXT(人件費個別明細表681011124[[#This Row],[列1]],"aaaa")) | D19: ～ | G19: =IF(人件費個別明細表681011124[[#This Row],[列2]]="","",MIN(IF((人件費個別明細表681011124[[#This Row],[列4]]-人件費個別明細表681011124[[#This Row],[列2]]-人件費個別明細表681011124[[#This Row],[列5]])>0,FLOOR((人件費個別明細表681011124[[#This Row],[列4]]-人件費個別明細表681011124[[#This Row],[列2]]-人件費個別明細表681011124[[#This Row],[列5]]),"0:30"),""),"8:00")) | I19: =IF(人件費個別明細表681011124[[#This Row],[列6]]="","",IF(人件費個別明細表681011124[[#This Row],[列6]]*24*人件費個別明細表681011124[[#This Row],[列10]]>10000,10000,人件費個別明細表681011124[[#This Row],[列6]]*24*人件費個別明細表681011124[[#This Row],[列10]]))
... B30: =IF(人件費個別明細表681011124[[#This Row],[列1]]="", "", TEXT(人件費個別明細表681011124[[#This Row],[列1]],"aaaa")) | D30: ～ | G30: =IF(人件費個別明細表681011124[[#This Row],[列2]]="","",MIN(IF((人件費個別明細表681011124[[#This Row],[列4]]-人件費個別明細表681011124[[#This Row],[列2]]-人件費個別明細表681011124[[#This Row],[列5]])>0,FLOOR((人件費個別明細表681011124[[#This Row],[列4]]-人件費個別明細表681011124[[#This Row],[列2]]-人件費個別明細表681011124[[#This Row],[列5]]),"0:30"),""),"8:00")) | I30: =IF(人件費個別明細表681011124[[#This Row],[列6]]="","",IF(人件費個別明細表681011124[[#This Row],[列6]]*24*人件費個別明細表681011124[[#This Row],[列10]]>10000,10000,人件費個別明細表681011124[[#This Row],[列6]]*24*人件費個別明細表681011124[[#This Row],[列10]]))
A31: 合計 | C31: =SUBTOTAL(102,人件費個別明細表681011124[列2]) -> 0 | D31: 日 | G31: =SUBTOTAL(109,人件費個別明細表681011124[列6]) -> 0 | I31: =SUBTOTAL(109,人件費個別明細表681011124[列9]) -> 0

Sheet R9年3月
A1: 様式第６号（別紙４－２）
A2: 作業日報兼直接人件費個別明細表
A3: 年月 | B3: =MID(CELL("filename",$A$3),FIND("]",CELL("filename",$A$3))+1,31) -> R9年3月
A4: 企業名 | B4: =集計!B3 -> 0
A5: 従事者氏名 | B5: =集計!B4 -> 0
A6: （注）30分単位で記入してください。
A7: 日付 | B7: 曜日 | C7: 作業時刻 | F7: 休憩等 除外時間 | G7: 作業時間数 | H7: 時給単価 | I7: 日額給与 | J7: 作業内容
B8: =IF(人件費個別明細表68101112413[[#This Row],[列1]]="", "", TEXT(人件費個別明細表68101112413[[#This Row],[列1]],"aaaa")) | D8: ～ | G8: =IF(人件費個別明細表68101112413[[#This Row],[列2]]="","",MIN(IF((人件費個別明細表68101112413[[#This Row],[列4]]-人件費個別明細表68101112413[[#This Row],[列2]]-人件費個別明細表68101112413[[#This Row],[列5]])>0,FLOOR((人件費個別明細表68101112413[[#This Row],[列4]]-人件費個別明細表68101112413[[#This Row],[列2]]-人件費個別明細表68101112413[[#This Row],[列5]]),"0:30"),""),"8:00")) | I8: =IF(人件費個別明細表68101112413[[#This Row],[列6]]="","",IF(人件費個別明細表68101112413[[#This Row],[列6]]*24*人件費個別明細表68101112413[[#This Row],[列10]]>10000,10000,人件費個別明細表68101112413[[#This Row],[列6]]*24*人件費個別明細表68101112413[[#This Row],[列10]]))
B9: =IF(人件費個別明細表68101112413[[#This Row],[列1]]="", "", TEXT(人件費個別明細表68101112413[[#This Row],[列1]],"aaaa")) | D9: ～ | G9: =IF(人件費個別明細表68101112413[[#This Row],[列2]]="","",MIN(IF((人件費個別明細表68101112413[[#This Row],[列4]]-人件費個別明細表68101112413[[#This Row],[列2]]-人件費個別明細表68101112413[[#This Row],[列5]])>0,FLOOR((人件費個別明細表68101112413[[#This Row],[列4]]-人件費個別明細表68101112413[[#This Row],[列2]]-人件費個別明細表68101112413[[#This Row],[列5]]),"0:30"),""),"8:00")) | I9: =IF(人件費個別明細表68101112413[[#This Row],[列6]]="","",IF(人件費個別明細表68101112413[[#This Row],[列6]]*24*人件費個別明細表68101112413[[#This Row],[列10]]>10000,10000,人件費個別明細表68101112413[[#This Row],[列6]]*24*人件費個別明細表68101112413[[#This Row],[列10]]))
B10: =IF(人件費個別明細表68101112413[[#This Row],[列1]]="", "", TEXT(人件費個別明細表68101112413[[#This Row],[列1]],"aaaa")) | D10: ～ | G10: =IF(人件費個別明細表68101112413[[#This Row],[列2]]="","",MIN(IF((人件費個別明細表68101112413[[#This Row],[列4]]-人件費個別明細表68101112413[[#This Row],[列2]]-人件費個別明細表68101112413[[#This Row],[列5]])>0,FLOOR((人件費個別明細表68101112413[[#This Row],[列4]]-人件費個別明細表68101112413[[#This Row],[列2]]-人件費個別明細表68101112413[[#This Row],[列5]]),"0:30"),""),"8:00")) | I10: =IF(人件費個別明細表68101112413[[#This Row],[列6]]="","",IF(人件費個別明細表68101112413[[#This Row],[列6]]*24*人件費個別明細表68101112413[[#This Row],[列10]]>10000,10000,人件費個別明細表68101112413[[#This Row],[列6]]*24*人件費個別明細表68101112413[[#This Row],[列10]]))
B11: =IF(人件費個別明細表68101112413[[#This Row],[列1]]="", "", TEXT(人件費個別明細表68101112413[[#This Row],[列1]],"aaaa")) | D11: ～ | G11: =IF(人件費個別明細表68101112413[[#This Row],[列2]]="","",MIN(IF((人件費個別明細表68101112413[[#This Row],[列4]]-人件費個別明細表68101112413[[#This Row],[列2]]-人件費個別明細表68101112413[[#This Row],[列5]])>0,FLOOR((人件費個別明細表68101112413[[#This Row],[列4]]-人件費個別明細表68101112413[[#This Row],[列2]]-人件費個別明細表68101112413[[#This Row],[列5]]),"0:30"),""),"8:00")) | I11: =IF(人件費個別明細表68101112413[[#This Row],[列6]]="","",IF(人件費個別明細表68101112413[[#This Row],[列6]]*24*人件費個別明細表68101112413[[#This Row],[列10]]>10000,10000,人件費個別明細表68101112413[[#This Row],[列6]]*24*人件費個別明細表68101112413[[#This Row],[列10]]))
B12: =IF(人件費個別明細表68101112413[[#This Row],[列1]]="", "", TEXT(人件費個別明細表68101112413[[#This Row],[列1]],"aaaa")) | D12: ～ | G12: =IF(人件費個別明細表68101112413[[#This Row],[列2]]="","",MIN(IF((人件費個別明細表68101112413[[#This Row],[列4]]-人件費個別明細表68101112413[[#This Row],[列2]]-人件費個別明細表68101112413[[#This Row],[列5]])>0,FLOOR((人件費個別明細表68101112413[[#This Row],[列4]]-人件費個別明細表68101112413[[#This Row],[列2]]-人件費個別明細表68101112413[[#This Row],[列5]]),"0:30"),""),"8:00")) | I12: =IF(人件費個別明細表68101112413[[#This Row],[列6]]="","",IF(人件費個別明細表68101112413[[#This Row],[列6]]*24*人件費個別明細表68101112413[[#This Row],[列10]]>10000,10000,人件費個別明細表68101112413[[#This Row],[列6]]*24*人件費個別明細表68101112413[[#This Row],[列10]]))
B13: =IF(人件費個別明細表68101112413[[#This Row],[列1]]="", "", TEXT(人件費個別明細表68101112413[[#This Row],[列1]],"aaaa")) | D13: ～ | G13: =IF(人件費個別明細表68101112413[[#This Row],[列2]]="","",MIN(IF((人件費個別明細表68101112413[[#This Row],[列4]]-人件費個別明細表68101112413[[#This Row],[列2]]-人件費個別明細表68101112413[[#This Row],[列5]])>0,FLOOR((人件費個別明細表68101112413[[#This Row],[列4]]-人件費個別明細表68101112413[[#This Row],[列2]]-人件費個別明細表68101112413[[#This Row],[列5]]),"0:30"),""),"8:00")) | I13: =IF(人件費個別明細表68101112413[[#This Row],[列6]]="","",IF(人件費個別明細表68101112413[[#This Row],[列6]]*24*人件費個別明細表68101112413[[#This Row],[列10]]>10000,10000,人件費個別明細表68101112413[[#This Row],[列6]]*24*人件費個別明細表68101112413[[#This Row],[列10]]))
B14: =IF(人件費個別明細表68101112413[[#This Row],[列1]]="", "", TEXT(人件費個別明細表68101112413[[#This Row],[列1]],"aaaa")) | D14: ～ | G14: =IF(人件費個別明細表68101112413[[#This Row],[列2]]="","",MIN(IF((人件費個別明細表68101112413[[#This Row],[列4]]-人件費個別明細表68101112413[[#This Row],[列2]]-人件費個別明細表68101112413[[#This Row],[列5]])>0,FLOOR((人件費個別明細表68101112413[[#This Row],[列4]]-人件費個別明細表68101112413[[#This Row],[列2]]-人件費個別明細表68101112413[[#This Row],[列5]]),"0:30"),""),"8:00")) | I14: =IF(人件費個別明細表68101112413[[#This Row],[列6]]="","",IF(人件費個別明細表68101112413[[#This Row],[列6]]*24*人件費個別明細表68101112413[[#This Row],[列10]]>10000,10000,人件費個別明細表68101112413[[#This Row],[列6]]*24*人件費個別明細表68101112413[[#This Row],[列10]]))
B15: =IF(人件費個別明細表68101112413[[#This Row],[列1]]="", "", TEXT(人件費個別明細表68101112413[[#This Row],[列1]],"aaaa")) | D15: ～ | G15: =IF(人件費個別明細表68101112413[[#This Row],[列2]]="","",MIN(IF((人件費個別明細表68101112413[[#This Row],[列4]]-人件費個別明細表68101112413[[#This Row],[列2]]-人件費個別明細表68101112413[[#This Row],[列5]])>0,FLOOR((人件費個別明細表68101112413[[#This Row],[列4]]-人件費個別明細表68101112413[[#This Row],[列2]]-人件費個別明細表68101112413[[#This Row],[列5]]),"0:30"),""),"8:00")) | I15: =IF(人件費個別明細表68101112413[[#This Row],[列6]]="","",IF(人件費個別明細表68101112413[[#This Row],[列6]]*24*人件費個別明細表68101112413[[#This Row],[列10]]>10000,10000,人件費個別明細表68101112413[[#This Row],[列6]]*24*人件費個別明細表68101112413[[#This Row],[列10]]))
B16: =IF(人件費個別明細表68101112413[[#This Row],[列1]]="", "", TEXT(人件費個別明細表68101112413[[#This Row],[列1]],"aaaa")) | D16: ～ | G16: =IF(人件費個別明細表68101112413[[#This Row],[列2]]="","",MIN(IF((人件費個別明細表68101112413[[#This Row],[列4]]-人件費個別明細表68101112413[[#This Row],[列2]]-人件費個別明細表68101112413[[#This Row],[列5]])>0,FLOOR((人件費個別明細表68101112413[[#This Row],[列4]]-人件費個別明細表68101112413[[#This Row],[列2]]-人件費個別明細表68101112413[[#This Row],[列5]]),"0:30"),""),"8:00")) | I16: =IF(人件費個別明細表68101112413[[#This Row],[列6]]="","",IF(人件費個別明細表68101112413[[#This Row],[列6]]*24*人件費個別明細表68101112413[[#This Row],[列10]]>10000,10000,人件費個別明細表68101112413[[#This Row],[列6]]*24*人件費個別明細表68101112413[[#This Row],[列10]]))
B17: =IF(人件費個別明細表68101112413[[#This Row],[列1]]="", "", TEXT(人件費個別明細表68101112413[[#This Row],[列1]],"aaaa")) | D17: ～ | G17: =IF(人件費個別明細表68101112413[[#This Row],[列2]]="","",MIN(IF((人件費個別明細表68101112413[[#This Row],[列4]]-人件費個別明細表68101112413[[#This Row],[列2]]-人件費個別明細表68101112413[[#This Row],[列5]])>0,FLOOR((人件費個別明細表68101112413[[#This Row],[列4]]-人件費個別明細表68101112413[[#This Row],[列2]]-人件費個別明細表68101112413[[#This Row],[列5]]),"0:30"),""),"8:00")) | I17: =IF(人件費個別明細表68101112413[[#This Row],[列6]]="","",IF(人件費個別明細表68101112413[[#This Row],[列6]]*24*人件費個別明細表68101112413[[#This Row],[列10]]>10000,10000,人件費個別明細表68101112413[[#This Row],[列6]]*24*人件費個別明細表68101112413[[#This Row],[列10]]))
B18: =IF(人件費個別明細表68101112413[[#This Row],[列1]]="", "", TEXT(人件費個別明細表68101112413[[#This Row],[列1]],"aaaa")) | D18: ～ | G18: =IF(人件費個別明細表68101112413[[#This Row],[列2]]="","",MIN(IF((人件費個別明細表68101112413[[#This Row],[列4]]-人件費個別明細表68101112413[[#This Row],[列2]]-人件費個別明細表68101112413[[#This Row],[列5]])>0,FLOOR((人件費個別明細表68101112413[[#This Row],[列4]]-人件費個別明細表68101112413[[#This Row],[列2]]-人件費個別明細表68101112413[[#This Row],[列5]]),"0:30"),""),"8:00")) | I18: =IF(人件費個別明細表68101112413[[#This Row],[列6]]="","",IF(人件費個別明細表68101112413[[#This Row],[列6]]*24*人件費個別明細表68101112413[[#This Row],[列10]]>10000,10000,人件費個別明細表68101112413[[#This Row],[列6]]*24*人件費個別明細表68101112413[[#This Row],[列10]]))
B19: =IF(人件費個別明細表68101112413[[#This Row],[列1]]="", "", TEXT(人件費個別明細表68101112413[[#This Row],[列1]],"aaaa")) | D19: ～ | G19: =IF(人件費個別明細表68101112413[[#This Row],[列2]]="","",MIN(IF((人件費個別明細表68101112413[[#This Row],[列4]]-人件費個別明細表68101112413[[#This Row],[列2]]-人件費個別明細表68101112413[[#This Row],[列5]])>0,FLOOR((人件費個別明細表68101112413[[#This Row],[列4]]-人件費個別明細表68101112413[[#This Row],[列2]]-人件費個別明細表68101112413[[#This Row],[列5]]),"0:30"),""),"8:00")) | I19: =IF(人件費個別明細表68101112413[[#This Row],[列6]]="","",IF(人件費個別明細表68101112413[[#This Row],[列6]]*24*人件費個別明細表68101112413[[#This Row],[列10]]>10000,10000,人件費個別明細表68101112413[[#This Row],[列6]]*24*人件費個別明細表68101112413[[#This Row],[列10]]))
... B30: =IF(人件費個別明細表68101112413[[#This Row],[列1]]="", "", TEXT(人件費個別明細表68101112413[[#This Row],[列1]],"aaaa")) | D30: ～ | G30: =IF(人件費個別明細表68101112413[[#This Row],[列2]]="","",MIN(IF((人件費個別明細表68101112413[[#This Row],[列4]]-人件費個別明細表68101112413[[#This Row],[列2]]-人件費個別明細表68101112413[[#This Row],[列5]])>0,FLOOR((人件費個別明細表68101112413[[#This Row],[列4]]-人件費個別明細表68101112413[[#This Row],[列2]]-人件費個別明細表68101112413[[#This Row],[列5]]),"0:30"),""),"8:00")) | I30: =IF(人件費個別明細表68101112413[[#This Row],[列6]]="","",IF(人件費個別明細表68101112413[[#This Row],[列6]]*24*人件費個別明細表68101112413[[#This Row],[列10]]>10000,10000,人件費個別明細表68101112413[[#This Row],[列6]]*24*人件費個別明細表68101112413[[#This Row],[列10]]))
A31: 合計 | C31: =SUBTOTAL(102,人件費個別明細表68101112413[列2]) -> 0 | D31: 日 | G31: =SUBTOTAL(109,人件費個別明細表68101112413[列6]) -> 0 | I31: =SUBTOTAL(109,人件費個別明細表68101112413[列9]) -> 0

Sheet R9年4月
A1: 様式第６号（別紙４－２）
A2: 作業日報兼直接人件費個別明細表
A3: 年月 | B3: =MID(CELL("filename",$A$3),FIND("]",CELL("filename",$A$3))+1,31) -> R9年4月
A4: 企業名 | B4: =集計!B3 -> 0
A5: 従事者氏名 | B5: =集計!B4 -> 0
A6: （注）30分単位で記入してください。
A7: 日付 | B7: 曜日 | C7: 作業時刻 | F7: 休憩等 除外時間 | G7: 作業時間数 | H7: 時給単価 | I7: 日額給与 | J7: 作業内容
B8: =IF(人件費個別明細表6810111241314[[#This Row],[列1]]="", "", TEXT(人件費個別明細表6810111241314[[#This Row],[列1]],"aaaa")) | D8: ～ | G8: =IF(人件費個別明細表6810111241314[[#This Row],[列2]]="","",MIN(IF((人件費個別明細表6810111241314[[#This Row],[列4]]-人件費個別明細表6810111241314[[#This Row],[列2]]-人件費個別明細表6810111241314[[#This Row],[列5]])>0,FLOOR((人件費個別明細表6810111241314[[#This Row],[列4]]-人件費個別明細表6810111241314[[#This Row],[列2]]-人件費個別明細表6810111241314[[#This Row],[列5]]),"0:30"),""),"8:00")) | I8: =IF(人件費個別明細表6810111241314[[#This Row],[列6]]="","",IF(人件費個別明細表6810111241314[[#This Row],[列6]]*24*人件費個別明細表6810111241314[[#This Row],[列10]]>10000,10000,人件費個別明細表6810111241314[[#This Row],[列6]]*24*人件費個別明細表6810111241314[[#This Row],[列10]]))
B9: =IF(人件費個別明細表6810111241314[[#This Row],[列1]]="", "", TEXT(人件費個別明細表6810111241314[[#This Row],[列1]],"aaaa")) | D9: ～ | G9: =IF(人件費個別明細表6810111241314[[#This Row],[列2]]="","",MIN(IF((人件費個別明細表6810111241314[[#This Row],[列4]]-人件費個別明細表6810111241314[[#This Row],[列2]]-人件費個別明細表6810111241314[[#This Row],[列5]])>0,FLOOR((人件費個別明細表6810111241314[[#This Row],[列4]]-人件費個別明細表6810111241314[[#This Row],[列2]]-人件費個別明細表6810111241314[[#This Row],[列5]]),"0:30"),""),"8:00")) | I9: =IF(人件費個別明細表6810111241314[[#This Row],[列6]]="","",IF(人件費個別明細表6810111241314[[#This Row],[列6]]*24*人件費個別明細表6810111241314[[#This Row],[列10]]>10000,10000,人件費個別明細表6810111241314[[#This Row],[列6]]*24*人件費個別明細表6810111241314[[#This Row],[列10]]))
B10: =IF(人件費個別明細表6810111241314[[#This Row],[列1]]="", "", TEXT(人件費個別明細表6810111241314[[#This Row],[列1]],"aaaa")) | D10: ～ | G10: =IF(人件費個別明細表6810111241314[[#This Row],[列2]]="","",MIN(IF((人件費個別明細表6810111241314[[#This Row],[列4]]-人件費個別明細表6810111241314[[#This Row],[列2]]-人件費個別明細表6810111241314[[#This Row],[列5]])>0,FLOOR((人件費個別明細表6810111241314[[#This Row],[列4]]-人件費個別明細表6810111241314[[#This Row],[列2]]-人件費個別明細表6810111241314[[#This Row],[列5]]),"0:30"),""),"8:00")) | I10: =IF(人件費個別明細表6810111241314[[#This Row],[列6]]="","",IF(人件費個別明細表6810111241314[[#This Row],[列6]]*24*人件費個別明細表6810111241314[[#This Row],[列10]]>10000,10000,人件費個別明細表6810111241314[[#This Row],[列6]]*24*人件費個別明細表6810111241314[[#This Row],[列10]]))
B11: =IF(人件費個別明細表6810111241314[[#This Row],[列1]]="", "", TEXT(人件費個別明細表6810111241314[[#This Row],[列1]],"aaaa")) | D11: ～ | G11: =IF(人件費個別明細表6810111241314[[#This Row],[列2]]="","",MIN(IF((人件費個別明細表6810111241314[[#This Row],[列4]]-人件費個別明細表6810111241314[[#This Row],[列2]]-人件費個別明細表6810111241314[[#This Row],[列5]])>0,FLOOR((人件費個別明細表6810111241314[[#This Row],[列4]]-人件費個別明細表6810111241314[[#This Row],[列2]]-人件費個別明細表6810111241314[[#This Row],[列5]]),"0:30"),""),"8:00")) | I11: =IF(人件費個別明細表6810111241314[[#This Row],[列6]]="","",IF(人件費個別明細表6810111241314[[#This Row],[列6]]*24*人件費個別明細表6810111241314[[#This Row],[列10]]>10000,10000,人件費個別明細表6810111241314[[#This Row],[列6]]*24*人件費個別明細表6810111241314[[#This Row],[列10]]))
B12: =IF(人件費個別明細表6810111241314[[#This Row],[列1]]="", "", TEXT(人件費個別明細表6810111241314[[#This Row],[列1]],"aaaa")) | D12: ～ | G12: =IF(人件費個別明細表6810111241314[[#This Row],[列2]]="","",MIN(IF((人件費個別明細表6810111241314[[#This Row],[列4]]-人件費個別明細表6810111241314[[#This Row],[列2]]-人件費個別明細表6810111241314[[#This Row],[列5]])>0,FLOOR((人件費個別明細表6810111241314[[#This Row],[列4]]-人件費個別明細表6810111241314[[#This Row],[列2]]-人件費個別明細表6810111241314[[#This Row],[列5]]),"0:30"),""),"8:00")) | I12: =IF(人件費個別明細表6810111241314[[#This Row],[列6]]="","",IF(人件費個別明細表6810111241314[[#This Row],[列6]]*24*人件費個別明細表6810111241314[[#This Row],[列10]]>10000,10000,人件費個別明細表6810111241314[[#This Row],[列6]]*24*人件費個別明細表6810111241314[[#This Row],[列10]]))
B13: =IF(人件費個別明細表6810111241314[[#This Row],[列1]]="", "", TEXT(人件費個別明細表6810111241314[[#This Row],[列1]],"aaaa")) | D13: ～ | G13: =IF(人件費個別明細表6810111241314[[#This Row],[列2]]="","",MIN(IF((人件費個別明細表6810111241314[[#This Row],[列4]]-人件費個別明細表6810111241314[[#This Row],[列2]]-人件費個別明細表6810111241314[[#This Row],[列5]])>0,FLOOR((人件費個別明細表6810111241314[[#This Row],[列4]]-人件費個別明細表6810111241314[[#This Row],[列2]]-人件費個別明細表6810111241314[[#This Row],[列5]]),"0:30"),""),"8:00")) | I13: =IF(人件費個別明細表6810111241314[[#This Row],[列6]]="","",IF(人件費個別明細表6810111241314[[#This Row],[列6]]*24*人件費個別明細表6810111241314[[#This Row],[列10]]>10000,10000,人件費個別明細表6810111241314[[#This Row],[列6]]*24*人件費個別明細表6810111241314[[#This Row],[列10]]))
B14: =IF(人件費個別明細表6810111241314[[#This Row],[列1]]="", "", TEXT(人件費個別明細表6810111241314[[#This Row],[列1]],"aaaa")) | D14: ～ | G14: =IF(人件費個別明細表6810111241314[[#This Row],[列2]]="","",MIN(IF((人件費個別明細表6810111241314[[#This Row],[列4]]-人件費個別明細表6810111241314[[#This Row],[列2]]-人件費個別明細表6810111241314[[#This Row],[列5]])>0,FLOOR((人件費個別明細表6810111241314[[#This Row],[列4]]-人件費個別明細表6810111241314[[#This Row],[列2]]-人件費個別明細表6810111241314[[#This Row],[列5]]),"0:30"),""),"8:00")) | I14: =IF(人件費個別明細表6810111241314[[#This Row],[列6]]="","",IF(人件費個別明細表6810111241314[[#This Row],[列6]]*24*人件費個別明細表6810111241314[[#This Row],[列10]]>10000,10000,人件費個別明細表6810111241314[[#This Row],[列6]]*24*人件費個別明細表6810111241314[[#This Row],[列10]]))
B15: =IF(人件費個別明細表6810111241314[[#This Row],[列1]]="", "", TEXT(人件費個別明細表6810111241314[[#This Row],[列1]],"aaaa")) | D15: ～ | G15: =IF(人件費個別明細表6810111241314[[#This Row],[列2]]="","",MIN(IF((人件費個別明細表6810111241314[[#This Row],[列4]]-人件費個別明細表6810111241314[[#This Row],[列2]]-人件費個別明細表6810111241314[[#This Row],[列5]])>0,FLOOR((人件費個別明細表6810111241314[[#This Row],[列4]]-人件費個別明細表6810111241314[[#This Row],[列2]]-人件費個別明細表6810111241314[[#This Row],[列5]]),"0:30"),""),"8:00")) | I15: =IF(人件費個別明細表6810111241314[[#This Row],[列6]]="","",IF(人件費個別明細表6810111241314[[#This Row],[列6]]*24*人件費個別明細表6810111241314[[#This Row],[列10]]>10000,10000,人件費個別明細表6810111241314[[#This Row],[列6]]*24*人件費個別明細表6810111241314[[#This Row],[列10]]))
B16: =IF(人件費個別明細表6810111241314[[#This Row],[列1]]="", "", TEXT(人件費個別明細表6810111241314[[#This Row],[列1]],"aaaa")) | D16: ～ | G16: =IF(人件費個別明細表6810111241314[[#This Row],[列2]]="","",MIN(IF((人件費個別明細表6810111241314[[#This Row],[列4]]-人件費個別明細表6810111241314[[#This Row],[列2]]-人件費個別明細表6810111241314[[#This Row],[列5]])>0,FLOOR((人件費個別明細表6810111241314[[#This Row],[列4]]-人件費個別明細表6810111241314[[#This Row],[列2]]-人件費個別明細表6810111241314[[#This Row],[列5]]),"0:30"),""),"8:00")) | I16: =IF(人件費個別明細表6810111241314[[#This Row],[列6]]="","",IF(人件費個別明細表6810111241314[[#This Row],[列6]]*24*人件費個別明細表6810111241314[[#This Row],[列10]]>10000,10000,人件費個別明細表6810111241314[[#This Row],[列6]]*24*人件費個別明細表6810111241314[[#This Row],[列10]]))
B17: =IF(人件費個別明細表6810111241314[[#This Row],[列1]]="", "", TEXT(人件費個別明細表6810111241314[[#This Row],[列1]],"aaaa")) | D17: ～ | G17: =IF(人件費個別明細表6810111241314[[#This Row],[列2]]="","",MIN(IF((人件費個別明細表6810111241314[[#This Row],[列4]]-人件費個別明細表6810111241314[[#This Row],[列2]]-人件費個別明細表6810111241314[[#This Row],[列5]])>0,FLOOR((人件費個別明細表6810111241314[[#This Row],[列4]]-人件費個別明細表6810111241314[[#This Row],[列2]]-人件費個別明細表6810111241314[[#This Row],[列5]]),"0:30"),""),"8:00")) | I17: =IF(人件費個別明細表6810111241314[[#This Row],[列6]]="","",IF(人件費個別明細表6810111241314[[#This Row],[列6]]*24*人件費個別明細表6810111241314[[#This Row],[列10]]>10000,10000,人件費個別明細表6810111241314[[#This Row],[列6]]*24*人件費個別明細表6810111241314[[#This Row],[列10]]))
B18: =IF(人件費個別明細表6810111241314[[#This Row],[列1]]="", "", TEXT(人件費個別明細表6810111241314[[#This Row],[列1]],"aaaa")) | D18: ～ | G18: =IF(人件費個別明細表6810111241314[[#This Row],[列2]]="","",MIN(IF((人件費個別明細表6810111241314[[#This Row],[列4]]-人件費個別明細表6810111241314[[#This Row],[列2]]-人件費個別明細表6810111241314[[#This Row],[列5]])>0,FLOOR((人件費個別明細表6810111241314[[#This Row],[列4]]-人件費個別明細表6810111241314[[#This Row],[列2]]-人件費個別明細表6810111241314[[#This Row],[列5]]),"0:30"),""),"8:00")) | I18: =IF(人件費個別明細表6810111241314[[#This Row],[列6]]="","",IF(人件費個別明細表6810111241314[[#This Row],[列6]]*24*人件費個別明細表6810111241314[[#This Row],[列10]]>10000,10000,人件費個別明細表6810111241314[[#This Row],[列6]]*24*人件費個別明細表6810111241314[[#This Row],[列10]]))
B19: =IF(人件費個別明細表6810111241314[[#This Row],[列1]]="", "", TEXT(人件費個別明細表6810111241314[[#This Row],[列1]],"aaaa")) | D19: ～ | G19: =IF(人件費個別明細表6810111241314[[#This Row],[列2]]="","",MIN(IF((人件費個別明細表6810111241314[[#This Row],[列4]]-人件費個別明細表6810111241314[[#This Row],[列2]]-人件費個別明細表6810111241314[[#This Row],[列5]])>0,FLOOR((人件費個別明細表6810111241314[[#This Row],[列4]]-人件費個別明細表6810111241314[[#This Row],[列2]]-人件費個別明細表6810111241314[[#This Row],[列5]]),"0:30"),""),"8:00")) | I19: =IF(人件費個別明細表6810111241314[[#This Row],[列6]]="","",IF(人件費個別明細表6810111241314[[#This Row],[列6]]*24*人件費個別明細表6810111241314[[#This Row],[列10]]>10000,10000,人件費個別明細表6810111241314[[#This Row],[列6]]*24*人件費個別明細表6810111241314[[#This Row],[列10]]))
... B30: =IF(人件費個別明細表6810111241314[[#This Row],[列1]]="", "", TEXT(人件費個別明細表6810111241314[[#This Row],[列1]],"aaaa")) | D30: ～ | G30: =IF(人件費個別明細表6810111241314[[#This Row],[列2]]="","",MIN(IF((人件費個別明細表6810111241314[[#This Row],[列4]]-人件費個別明細表6810111241314[[#This Row],[列2]]-人件費個別明細表6810111241314[[#This Row],[列5]])>0,FLOOR((人件費個別明細表6810111241314[[#This Row],[列4]]-人件費個別明細表6810111241314[[#This Row],[列2]]-人件費個別明細表6810111241314[[#This Row],[列5]]),"0:30"),""),"8:00")) | I30: =IF(人件費個別明細表6810111241314[[#This Row],[列6]]="","",IF(人件費個別明細表6810111241314[[#This Row],[列6]]*24*人件費個別明細表6810111241314[[#This Row],[列10]]>10000,10000,人件費個別明細表6810111241314[[#This Row],[列6]]*24*人件費個別明細表6810111241314[[#This Row],[列10]]))
A31: 合計 | C31: =SUBTOTAL(102,人件費個別明細表6810111241314[列2]) -> 0 | D31: 日 | G31: =SUBTOTAL(109,人件費個別明細表6810111241314[列6]) -> 0 | I31: =SUBTOTAL(109,人件費個別明細表6810111241314[列9]) -> 0

Sheet R9年5月
A1: 様式第６号（別紙４－２）
A2: 作業日報兼直接人件費個別明細表
A3: 年月 | B3: =MID(CELL("filename",$A$3),FIND("]",CELL("filename",$A$3))+1,31) -> R9年5月
A4: 企業名 | B4: =集計!B3 -> 0
A5: 従事者氏名 | B5: =集計!B4 -> 0
A6: （注）30分単位で記入してください。
A7: 日付 | B7: 曜日 | C7: 作業時刻 | F7: 休憩等 除外時間 | G7: 作業時間数 | H7: 時給単価 | I7: 日額給与 | J7: 作業内容
B8: =IF(人件費個別明細表681011124131415[[#This Row],[列1]]="", "", TEXT(人件費個別明細表681011124131415[[#This Row],[列1]],"aaaa")) | D8: ～ | G8: =IF(人件費個別明細表681011124131415[[#This Row],[列2]]="","",MIN(IF((人件費個別明細表681011124131415[[#This Row],[列4]]-人件費個別明細表681011124131415[[#This Row],[列2]]-人件費個別明細表681011124131415[[#This Row],[列5]])>0,FLOOR((人件費個別明細表681011124131415[[#This Row],[列4]]-人件費個別明細表681011124131415[[#This Row],[列2]]-人件費個別明細表681011124131415[[#This Row],[列5]]),"0:30"),""),"8:00")) | I8: =IF(人件費個別明細表681011124131415[[#This Row],[列6]]="","",IF(人件費個別明細表681011124131415[[#This Row],[列6]]*24*人件費個別明細表681011124131415[[#This Row],[列10]]>10000,10000,人件費個別明細表681011124131415[[#This Row],[列6]]*24*人件費個別明細表681011124131415[[#This Row],[列10]]))
B9: =IF(人件費個別明細表681011124131415[[#This Row],[列1]]="", "", TEXT(人件費個別明細表681011124131415[[#This Row],[列1]],"aaaa")) | D9: ～ | G9: =IF(人件費個別明細表681011124131415[[#This Row],[列2]]="","",MIN(IF((人件費個別明細表681011124131415[[#This Row],[列4]]-人件費個別明細表681011124131415[[#This Row],[列2]]-人件費個別明細表681011124131415[[#This Row],[列5]])>0,FLOOR((人件費個別明細表681011124131415[[#This Row],[列4]]-人件費個別明細表681011124131415[[#This Row],[列2]]-人件費個別明細表681011124131415[[#This Row],[列5]]),"0:30"),""),"8:00")) | I9: =IF(人件費個別明細表681011124131415[[#This Row],[列6]]="","",IF(人件費個別明細表681011124131415[[#This Row],[列6]]*24*人件費個別明細表681011124131415[[#This Row],[列10]]>10000,10000,人件費個別明細表681011124131415[[#This Row],[列6]]*24*人件費個別明細表681011124131415[[#This Row],[列10]]))
B10: =IF(人件費個別明細表681011124131415[[#This Row],[列1]]="", "", TEXT(人件費個別明細表681011124131415[[#This Row],[列1]],"aaaa")) | D10: ～ | G10: =IF(人件費個別明細表681011124131415[[#This Row],[列2]]="","",MIN(IF((人件費個別明細表681011124131415[[#This Row],[列4]]-人件費個別明細表681011124131415[[#This Row],[列2]]-人件費個別明細表681011124131415[[#This Row],[列5]])>0,FLOOR((人件費個別明細表681011124131415[[#This Row],[列4]]-人件費個別明細表681011124131415[[#This Row],[列2]]-人件費個別明細表681011124131415[[#This Row],[列5]]),"0:30"),""),"8:00")) | I10: =IF(人件費個別明細表681011124131415[[#This Row],[列6]]="","",IF(人件費個別明細表681011124131415[[#This Row],[列6]]*24*人件費個別明細表681011124131415[[#This Row],[列10]]>10000,10000,人件費個別明細表681011124131415[[#This Row],[列6]]*24*人件費個別明細表681011124131415[[#This Row],[列10]]))
B11: =IF(人件費個別明細表681011124131415[[#This Row],[列1]]="", "", TEXT(人件費個別明細表681011124131415[[#This Row],[列1]],"aaaa")) | D11: ～ | G11: =IF(人件費個別明細表681011124131415[[#This Row],[列2]]="","",MIN(IF((人件費個別明細表681011124131415[[#This Row],[列4]]-人件費個別明細表681011124131415[[#This Row],[列2]]-人件費個別明細表681011124131415[[#This Row],[列5]])>0,FLOOR((人件費個別明細表681011124131415[[#This Row],[列4]]-人件費個別明細表681011124131415[[#This Row],[列2]]-人件費個別明細表681011124131415[[#This Row],[列5]]),"0:30"),""),"8:00")) | I11: =IF(人件費個別明細表681011124131415[[#This Row],[列6]]="","",IF(人件費個別明細表681011124131415[[#This Row],[列6]]*24*人件費個別明細表681011124131415[[#This Row],[列10]]>10000,10000,人件費個別明細表681011124131415[[#This Row],[列6]]*24*人件費個別明細表681011124131415[[#This Row],[列10]]))
B12: =IF(人件費個別明細表681011124131415[[#This Row],[列1]]="", "", TEXT(人件費個別明細表681011124131415[[#This Row],[列1]],"aaaa")) | D12: ～ | G12: =IF(人件費個別明細表681011124131415[[#This Row],[列2]]="","",MIN(IF((人件費個別明細表681011124131415[[#This Row],[列4]]-人件費個別明細表681011124131415[[#This Row],[列2]]-人件費個別明細表681011124131415[[#This Row],[列5]])>0,FLOOR((人件費個別明細表681011124131415[[#This Row],[列4]]-人件費個別明細表681011124131415[[#This Row],[列2]]-人件費個別明細表681011124131415[[#This Row],[列5]]),"0:30"),""),"8:00")) | I12: =IF(人件費個別明細表681011124131415[[#This Row],[列6]]="","",IF(人件費個別明細表681011124131415[[#This Row],[列6]]*24*人件費個別明細表681011124131415[[#This Row],[列10]]>10000,10000,人件費個別明細表681011124131415[[#This Row],[列6]]*24*人件費個別明細表681011124131415[[#This Row],[列10]]))
B13: =IF(人件費個別明細表681011124131415[[#This Row],[列1]]="", "", TEXT(人件費個別明細表681011124131415[[#This Row],[列1]],"aaaa")) | D13: ～ | G13: =IF(人件費個別明細表681011124131415[[#This Row],[列2]]="","",MIN(IF((人件費個別明細表681011124131415[[#This Row],[列4]]-人件費個別明細表681011124131415[[#This Row],[列2]]-人件費個別明細表681011124131415[[#This Row],[列5]])>0,FLOOR((人件費個別明細表681011124131415[[#This Row],[列4]]-人件費個別明細表681011124131415[[#This Row],[列2]]-人件費個別明細表681011124131415[[#This Row],[列5]]),"0:30"),""),"8:00")) | I13: =IF(人件費個別明細表681011124131415[[#This Row],[列6]]="","",IF(人件費個別明細表681011124131415[[#This Row],[列6]]*24*人件費個別明細表681011124131415[[#This Row],[列10]]>10000,10000,人件費個別明細表681011124131415[[#This Row],[列6]]*24*人件費個別明細表681011124131415[[#This Row],[列10]]))
B14: =IF(人件費個別明細表681011124131415[[#This Row],[列1]]="", "", TEXT(人件費個別明細表681011124131415[[#This Row],[列1]],"aaaa")) | D14: ～ | G14: =IF(人件費個別明細表681011124131415[[#This Row],[列2]]="","",MIN(IF((人件費個別明細表681011124131415[[#This Row],[列4]]-人件費個別明細表681011124131415[[#This Row],[列2]]-人件費個別明細表681011124131415[[#This Row],[列5]])>0,FLOOR((人件費個別明細表681011124131415[[#This Row],[列4]]-人件費個別明細表681011124131415[[#This Row],[列2]]-人件費個別明細表681011124131415[[#This Row],[列5]]),"0:30"),""),"8:00")) | I14: =IF(人件費個別明細表681011124131415[[#This Row],[列6]]="","",IF(人件費個別明細表681011124131415[[#This Row],[列6]]*24*人件費個別明細表681011124131415[[#This Row],[列10]]>10000,10000,人件費個別明細表681011124131415[[#This Row],[列6]]*24*人件費個別明細表681011124131415[[#This Row],[列10]]))
B15: =IF(人件費個別明細表681011124131415[[#This Row],[列1]]="", "", TEXT(人件費個別明細表681011124131415[[#This Row],[列1]],"aaaa")) | D15: ～ | G15: =IF(人件費個別明細表681011124131415[[#This Row],[列2]]="","",MIN(IF((人件費個別明細表681011124131415[[#This Row],[列4]]-人件費個別明細表681011124131415[[#This Row],[列2]]-人件費個別明細表681011124131415[[#This Row],[列5]])>0,FLOOR((人件費個別明細表681011124131415[[#This Row],[列4]]-人件費個別明細表681011124131415[[#This Row],[列2]]-人件費個別明細表681011124131415[[#This Row],[列5]]),"0:30"),""),"8:00")) | I15: =IF(人件費個別明細表681011124131415[[#This Row],[列6]]="","",IF(人件費個別明細表681011124131415[[#This Row],[列6]]*24*人件費個別明細表681011124131415[[#This Row],[列10]]>10000,10000,人件費個別明細表681011124131415[[#This Row],[列6]]*24*人件費個別明細表681011124131415[[#This Row],[列10]]))
B16: =IF(人件費個別明細表681011124131415[[#This Row],[列1]]="", "", TEXT(人件費個別明細表681011124131415[[#This Row],[列1]],"aaaa")) | D16: ～ | G16: =IF(人件費個別明細表681011124131415[[#This Row],[列2]]="","",MIN(IF((人件費個別明細表681011124131415[[#This Row],[列4]]-人件費個別明細表681011124131415[[#This Row],[列2]]-人件費個別明細表681011124131415[[#This Row],[列5]])>0,FLOOR((人件費個別明細表681011124131415[[#This Row],[列4]]-人件費個別明細表681011124131415[[#This Row],[列2]]-人件費個別明細表681011124131415[[#This Row],[列5]]),"0:30"),""),"8:00")) | I16: =IF(人件費個別明細表681011124131415[[#This Row],[列6]]="","",IF(人件費個別明細表681011124131415[[#This Row],[列6]]*24*人件費個別明細表681011124131415[[#This Row],[列10]]>10000,10000,人件費個別明細表681011124131415[[#This Row],[列6]]*24*人件費個別明細表681011124131415[[#This Row],[列10]]))
B17: =IF(人件費個別明細表681011124131415[[#This Row],[列1]]="", "", TEXT(人件費個別明細表681011124131415[[#This Row],[列1]],"aaaa")) | D17: ～ | G17: =IF(人件費個別明細表681011124131415[[#This Row],[列2]]="","",MIN(IF((人件費個別明細表681011124131415[[#This Row],[列4]]-人件費個別明細表681011124131415[[#This Row],[列2]]-人件費個別明細表681011124131415[[#This Row],[列5]])>0,FLOOR((人件費個別明細表681011124131415[[#This Row],[列4]]-人件費個別明細表681011124131415[[#This Row],[列2]]-人件費個別明細表681011124131415[[#This Row],[列5]]),"0:30"),""),"8:00")) | I17: =IF(人件費個別明細表681011124131415[[#This Row],[列6]]="","",IF(人件費個別明細表681011124131415[[#This Row],[列6]]*24*人件費個別明細表681011124131415[[#This Row],[列10]]>10000,10000,人件費個別明細表681011124131415[[#This Row],[列6]]*24*人件費個別明細表681011124131415[[#This Row],[列10]]))
B18: =IF(人件費個別明細表681011124131415[[#This Row],[列1]]="", "", TEXT(人件費個別明細表681011124131415[[#This Row],[列1]],"aaaa")) | D18: ～ | G18: =IF(人件費個別明細表681011124131415[[#This Row],[列2]]="","",MIN(IF((人件費個別明細表681011124131415[[#This Row],[列4]]-人件費個別明細表681011124131415[[#This Row],[列2]]-人件費個別明細表681011124131415[[#This Row],[列5]])>0,FLOOR((人件費個別明細表681011124131415[[#This Row],[列4]]-人件費個別明細表681011124131415[[#This Row],[列2]]-人件費個別明細表681011124131415[[#This Row],[列5]]),"0:30"),""),"8:00")) | I18: =IF(人件費個別明細表681011124131415[[#This Row],[列6]]="","",IF(人件費個別明細表681011124131415[[#This Row],[列6]]*24*人件費個別明細表681011124131415[[#This Row],[列10]]>10000,10000,人件費個別明細表681011124131415[[#This Row],[列6]]*24*人件費個別明細表681011124131415[[#This Row],[列10]]))
B19: =IF(人件費個別明細表681011124131415[[#This Row],[列1]]="", "", TEXT(人件費個別明細表681011124131415[[#This Row],[列1]],"aaaa")) | D19: ～ | G19: =IF(人件費個別明細表681011124131415[[#This Row],[列2]]="","",MIN(IF((人件費個別明細表681011124131415[[#This Row],[列4]]-人件費個別明細表681011124131415[[#This Row],[列2]]-人件費個別明細表681011124131415[[#This Row],[列5]])>0,FLOOR((人件費個別明細表681011124131415[[#This Row],[列4]]-人件費個別明細表681011124131415[[#This Row],[列2]]-人件費個別明細表681011124131415[[#This Row],[列5]]),"0:30"),""),"8:00")) | I19: =IF(人件費個別明細表681011124131415[[#This Row],[列6]]="","",IF(人件費個別明細表681011124131415[[#This Row],[列6]]*24*人件費個別明細表681011124131415[[#This Row],[列10]]>10000,10000,人件費個別明細表681011124131415[[#This Row],[列6]]*24*人件費個別明細表681011124131415[[#This Row],[列10]]))
... B30: =IF(人件費個別明細表681011124131415[[#This Row],[列1]]="", "", TEXT(人件費個別明細表681011124131415[[#This Row],[列1]],"aaaa")) | D30: ～ | G30: =IF(人件費個別明細表681011124131415[[#This Row],[列2]]="","",MIN(IF((人件費個別明細表681011124131415[[#This Row],[列4]]-人件費個別明細表681011124131415[[#This Row],[列2]]-人件費個別明細表681011124131415[[#This Row],[列5]])>0,FLOOR((人件費個別明細表681011124131415[[#This Row],[列4]]-人件費個別明細表681011124131415[[#This Row],[列2]]-人件費個別明細表681011124131415[[#This Row],[列5]]),"0:30"),""),"8:00")) | I30: =IF(人件費個別明細表681011124131415[[#This Row],[列6]]="","",IF(人件費個別明細表681011124131415[[#This Row],[列6]]*24*人件費個別明細表681011124131415[[#This Row],[列10]]>10000,10000,人件費個別明細表681011124131415[[#This Row],[列6]]*24*人件費個別明細表681011124131415[[#This Row],[列10]]))
A31: 合計 | C31: =SUBTOTAL(102,人件費個別明細表681011124131415[列2]) -> 0 | D31: 日 | G31: =SUBTOTAL(109,人件費個別明細表681011124131415[列6]) -> 0 | I31: =SUBTOTAL(109,人件費個別明細表681011124131415[列9]) -> 0

Sheet R9年6月
A1: 様式第６号（別紙４－２）
A2: 作業日報兼直接人件費個別明細表
A3: 年月 | B3: =MID(CELL("filename",$A$3),FIND("]",CELL("filename",$A$3))+1,31) -> R9年6月
A4: 企業名 | B4: =集計!B3 -> 0
A5: 従事者氏名 | B5: =集計!B4 -> 0
A6: （注）30分単位で記入してください。
A7: 日付 | B7: 曜日 | C7: 作業時刻 | F7: 休憩等 除外時間 | G7: 作業時間数 | H7: 時給単価 | I7: 日額給与 | J7: 作業内容
B8: =IF(人件費個別明細表68101112413141516[[#This Row],[列1]]="", "", TEXT(人件費個別明細表68101112413141516[[#This Row],[列1]],"aaaa")) | D8: ～ | G8: =IF(人件費個別明細表68101112413141516[[#This Row],[列2]]="","",MIN(IF((人件費個別明細表68101112413141516[[#This Row],[列4]]-人件費個別明細表68101112413141516[[#This Row],[列2]]-人件費個別明細表68101112413141516[[#This Row],[列5]])>0,FLOOR((人件費個別明細表68101112413141516[[#This Row],[列4]]-人件費個別明細表68101112413141516[[#This Row],[列2]]-人件費個別明細表68101112413141516[[#This Row],[列5]]),"0:30"),""),"8:00")) | I8: =IF(人件費個別明細表68101112413141516[[#This Row],[列6]]="","",IF(人件費個別明細表68101112413141516[[#This Row],[列6]]*24*人件費個別明細表68101112413141516[[#This Row],[列10]]>10000,10000,人件費個別明細表68101112413141516[[#This Row],[列6]]*24*人件費個別明細表68101112413141516[[#This Row],[列10]]))
B9: =IF(人件費個別明細表68101112413141516[[#This Row],[列1]]="", "", TEXT(人件費個別明細表68101112413141516[[#This Row],[列1]],"aaaa")) | D9: ～ | G9: =IF(人件費個別明細表68101112413141516[[#This Row],[列2]]="","",MIN(IF((人件費個別明細表68101112413141516[[#This Row],[列4]]-人件費個別明細表68101112413141516[[#This Row],[列2]]-人件費個別明細表68101112413141516[[#This Row],[列5]])>0,FLOOR((人件費個別明細表68101112413141516[[#This Row],[列4]]-人件費個別明細表68101112413141516[[#This Row],[列2]]-人件費個別明細表68101112413141516[[#This Row],[列5]]),"0:30"),""),"8:00")) | I9: =IF(人件費個別明細表68101112413141516[[#This Row],[列6]]="","",IF(人件費個別明細表68101112413141516[[#This Row],[列6]]*24*人件費個別明細表68101112413141516[[#This Row],[列10]]>10000,10000,人件費個別明細表68101112413141516[[#This Row],[列6]]*24*人件費個別明細表68101112413141516[[#This Row],[列10]]))
B10: =IF(人件費個別明細表68101112413141516[[#This Row],[列1]]="", "", TEXT(人件費個別明細表68101112413141516[[#This Row],[列1]],"aaaa")) | D10: ～ | G10: =IF(人件費個別明細表68101112413141516[[#This Row],[列2]]="","",MIN(IF((人件費個別明細表68101112413141516[[#This Row],[列4]]-人件費個別明細表68101112413141516[[#This Row],[列2]]-人件費個別明細表68101112413141516[[#This Row],[列5]])>0,FLOOR((人件費個別明細表68101112413141516[[#This Row],[列4]]-人件費個別明細表68101112413141516[[#This Row],[列2]]-人件費個別明細表68101112413141516[[#This Row],[列5]]),"0:30"),""),"8:00")) | I10: =IF(人件費個別明細表68101112413141516[[#This Row],[列6]]="","",IF(人件費個別明細表68101112413141516[[#This Row],[列6]]*24*人件費個別明細表68101112413141516[[#This Row],[列10]]>10000,10000,人件費個別明細表68101112413141516[[#This Row],[列6]]*24*人件費個別明細表68101112413141516[[#This Row],[列10]]))
B11: =IF(人件費個別明細表68101112413141516[[#This Row],[列1]]="", "", TEXT(人件費個別明細表68101112413141516[[#This Row],[列1]],"aaaa")) | D11: ～ | G11: =IF(人件費個別明細表68101112413141516[[#This Row],[列2]]="","",MIN(IF((人件費個別明細表68101112413141516[[#This Row],[列4]]-人件費個別明細表68101112413141516[[#This Row],[列2]]-人件費個別明細表68101112413141516[[#This Row],[列5]])>0,FLOOR((人件費個別明細表68101112413141516[[#This Row],[列4]]-人件費個別明細表68101112413141516[[#This Row],[列2]]-人件費個別明細表68101112413141516[[#This Row],[列5]]),"0:30"),""),"8:00")) | I11: =IF(人件費個別明細表68101112413141516[[#This Row],[列6]]="","",IF(人件費個別明細表68101112413141516[[#This Row],[列6]]*24*人件費個別明細表68101112413141516[[#This Row],[列10]]>10000,10000,人件費個別明細表68101112413141516[[#This Row],[列6]]*24*人件費個別明細表68101112413141516[[#This Row],[列10]]))
B12: =IF(人件費個別明細表68101112413141516[[#This Row],[列1]]="", "", TEXT(人件費個別明細表68101112413141516[[#This Row],[列1]],"aaaa")) | D12: ～ | G12: =IF(人件費個別明細表68101112413141516[[#This Row],[列2]]="","",MIN(IF((人件費個別明細表68101112413141516[[#This Row],[列4]]-人件費個別明細表68101112413141516[[#This Row],[列2]]-人件費個別明細表68101112413141516[[#This Row],[列5]])>0,FLOOR((人件費個別明細表68101112413141516[[#This Row],[列4]]-人件費個別明細表68101112413141516[[#This Row],[列2]]-人件費個別明細表68101112413141516[[#This Row],[列5]]),"0:30"),""),"8:00")) | I12: =IF(人件費個別明細表68101112413141516[[#This Row],[列6]]="","",IF(人件費個別明細表68101112413141516[[#This Row],[列6]]*24*人件費個別明細表68101112413141516[[#This Row],[列10]]>10000,10000,人件費個別明細表68101112413141516[[#This Row],[列6]]*24*人件費個別明細表68101112413141516[[#This Row],[列10]]))
B13: =IF(人件費個別明細表68101112413141516[[#This Row],[列1]]="", "", TEXT(人件費個別明細表68101112413141516[[#This Row],[列1]],"aaaa")) | D13: ～ | G13: =IF(人件費個別明細表68101112413141516[[#This Row],[列2]]="","",MIN(IF((人件費個別明細表68101112413141516[[#This Row],[列4]]-人件費個別明細表68101112413141516[[#This Row],[列2]]-人件費個別明細表68101112413141516[[#This Row],[列5]])>0,FLOOR((人件費個別明細表68101112413141516[[#This Row],[列4]]-人件費個別明細表68101112413141516[[#This Row],[列2]]-人件費個別明細表68101112413141516[[#This Row],[列5]]),"0:30"),""),"8:00")) | I13: =IF(人件費個別明細表68101112413141516[[#This Row],[列6]]="","",IF(人件費個別明細表68101112413141516[[#This Row],[列6]]*24*人件費個別明細表68101112413141516[[#This Row],[列10]]>10000,10000,人件費個別明細表68101112413141516[[#This Row],[列6]]*24*人件費個別明細表68101112413141516[[#This Row],[列10]]))
B14: =IF(人件費個別明細表68101112413141516[[#This Row],[列1]]="", "", TEXT(人件費個別明細表68101112413141516[[#This Row],[列1]],"aaaa")) | D14: ～ | G14: =IF(人件費個別明細表68101112413141516[[#This Row],[列2]]="","",MIN(IF((人件費個別明細表68101112413141516[[#This Row],[列4]]-人件費個別明細表68101112413141516[[#This Row],[列2]]-人件費個別明細表68101112413141516[[#This Row],[列5]])>0,FLOOR((人件費個別明細表68101112413141516[[#This Row],[列4]]-人件費個別明細表68101112413141516[[#This Row],[列2]]-人件費個別明細表68101112413141516[[#This Row],[列5]]),"0:30"),""),"8:00")) | I14: =IF(人件費個別明細表68101112413141516[[#This Row],[列6]]="","",IF(人件費個別明細表68101112413141516[[#This Row],[列6]]*24*人件費個別明細表68101112413141516[[#This Row],[列10]]>10000,10000,人件費個別明細表68101112413141516[[#This Row],[列6]]*24*人件費個別明細表68101112413141516[[#This Row],[列10]]))
B15: =IF(人件費個別明細表68101112413141516[[#This Row],[列1]]="", "", TEXT(人件費個別明細表68101112413141516[[#This Row],[列1]],"aaaa")) | D15: ～ | G15: =IF(人件費個別明細表68101112413141516[[#This Row],[列2]]="","",MIN(IF((人件費個別明細表68101112413141516[[#This Row],[列4]]-人件費個別明細表68101112413141516[[#This Row],[列2]]-人件費個別明細表68101112413141516[[#This Row],[列5]])>0,FLOOR((人件費個別明細表68101112413141516[[#This Row],[列4]]-人件費個別明細表68101112413141516[[#This Row],[列2]]-人件費個別明細表68101112413141516[[#This Row],[列5]]),"0:30"),""),"8:00")) | I15: =IF(人件費個別明細表68101112413141516[[#This Row],[列6]]="","",IF(人件費個別明細表68101112413141516[[#This Row],[列6]]*24*人件費個別明細表68101112413141516[[#This Row],[列10]]>10000,10000,人件費個別明細表68101112413141516[[#This Row],[列6]]*24*人件費個別明細表68101112413141516[[#This Row],[列10]]))
B16: =IF(人件費個別明細表68101112413141516[[#This Row],[列1]]="", "", TEXT(人件費個別明細表68101112413141516[[#This Row],[列1]],"aaaa")) | D16: ～ | G16: =IF(人件費個別明細表68101112413141516[[#This Row],[列2]]="","",MIN(IF((人件費個別明細表68101112413141516[[#This Row],[列4]]-人件費個別明細表68101112413141516[[#This Row],[列2]]-人件費個別明細表68101112413141516[[#This Row],[列5]])>0,FLOOR((人件費個別明細表68101112413141516[[#This Row],[列4]]-人件費個別明細表68101112413141516[[#This Row],[列2]]-人件費個別明細表68101112413141516[[#This Row],[列5]]),"0:30"),""),"8:00")) | I16: =IF(人件費個別明細表68101112413141516[[#This Row],[列6]]="","",IF(人件費個別明細表68101112413141516[[#This Row],[列6]]*24*人件費個別明細表68101112413141516[[#This Row],[列10]]>10000,10000,人件費個別明細表68101112413141516[[#This Row],[列6]]*24*人件費個別明細表68101112413141516[[#This Row],[列10]]))
B17: =IF(人件費個別明細表68101112413141516[[#This Row],[列1]]="", "", TEXT(人件費個別明細表68101112413141516[[#This Row],[列1]],"aaaa")) | D17: ～ | G17: =IF(人件費個別明細表68101112413141516[[#This Row],[列2]]="","",MIN(IF((人件費個別明細表68101112413141516[[#This Row],[列4]]-人件費個別明細表68101112413141516[[#This Row],[列2]]-人件費個別明細表68101112413141516[[#This Row],[列5]])>0,FLOOR((人件費個別明細表68101112413141516[[#This Row],[列4]]-人件費個別明細表68101112413141516[[#This Row],[列2]]-人件費個別明細表68101112413141516[[#This Row],[列5]]),"0:30"),""),"8:00")) | I17: =IF(人件費個別明細表68101112413141516[[#This Row],[列6]]="","",IF(人件費個別明細表68101112413141516[[#This Row],[列6]]*24*人件費個別明細表68101112413141516[[#This Row],[列10]]>10000,10000,人件費個別明細表68101112413141516[[#This Row],[列6]]*24*人件費個別明細表68101112413141516[[#This Row],[列10]]))
B18: =IF(人件費個別明細表68101112413141516[[#This Row],[列1]]="", "", TEXT(人件費個別明細表68101112413141516[[#This Row],[列1]],"aaaa")) | D18: ～ | G18: =IF(人件費個別明細表68101112413141516[[#This Row],[列2]]="","",MIN(IF((人件費個別明細表68101112413141516[[#This Row],[列4]]-人件費個別明細表68101112413141516[[#This Row],[列2]]-人件費個別明細表68101112413141516[[#This Row],[列5]])>0,FLOOR((人件費個別明細表68101112413141516[[#This Row],[列4]]-人件費個別明細表68101112413141516[[#This Row],[列2]]-人件費個別明細表68101112413141516[[#This Row],[列5]]),"0:30"),""),"8:00")) | I18: =IF(人件費個別明細表68101112413141516[[#This Row],[列6]]="","",IF(人件費個別明細表68101112413141516[[#This Row],[列6]]*24*人件費個別明細表68101112413141516[[#This Row],[列10]]>10000,10000,人件費個別明細表68101112413141516[[#This Row],[列6]]*24*人件費個別明細表68101112413141516[[#This Row],[列10]]))
B19: =IF(人件費個別明細表68101112413141516[[#This Row],[列1]]="", "", TEXT(人件費個別明細表68101112413141516[[#This Row],[列1]],"aaaa")) | D19: ～ | G19: =IF(人件費個別明細表68101112413141516[[#This Row],[列2]]="","",MIN(IF((人件費個別明細表68101112413141516[[#This Row],[列4]]-人件費個別明細表68101112413141516[[#This Row],[列2]]-人件費個別明細表68101112413141516[[#This Row],[列5]])>0,FLOOR((人件費個別明細表68101112413141516[[#This Row],[列4]]-人件費個別明細表68101112413141516[[#This Row],[列2]]-人件費個別明細表68101112413141516[[#This Row],[列5]]),"0:30"),""),"8:00")) | I19: =IF(人件費個別明細表68101112413141516[[#This Row],[列6]]="","",IF(人件費個別明細表68101112413141516[[#This Row],[列6]]*24*人件費個別明細表68101112413141516[[#This Row],[列10]]>10000,10000,人件費個別明細表68101112413141516[[#This Row],[列6]]*24*人件費個別明細表68101112413141516[[#This Row],[列10]]))
... B30: =IF(人件費個別明細表68101112413141516[[#This Row],[列1]]="", "", TEXT(人件費個別明細表68101112413141516[[#This Row],[列1]],"aaaa")) | D30: ～ | G30: =IF(人件費個別明細表68101112413141516[[#This Row],[列2]]="","",MIN(IF((人件費個別明細表68101112413141516[[#This Row],[列4]]-人件費個別明細表68101112413141516[[#This Row],[列2]]-人件費個別明細表68101112413141516[[#This Row],[列5]])>0,FLOOR((人件費個別明細表68101112413141516[[#This Row],[列4]]-人件費個別明細表68101112413141516[[#This Row],[列2]]-人件費個別明細表68101112413141516[[#This Row],[列5]]),"0:30"),""),"8:00")) | I30: =IF(人件費個別明細表68101112413141516[[#This Row],[列6]]="","",IF(人件費個別明細表68101112413141516[[#This Row],[列6]]*24*人件費個別明細表68101112413141516[[#This Row],[列10]]>10000,10000,人件費個別明細表68101112413141516[[#This Row],[列6]]*24*人件費個別明細表68101112413141516[[#This Row],[列10]]))
A31: 合計 | C31: =SUBTOTAL(102,人件費個別明細表68101112413141516[列2]) -> 0 | D31: 日 | G31: =SUBTOTAL(109,人件費個別明細表68101112413141516[列6]) -> 0 | I31: =SUBTOTAL(109,人件費個別明細表68101112413141516[列9]) -> 0

Sheet R9年7月
A1: 様式第６号（別紙４－２）
A2: 作業日報兼直接人件費個別明細表
A3: 年月 | B3: =MID(CELL("filename",$A$3),FIND("]",CELL("filename",$A$3))+1,31) -> R9年7月
A4: 企業名 | B4: =集計!B3 -> 0
A5: 従事者氏名 | B5: =集計!B4 -> 0
A6: （注）30分単位で記入してください。
A7: 日付 | B7: 曜日 | C7: 作業時刻 | F7: 休憩等 除外時間 | G7: 作業時間数 | H7: 時給単価 | I7: 日額給与 | J7: 作業内容
B8: =IF(人件費個別明細表6810111241314151617[[#This Row],[列1]]="", "", TEXT(人件費個別明細表6810111241314151617[[#This Row],[列1]],"aaaa")) | D8: ～ | G8: =IF(人件費個別明細表6810111241314151617[[#This Row],[列2]]="","",MIN(IF((人件費個別明細表6810111241314151617[[#This Row],[列4]]-人件費個別明細表6810111241314151617[[#This Row],[列2]]-人件費個別明細表6810111241314151617[[#This Row],[列5]])>0,FLOOR((人件費個別明細表6810111241314151617[[#This Row],[列4]]-人件費個別明細表6810111241314151617[[#This Row],[列2]]-人件費個別明細表6810111241314151617[[#This Row],[列5]]),"0:30"),""),"8:00")) | I8: =IF(人件費個別明細表6810111241314151617[[#This Row],[列6]]="","",IF(人件費個別明細表6810111241314151617[[#This Row],[列6]]*24*人件費個別明細表6810111241314151617[[#This Row],[列10]]>10000,10000,人件費個別明細表6810111241314151617[[#This Row],[列6]]*24*人件費個別明細表6810111241314151617[[#This Row],[列10]]))
B9: =IF(人件費個別明細表6810111241314151617[[#This Row],[列1]]="", "", TEXT(人件費個別明細表6810111241314151617[[#This Row],[列1]],"aaaa")) | D9: ～ | G9: =IF(人件費個別明細表6810111241314151617[[#This Row],[列2]]="","",MIN(IF((人件費個別明細表6810111241314151617[[#This Row],[列4]]-人件費個別明細表6810111241314151617[[#This Row],[列2]]-人件費個別明細表6810111241314151617[[#This Row],[列5]])>0,FLOOR((人件費個別明細表6810111241314151617[[#This Row],[列4]]-人件費個別明細表6810111241314151617[[#This Row],[列2]]-人件費個別明細表6810111241314151617[[#This Row],[列5]]),"0:30"),""),"8:00")) | I9: =IF(人件費個別明細表6810111241314151617[[#This Row],[列6]]="","",IF(人件費個別明細表6810111241314151617[[#This Row],[列6]]*24*人件費個別明細表6810111241314151617[[#This Row],[列10]]>10000,10000,人件費個別明細表6810111241314151617[[#This Row],[列6]]*24*人件費個別明細表6810111241314151617[[#This Row],[列10]]))
B10: =IF(人件費個別明細表6810111241314151617[[#This Row],[列1]]="", "", TEXT(人件費個別明細表6810111241314151617[[#This Row],[列1]],"aaaa")) | D10: ～ | G10: =IF(人件費個別明細表6810111241314151617[[#This Row],[列2]]="","",MIN(IF((人件費個別明細表6810111241314151617[[#This Row],[列4]]-人件費個別明細表6810111241314151617[[#This Row],[列2]]-人件費個別明細表6810111241314151617[[#This Row],[列5]])>0,FLOOR((人件費個別明細表6810111241314151617[[#This Row],[列4]]-人件費個別明細表6810111241314151617[[#This Row],[列2]]-人件費個別明細表6810111241314151617[[#This Row],[列5]]),"0:30"),""),"8:00")) | I10: =IF(人件費個別明細表6810111241314151617[[#This Row],[列6]]="","",IF(人件費個別明細表6810111241314151617[[#This Row],[列6]]*24*人件費個別明細表6810111241314151617[[#This Row],[列10]]>10000,10000,人件費個別明細表6810111241314151617[[#This Row],[列6]]*24*人件費個別明細表6810111241314151617[[#This Row],[列10]]))
B11: =IF(人件費個別明細表6810111241314151617[[#This Row],[列1]]="", "", TEXT(人件費個別明細表6810111241314151617[[#This Row],[列1]],"aaaa")) | D11: ～ | G11: =IF(人件費個別明細表6810111241314151617[[#This Row],[列2]]="","",MIN(IF((人件費個別明細表6810111241314151617[[#This Row],[列4]]-人件費個別明細表6810111241314151617[[#This Row],[列2]]-人件費個別明細表6810111241314151617[[#This Row],[列5]])>0,FLOOR((人件費個別明細表6810111241314151617[[#This Row],[列4]]-人件費個別明細表6810111241314151617[[#This Row],[列2]]-人件費個別明細表6810111241314151617[[#This Row],[列5]]),"0:30"),""),"8:00")) | I11: =IF(人件費個別明細表6810111241314151617[[#This Row],[列6]]="","",IF(人件費個別明細表6810111241314151617[[#This Row],[列6]]*24*人件費個別明細表6810111241314151617[[#This Row],[列10]]>10000,10000,人件費個別明細表6810111241314151617[[#This Row],[列6]]*24*人件費個別明細表6810111241314151617[[#This Row],[列10]]))
B12: =IF(人件費個別明細表6810111241314151617[[#This Row],[列1]]="", "", TEXT(人件費個別明細表6810111241314151617[[#This Row],[列1]],"aaaa")) | D12: ～ | G12: =IF(人件費個別明細表6810111241314151617[[#This Row],[列2]]="","",MIN(IF((人件費個別明細表6810111241314151617[[#This Row],[列4]]-人件費個別明細表6810111241314151617[[#This Row],[列2]]-人件費個別明細表6810111241314151617[[#This Row],[列5]])>0,FLOOR((人件費個別明細表6810111241314151617[[#This Row],[列4]]-人件費個別明細表6810111241314151617[[#This Row],[列2]]-人件費個別明細表6810111241314151617[[#This Row],[列5]]),"0:30"),""),"8:00")) | I12: =IF(人件費個別明細表6810111241314151617[[#This Row],[列6]]="","",IF(人件費個別明細表6810111241314151617[[#This Row],[列6]]*24*人件費個別明細表6810111241314151617[[#This Row],[列10]]>10000,10000,人件費個別明細表6810111241314151617[[#This Row],[列6]]*24*人件費個別明細表6810111241314151617[[#This Row],[列10]]))
B13: =IF(人件費個別明細表6810111241314151617[[#This Row],[列1]]="", "", TEXT(人件費個別明細表6810111241314151617[[#This Row],[列1]],"aaaa")) | D13: ～ | G13: =IF(人件費個別明細表6810111241314151617[[#This Row],[列2]]="","",MIN(IF((人件費個別明細表6810111241314151617[[#This Row],[列4]]-人件費個別明細表6810111241314151617[[#This Row],[列2]]-人件費個別明細表6810111241314151617[[#This Row],[列5]])>0,FLOOR((人件費個別明細表6810111241314151617[[#This Row],[列4]]-人件費個別明細表6810111241314151617[[#This Row],[列2]]-人件費個別明細表6810111241314151617[[#This Row],[列5]]),"0:30"),""),"8:00")) | I13: =IF(人件費個別明細表6810111241314151617[[#This Row],[列6]]="","",IF(人件費個別明細表6810111241314151617[[#This Row],[列6]]*24*人件費個別明細表6810111241314151617[[#This Row],[列10]]>10000,10000,人件費個別明細表6810111241314151617[[#This Row],[列6]]*24*人件費個別明細表6810111241314151617[[#This Row],[列10]]))
B14: =IF(人件費個別明細表6810111241314151617[[#This Row],[列1]]="", "", TEXT(人件費個別明細表6810111241314151617[[#This Row],[列1]],"aaaa")) | D14: ～ | G14: =IF(人件費個別明細表6810111241314151617[[#This Row],[列2]]="","",MIN(IF((人件費個別明細表6810111241314151617[[#This Row],[列4]]-人件費個別明細表6810111241314151617[[#This Row],[列2]]-人件費個別明細表6810111241314151617[[#This Row],[列5]])>0,FLOOR((人件費個別明細表6810111241314151617[[#This Row],[列4]]-人件費個別明細表6810111241314151617[[#This Row],[列2]]-人件費個別明細表6810111241314151617[[#This Row],[列5]]),"0:30"),""),"8:00")) | I14: =IF(人件費個別明細表6810111241314151617[[#This Row],[列6]]="","",IF(人件費個別明細表6810111241314151617[[#This Row],[列6]]*24*人件費個別明細表6810111241314151617[[#This Row],[列10]]>10000,10000,人件費個別明細表6810111241314151617[[#This Row],[列6]]*24*人件費個別明細表6810111241314151617[[#This Row],[列10]]))
B15: =IF(人件費個別明細表6810111241314151617[[#This Row],[列1]]="", "", TEXT(人件費個別明細表6810111241314151617[[#This Row],[列1]],"aaaa")) | D15: ～ | G15: =IF(人件費個別明細表6810111241314151617[[#This Row],[列2]]="","",MIN(IF((人件費個別明細表6810111241314151617[[#This Row],[列4]]-人件費個別明細表6810111241314151617[[#This Row],[列2]]-人件費個別明細表6810111241314151617[[#This Row],[列5]])>0,FLOOR((人件費個別明細表6810111241314151617[[#This Row],[列4]]-人件費個別明細表6810111241314151617[[#This Row],[列2]]-人件費個別明細表6810111241314151617[[#This Row],[列5]]),"0:30"),""),"8:00")) | I15: =IF(人件費個別明細表6810111241314151617[[#This Row],[列6]]="","",IF(人件費個別明細表6810111241314151617[[#This Row],[列6]]*24*人件費個別明細表6810111241314151617[[#This Row],[列10]]>10000,10000,人件費個別明細表6810111241314151617[[#This Row],[列6]]*24*人件費個別明細表6810111241314151617[[#This Row],[列10]]))
B16: =IF(人件費個別明細表6810111241314151617[[#This Row],[列1]]="", "", TEXT(人件費個別明細表6810111241314151617[[#This Row],[列1]],"aaaa")) | D16: ～ | G16: =IF(人件費個別明細表6810111241314151617[[#This Row],[列2]]="","",MIN(IF((人件費個別明細表6810111241314151617[[#This Row],[列4]]-人件費個別明細表6810111241314151617[[#This Row],[列2]]-人件費個別明細表6810111241314151617[[#This Row],[列5]])>0,FLOOR((人件費個別明細表6810111241314151617[[#This Row],[列4]]-人件費個別明細表6810111241314151617[[#This Row],[列2]]-人件費個別明細表6810111241314151617[[#This Row],[列5]]),"0:30"),""),"8:00")) | I16: =IF(人件費個別明細表6810111241314151617[[#This Row],[列6]]="","",IF(人件費個別明細表6810111241314151617[[#This Row],[列6]]*24*人件費個別明細表6810111241314151617[[#This Row],[列10]]>10000,10000,人件費個別明細表6810111241314151617[[#This Row],[列6]]*24*人件費個別明細表6810111241314151617[[#This Row],[列10]]))
B17: =IF(人件費個別明細表6810111241314151617[[#This Row],[列1]]="", "", TEXT(人件費個別明細表6810111241314151617[[#This Row],[列1]],"aaaa")) | D17: ～ | G17: =IF(人件費個別明細表6810111241314151617[[#This Row],[列2]]="","",MIN(IF((人件費個別明細表6810111241314151617[[#This Row],[列4]]-人件費個別明細表6810111241314151617[[#This Row],[列2]]-人件費個別明細表6810111241314151617[[#This Row],[列5]])>0,FLOOR((人件費個別明細表6810111241314151617[[#This Row],[列4]]-人件費個別明細表6810111241314151617[[#This Row],[列2]]-人件費個別明細表6810111241314151617[[#This Row],[列5]]),"0:30"),""),"8:00")) | I17: =IF(人件費個別明細表6810111241314151617[[#This Row],[列6]]="","",IF(人件費個別明細表6810111241314151617[[#This Row],[列6]]*24*人件費個別明細表6810111241314151617[[#This Row],[列10]]>10000,10000,人件費個別明細表6810111241314151617[[#This Row],[列6]]*24*人件費個別明細表6810111241314151617[[#This Row],[列10]]))
B18: =IF(人件費個別明細表6810111241314151617[[#This Row],[列1]]="", "", TEXT(人件費個別明細表6810111241314151617[[#This Row],[列1]],"aaaa")) | D18: ～ | G18: =IF(人件費個別明細表6810111241314151617[[#This Row],[列2]]="","",MIN(IF((人件費個別明細表6810111241314151617[[#This Row],[列4]]-人件費個別明細表6810111241314151617[[#This Row],[列2]]-人件費個別明細表6810111241314151617[[#This Row],[列5]])>0,FLOOR((人件費個別明細表6810111241314151617[[#This Row],[列4]]-人件費個別明細表6810111241314151617[[#This Row],[列2]]-人件費個別明細表6810111241314151617[[#This Row],[列5]]),"0:30"),""),"8:00")) | I18: =IF(人件費個別明細表6810111241314151617[[#This Row],[列6]]="","",IF(人件費個別明細表6810111241314151617[[#This Row],[列6]]*24*人件費個別明細表6810111241314151617[[#This Row],[列10]]>10000,10000,人件費個別明細表6810111241314151617[[#This Row],[列6]]*24*人件費個別明細表6810111241314151617[[#This Row],[列10]]))
B19: =IF(人件費個別明細表6810111241314151617[[#This Row],[列1]]="", "", TEXT(人件費個別明細表6810111241314151617[[#This Row],[列1]],"aaaa")) | D19: ～ | G19: =IF(人件費個別明細表6810111241314151617[[#This Row],[列2]]="","",MIN(IF((人件費個別明細表6810111241314151617[[#This Row],[列4]]-人件費個別明細表6810111241314151617[[#This Row],[列2]]-人件費個別明細表6810111241314151617[[#This Row],[列5]])>0,FLOOR((人件費個別明細表6810111241314151617[[#This Row],[列4]]-人件費個別明細表6810111241314151617[[#This Row],[列2]]-人件費個別明細表6810111241314151617[[#This Row],[列5]]),"0:30"),""),"8:00")) | I19: =IF(人件費個別明細表6810111241314151617[[#This Row],[列6]]="","",IF(人件費個別明細表6810111241314151617[[#This Row],[列6]]*24*人件費個別明細表6810111241314151617[[#This Row],[列10]]>10000,10000,人件費個別明細表6810111241314151617[[#This Row],[列6]]*24*人件費個別明細表6810111241314151617[[#This Row],[列10]]))
... B30: =IF(人件費個別明細表6810111241314151617[[#This Row],[列1]]="", "", TEXT(人件費個別明細表6810111241314151617[[#This Row],[列1]],"aaaa")) | D30: ～ | G30: =IF(人件費個別明細表6810111241314151617[[#This Row],[列2]]="","",MIN(IF((人件費個別明細表6810111241314151617[[#This Row],[列4]]-人件費個別明細表6810111241314151617[[#This Row],[列2]]-人件費個別明細表6810111241314151617[[#This Row],[列5]])>0,FLOOR((人件費個別明細表6810111241314151617[[#This Row],[列4]]-人件費個別明細表6810111241314151617[[#This Row],[列2]]-人件費個別明細表6810111241314151617[[#This Row],[列5]]),"0:30"),""),"8:00")) | I30: =IF(人件費個別明細表6810111241314151617[[#This Row],[列6]]="","",IF(人件費個別明細表6810111241314151617[[#This Row],[列6]]*24*人件費個別明細表6810111241314151617[[#This Row],[列10]]>10000,10000,人件費個別明細表6810111241314151617[[#This Row],[列6]]*24*人件費個別明細表6810111241314151617[[#This Row],[列10]]))
A31: 合計 | C31: =SUBTOTAL(102,人件費個別明細表6810111241314151617[列2]) -> 0 | D31: 日 | G31: =SUBTOTAL(109,人件費個別明細表6810111241314151617[列6]) -> 0 | I31: =SUBTOTAL(109,人件費個別明細表6810111241314151617[列9]) -> 0

Sheet R9年8月
A1: 様式第６号（別紙４－２）
A2: 作業日報兼直接人件費個別明細表
A3: 年月 | B3: =MID(CELL("filename",$A$3),FIND("]",CELL("filename",$A$3))+1,31) -> R9年8月
A4: 企業名 | B4: =集計!B3 -> 0
A5: 従事者氏名 | B5: =集計!B4 -> 0
A6: （注）30分単位で記入してください。
A7: 日付 | B7: 曜日 | C7: 作業時刻 | F7: 休憩等 除外時間 | G7: 作業時間数 | H7: 時給単価 | I7: 日額給与 | J7: 作業内容
B8: =IF(人件費個別明細表681011124131415161718[[#This Row],[列1]]="", "", TEXT(人件費個別明細表681011124131415161718[[#This Row],[列1]],"aaaa")) | D8: ～ | G8: =IF(人件費個別明細表681011124131415161718[[#This Row],[列2]]="","",MIN(IF((人件費個別明細表681011124131415161718[[#This Row],[列4]]-人件費個別明細表681011124131415161718[[#This Row],[列2]]-人件費個別明細表681011124131415161718[[#This Row],[列5]])>0,FLOOR((人件費個別明細表681011124131415161718[[#This Row],[列4]]-人件費個別明細表681011124131415161718[[#This Row],[列2]]-人件費個別明細表681011124131415161718[[#This Row],[列5]]),"0:30"),""),"8:00")) | I8: =IF(人件費個別明細表681011124131415161718[[#This Row],[列6]]="","",IF(人件費個別明細表681011124131415161718[[#This Row],[列6]]*24*人件費個別明細表681011124131415161718[[#This Row],[列10]]>10000,10000,人件費個別明細表681011124131415161718[[#This Row],[列6]]*24*人件費個別明細表681011124131415161718[[#This Row],[列10]]))
B9: =IF(人件費個別明細表681011124131415161718[[#This Row],[列1]]="", "", TEXT(人件費個別明細表681011124131415161718[[#This Row],[列1]],"aaaa")) | D9: ～ | G9: =IF(人件費個別明細表681011124131415161718[[#This Row],[列2]]="","",MIN(IF((人件費個別明細表681011124131415161718[[#This Row],[列4]]-人件費個別明細表681011124131415161718[[#This Row],[列2]]-人件費個別明細表681011124131415161718[[#This Row],[列5]])>0,FLOOR((人件費個別明細表681011124131415161718[[#This Row],[列4]]-人件費個別明細表681011124131415161718[[#This Row],[列2]]-人件費個別明細表681011124131415161718[[#This Row],[列5]]),"0:30"),""),"8:00")) | I9: =IF(人件費個別明細表681011124131415161718[[#This Row],[列6]]="","",IF(人件費個別明細表681011124131415161718[[#This Row],[列6]]*24*人件費個別明細表681011124131415161718[[#This Row],[列10]]>10000,10000,人件費個別明細表681011124131415161718[[#This Row],[列6]]*24*人件費個別明細表681011124131415161718[[#This Row],[列10]]))
B10: =IF(人件費個別明細表681011124131415161718[[#This Row],[列1]]="", "", TEXT(人件費個別明細表681011124131415161718[[#This Row],[列1]],"aaaa")) | D10: ～ | G10: =IF(人件費個別明細表681011124131415161718[[#This Row],[列2]]="","",MIN(IF((人件費個別明細表681011124131415161718[[#This Row],[列4]]-人件費個別明細表681011124131415161718[[#This Row],[列2]]-人件費個別明細表681011124131415161718[[#This Row],[列5]])>0,FLOOR((人件費個別明細表681011124131415161718[[#This Row],[列4]]-人件費個別明細表681011124131415161718[[#This Row],[列2]]-人件費個別明細表681011124131415161718[[#This Row],[列5]]),"0:30"),""),"8:00")) | I10: =IF(人件費個別明細表681011124131415161718[[#This Row],[列6]]="","",IF(人件費個別明細表681011124131415161718[[#This Row],[列6]]*24*人件費個別明細表681011124131415161718[[#This Row],[列10]]>10000,10000,人件費個別明細表681011124131415161718[[#This Row],[列6]]*24*人件費個別明細表681011124131415161718[[#This Row],[列10]]))
B11: =IF(人件費個別明細表681011124131415161718[[#This Row],[列1]]="", "", TEXT(人件費個別明細表681011124131415161718[[#This Row],[列1]],"aaaa")) | D11: ～ | G11: =IF(人件費個別明細表681011124131415161718[[#This Row],[列2]]="","",MIN(IF((人件費個別明細表681011124131415161718[[#This Row],[列4]]-人件費個別明細表681011124131415161718[[#This Row],[列2]]-人件費個別明細表681011124131415161718[[#This Row],[列5]])>0,FLOOR((人件費個別明細表681011124131415161718[[#This Row],[列4]]-人件費個別明細表681011124131415161718[[#This Row],[列2]]-人件費個別明細表681011124131415161718[[#This Row],[列5]]),"0:30"),""),"8:00")) | I11: =IF(人件費個別明細表681011124131415161718[[#This Row],[列6]]="","",IF(人件費個別明細表681011124131415161718[[#This Row],[列6]]*24*人件費個別明細表681011124131415161718[[#This Row],[列10]]>10000,10000,人件費個別明細表681011124131415161718[[#This Row],[列6]]*24*人件費個別明細表681011124131415161718[[#This Row],[列10]]))
B12: =IF(人件費個別明細表681011124131415161718[[#This Row],[列1]]="", "", TEXT(人件費個別明細表681011124131415161718[[#This Row],[列1]],"aaaa")) | D12: ～ | G12: =IF(人件費個別明細表681011124131415161718[[#This Row],[列2]]="","",MIN(IF((人件費個別明細表681011124131415161718[[#This Row],[列4]]-人件費個別明細表681011124131415161718[[#This Row],[列2]]-人件費個別明細表681011124131415161718[[#This Row],[列5]])>0,FLOOR((人件費個別明細表681011124131415161718[[#This Row],[列4]]-人件費個別明細表681011124131415161718[[#This Row],[列2]]-人件費個別明細表681011124131415161718[[#This Row],[列5]]),"0:30"),""),"8:00")) | I12: =IF(人件費個別明細表681011124131415161718[[#This Row],[列6]]="","",IF(人件費個別明細表681011124131415161718[[#This Row],[列6]]*24*人件費個別明細表681011124131415161718[[#This Row],[列10]]>10000,10000,人件費個別明細表681011124131415161718[[#This Row],[列6]]*24*人件費個別明細表681011124131415161718[[#This Row],[列10]]))
B13: =IF(人件費個別明細表681011124131415161718[[#This Row],[列1]]="", "", TEXT(人件費個別明細表681011124131415161718[[#This Row],[列1]],"aaaa")) | D13: ～ | G13: =IF(人件費個別明細表681011124131415161718[[#This Row],[列2]]="","",MIN(IF((人件費個別明細表681011124131415161718[[#This Row],[列4]]-人件費個別明細表681011124131415161718[[#This Row],[列2]]-人件費個別明細表681011124131415161718[[#This Row],[列5]])>0,FLOOR((人件費個別明細表681011124131415161718[[#This Row],[列4]]-人件費個別明細表681011124131415161718[[#This Row],[列2]]-人件費個別明細表681011124131415161718[[#This Row],[列5]]),"0:30"),""),"8:00")) | I13: =IF(人件費個別明細表681011124131415161718[[#This Row],[列6]]="","",IF(人件費個別明細表681011124131415161718[[#This Row],[列6]]*24*人件費個別明細表681011124131415161718[[#This Row],[列10]]>10000,10000,人件費個別明細表681011124131415161718[[#This Row],[列6]]*24*人件費個別明細表681011124131415161718[[#This Row],[列10]]))
B14: =IF(人件費個別明細表681011124131415161718[[#This Row],[列1]]="", "", TEXT(人件費個別明細表681011124131415161718[[#This Row],[列1]],"aaaa")) | D14: ～ | G14: =IF(人件費個別明細表681011124131415161718[[#This Row],[列2]]="","",MIN(IF((人件費個別明細表681011124131415161718[[#This Row],[列4]]-人件費個別明細表681011124131415161718[[#This Row],[列2]]-人件費個別明細表681011124131415161718[[#This Row],[列5]])>0,FLOOR((人件費個別明細表681011124131415161718[[#This Row],[列4]]-人件費個別明細表681011124131415161718[[#This Row],[列2]]-人件費個別明細表681011124131415161718[[#This Row],[列5]]),"0:30"),""),"8:00")) | I14: =IF(人件費個別明細表681011124131415161718[[#This Row],[列6]]="","",IF(人件費個別明細表681011124131415161718[[#This Row],[列6]]*24*人件費個別明細表681011124131415161718[[#This Row],[列10]]>10000,10000,人件費個別明細表681011124131415161718[[#This Row],[列6]]*24*人件費個別明細表681011124131415161718[[#This Row],[列10]]))
B15: =IF(人件費個別明細表681011124131415161718[[#This Row],[列1]]="", "", TEXT(人件費個別明細表681011124131415161718[[#This Row],[列1]],"aaaa")) | D15: ～ | G15: =IF(人件費個別明細表681011124131415161718[[#This Row],[列2]]="","",MIN(IF((人件費個別明細表681011124131415161718[[#This Row],[列4]]-人件費個別明細表681011124131415161718[[#This Row],[列2]]-人件費個別明細表681011124131415161718[[#This Row],[列5]])>0,FLOOR((人件費個別明細表681011124131415161718[[#This Row],[列4]]-人件費個別明細表681011124131415161718[[#This Row],[列2]]-人件費個別明細表681011124131415161718[[#This Row],[列5]]),"0:30"),""),"8:00")) | I15: =IF(人件費個別明細表681011124131415161718[[#This Row],[列6]]="","",IF(人件費個別明細表681011124131415161718[[#This Row],[列6]]*24*人件費個別明細表681011124131415161718[[#This Row],[列10]]>10000,10000,人件費個別明細表681011124131415161718[[#This Row],[列6]]*24*人件費個別明細表681011124131415161718[[#This Row],[列10]]))
B16: =IF(人件費個別明細表681011124131415161718[[#This Row],[列1]]="", "", TEXT(人件費個別明細表681011124131415161718[[#This Row],[列1]],"aaaa")) | D16: ～ | G16: =IF(人件費個別明細表681011124131415161718[[#This Row],[列2]]="","",MIN(IF((人件費個別明細表681011124131415161718[[#This Row],[列4]]-人件費個別明細表681011124131415161718[[#This Row],[列2]]-人件費個別明細表681011124131415161718[[#This Row],[列5]])>0,FLOOR((人件費個別明細表681011124131415161718[[#This Row],[列4]]-人件費個別明細表681011124131415161718[[#This Row],[列2]]-人件費個別明細表681011124131415161718[[#This Row],[列5]]),"0:30"),""),"8:00")) | I16: =IF(人件費個別明細表681011124131415161718[[#This Row],[列6]]="","",IF(人件費個別明細表681011124131415161718[[#This Row],[列6]]*24*人件費個別明細表681011124131415161718[[#This Row],[列10]]>10000,10000,人件費個別明細表681011124131415161718[[#This Row],[列6]]*24*人件費個別明細表681011124131415161718[[#This Row],[列10]]))
B17: =IF(人件費個別明細表681011124131415161718[[#This Row],[列1]]="", "", TEXT(人件費個別明細表681011124131415161718[[#This Row],[列1]],"aaaa")) | D17: ～ | G17: =IF(人件費個別明細表681011124131415161718[[#This Row],[列2]]="","",MIN(IF((人件費個別明細表681011124131415161718[[#This Row],[列4]]-人件費個別明細表681011124131415161718[[#This Row],[列2]]-人件費個別明細表681011124131415161718[[#This Row],[列5]])>0,FLOOR((人件費個別明細表681011124131415161718[[#This Row],[列4]]-人件費個別明細表681011124131415161718[[#This Row],[列2]]-人件費個別明細表681011124131415161718[[#This Row],[列5]]),"0:30"),""),"8:00")) | I17: =IF(人件費個別明細表681011124131415161718[[#This Row],[列6]]="","",IF(人件費個別明細表681011124131415161718[[#This Row],[列6]]*24*人件費個別明細表681011124131415161718[[#This Row],[列10]]>10000,10000,人件費個別明細表681011124131415161718[[#This Row],[列6]]*24*人件費個別明細表681011124131415161718[[#This Row],[列10]]))
B18: =IF(人件費個別明細表681011124131415161718[[#This Row],[列1]]="", "", TEXT(人件費個別明細表681011124131415161718[[#This Row],[列1]],"aaaa")) | D18: ～ | G18: =IF(人件費個別明細表681011124131415161718[[#This Row],[列2]]="","",MIN(IF((人件費個別明細表681011124131415161718[[#This Row],[列4]]-人件費個別明細表681011124131415161718[[#This Row],[列2]]-人件費個別明細表681011124131415161718[[#This Row],[列5]])>0,FLOOR((人件費個別明細表681011124131415161718[[#This Row],[列4]]-人件費個別明細表681011124131415161718[[#This Row],[列2]]-人件費個別明細表681011124131415161718[[#This Row],[列5]]),"0:30"),""),"8:00")) | I18: =IF(人件費個別明細表681011124131415161718[[#This Row],[列6]]="","",IF(人件費個別明細表681011124131415161718[[#This Row],[列6]]*24*人件費個別明細表681011124131415161718[[#This Row],[列10]]>10000,10000,人件費個別明細表681011124131415161718[[#This Row],[列6]]*24*人件費個別明細表681011124131415161718[[#This Row],[列10]]))
B19: =IF(人件費個別明細表681011124131415161718[[#This Row],[列1]]="", "", TEXT(人件費個別明細表681011124131415161718[[#This Row],[列1]],"aaaa")) | D19: ～ | G19: =IF(人件費個別明細表681011124131415161718[[#This Row],[列2]]="","",MIN(IF((人件費個別明細表681011124131415161718[[#This Row],[列4]]-人件費個別明細表681011124131415161718[[#This Row],[列2]]-人件費個別明細表681011124131415161718[[#This Row],[列5]])>0,FLOOR((人件費個別明細表681011124131415161718[[#This Row],[列4]]-人件費個別明細表681011124131415161718[[#This Row],[列2]]-人件費個別明細表681011124131415161718[[#This Row],[列5]]),"0:30"),""),"8:00")) | I19: =IF(人件費個別明細表681011124131415161718[[#This Row],[列6]]="","",IF(人件費個別明細表681011124131415161718[[#This Row],[列6]]*24*人件費個別明細表681011124131415161718[[#This Row],[列10]]>10000,10000,人件費個別明細表681011124131415161718[[#This Row],[列6]]*24*人件費個別明細表681011124131415161718[[#This Row],[列10]]))
... B30: =IF(人件費個別明細表681011124131415161718[[#This Row],[列1]]="", "", TEXT(人件費個別明細表681011124131415161718[[#This Row],[列1]],"aaaa")) | D30: ～ | G30: =IF(人件費個別明細表681011124131415161718[[#This Row],[列2]]="","",MIN(IF((人件費個別明細表681011124131415161718[[#This Row],[列4]]-人件費個別明細表681011124131415161718[[#This Row],[列2]]-人件費個別明細表681011124131415161718[[#This Row],[列5]])>0,FLOOR((人件費個別明細表681011124131415161718[[#This Row],[列4]]-人件費個別明細表681011124131415161718[[#This Row],[列2]]-人件費個別明細表681011124131415161718[[#This Row],[列5]]),"0:30"),""),"8:00")) | I30: =IF(人件費個別明細表681011124131415161718[[#This Row],[列6]]="","",IF(人件費個別明細表681011124131415161718[[#This Row],[列6]]*24*人件費個別明細表681011124131415161718[[#This Row],[列10]]>10000,10000,人件費個別明細表681011124131415161718[[#This Row],[列6]]*24*人件費個別明細表681011124131415161718[[#This Row],[列10]]))
A31: 合計 | C31: =SUBTOTAL(102,人件費個別明細表681011124131415161718[列2]) -> 0 | D31: 日 | G31: =SUBTOTAL(109,人件費個別明細表681011124131415161718[列6]) -> 0 | I31: =SUBTOTAL(109,人件費個別明細表681011124131415161718[列9]) -> 0

Sheet R9年9月
A1: 様式第６号（別紙４－２）
A2: 作業日報兼直接人件費個別明細表
A3: 年月 | B3: =MID(CELL("filename",$A$3),FIND("]",CELL("filename",$A$3))+1,31) -> R9年9月
A4: 企業名 | B4: =集計!B3 -> 0
A5: 従事者氏名 | B5: =集計!B4 -> 0
A6: （注）30分単位で記入してください。
A7: 日付 | B7: 曜日 | C7: 作業時刻 | F7: 休憩等 除外時間 | G7: 作業時間数 | H7: 時給単価 | I7: 日額給与 | J7: 作業内容
B8: =IF(人件費個別明細表68101112413141516171819[[#This Row],[列1]]="", "", TEXT(人件費個別明細表68101112413141516171819[[#This Row],[列1]],"aaaa")) | D8: ～ | G8: =IF(人件費個別明細表68101112413141516171819[[#This Row],[列2]]="","",MIN(IF((人件費個別明細表68101112413141516171819[[#This Row],[列4]]-人件費個別明細表68101112413141516171819[[#This Row],[列2]]-人件費個別明細表68101112413141516171819[[#This Row],[列5]])>0,FLOOR((人件費個別明細表68101112413141516171819[[#This Row],[列4]]-人件費個別明細表68101112413141516171819[[#This Row],[列2]]-人件費個別明細表68101112413141516171819[[#This Row],[列5]]),"0:30"),""),"8:00")) | I8: =IF(人件費個別明細表68101112413141516171819[[#This Row],[列6]]="","",IF(人件費個別明細表68101112413141516171819[[#This Row],[列6]]*24*人件費個別明細表68101112413141516171819[[#This Row],[列10]]>10000,10000,人件費個別明細表68101112413141516171819[[#This Row],[列6]]*24*人件費個別明細表68101112413141516171819[[#This Row],[列10]]))
B9: =IF(人件費個別明細表68101112413141516171819[[#This Row],[列1]]="", "", TEXT(人件費個別明細表68101112413141516171819[[#This Row],[列1]],"aaaa")) | D9: ～ | G9: =IF(人件費個別明細表68101112413141516171819[[#This Row],[列2]]="","",MIN(IF((人件費個別明細表68101112413141516171819[[#This Row],[列4]]-人件費個別明細表68101112413141516171819[[#This Row],[列2]]-人件費個別明細表68101112413141516171819[[#This Row],[列5]])>0,FLOOR((人件費個別明細表68101112413141516171819[[#This Row],[列4]]-人件費個別明細表68101112413141516171819[[#This Row],[列2]]-人件費個別明細表68101112413141516171819[[#This Row],[列5]]),"0:30"),""),"8:00")) | I9: =IF(人件費個別明細表68101112413141516171819[[#This Row],[列6]]="","",IF(人件費個別明細表68101112413141516171819[[#This Row],[列6]]*24*人件費個別明細表68101112413141516171819[[#This Row],[列10]]>10000,10000,人件費個別明細表68101112413141516171819[[#This Row],[列6]]*24*人件費個別明細表68101112413141516171819[[#This Row],[列10]]))
B10: =IF(人件費個別明細表68101112413141516171819[[#This Row],[列1]]="", "", TEXT(人件費個別明細表68101112413141516171819[[#This Row],[列1]],"aaaa")) | D10: ～ | G10: =IF(人件費個別明細表68101112413141516171819[[#This Row],[列2]]="","",MIN(IF((人件費個別明細表68101112413141516171819[[#This Row],[列4]]-人件費個別明細表68101112413141516171819[[#This Row],[列2]]-人件費個別明細表68101112413141516171819[[#This Row],[列5]])>0,FLOOR((人件費個別明細表68101112413141516171819[[#This Row],[列4]]-人件費個別明細表68101112413141516171819[[#This Row],[列2]]-人件費個別明細表68101112413141516171819[[#This Row],[列5]]),"0:30"),""),"8:00")) | I10: =IF(人件費個別明細表68101112413141516171819[[#This Row],[列6]]="","",IF(人件費個別明細表68101112413141516171819[[#This Row],[列6]]*24*人件費個別明細表68101112413141516171819[[#This Row],[列10]]>10000,10000,人件費個別明細表68101112413141516171819[[#This Row],[列6]]*24*人件費個別明細表68101112413141516171819[[#This Row],[列10]]))
B11: =IF(人件費個別明細表68101112413141516171819[[#This Row],[列1]]="", "", TEXT(人件費個別明細表68101112413141516171819[[#This Row],[列1]],"aaaa")) | D11: ～ | G11: =IF(人件費個別明細表68101112413141516171819[[#This Row],[列2]]="","",MIN(IF((人件費個別明細表68101112413141516171819[[#This Row],[列4]]-人件費個別明細表68101112413141516171819[[#This Row],[列2]]-人件費個別明細表68101112413141516171819[[#This Row],[列5]])>0,FLOOR((人件費個別明細表68101112413141516171819[[#This Row],[列4]]-人件費個別明細表68101112413141516171819[[#This Row],[列2]]-人件費個別明細表68101112413141516171819[[#This Row],[列5]]),"0:30"),""),"8:00")) | I11: =IF(人件費個別明細表68101112413141516171819[[#This Row],[列6]]="","",IF(人件費個別明細表68101112413141516171819[[#This Row],[列6]]*24*人件費個別明細表68101112413141516171819[[#This Row],[列10]]>10000,10000,人件費個別明細表68101112413141516171819[[#This Row],[列6]]*24*人件費個別明細表68101112413141516171819[[#This Row],[列10]]))
B12: =IF(人件費個別明細表68101112413141516171819[[#This Row],[列1]]="", "", TEXT(人件費個別明細表68101112413141516171819[[#This Row],[列1]],"aaaa")) | D12: ～ | G12: =IF(人件費個別明細表68101112413141516171819[[#This Row],[列2]]="","",MIN(IF((人件費個別明細表68101112413141516171819[[#This Row],[列4]]-人件費個別明細表68101112413141516171819[[#This Row],[列2]]-人件費個別明細表68101112413141516171819[[#This Row],[列5]])>0,FLOOR((人件費個別明細表68101112413141516171819[[#This Row],[列4]]-人件費個別明細表68101112413141516171819[[#This Row],[列2]]-人件費個別明細表68101112413141516171819[[#This Row],[列5]]),"0:30"),""),"8:00")) | I12: =IF(人件費個別明細表68101112413141516171819[[#This Row],[列6]]="","",IF(人件費個別明細表68101112413141516171819[[#This Row],[列6]]*24*人件費個別明細表68101112413141516171819[[#This Row],[列10]]>10000,10000,人件費個別明細表68101112413141516171819[[#This Row],[列6]]*24*人件費個別明細表68101112413141516171819[[#This Row],[列10]]))
B13: =IF(人件費個別明細表68101112413141516171819[[#This Row],[列1]]="", "", TEXT(人件費個別明細表68101112413141516171819[[#This Row],[列1]],"aaaa")) | D13: ～ | G13: =IF(人件費個別明細表68101112413141516171819[[#This Row],[列2]]="","",MIN(IF((人件費個別明細表68101112413141516171819[[#This Row],[列4]]-人件費個別明細表68101112413141516171819[[#This Row],[列2]]-人件費個別明細表68101112413141516171819[[#This Row],[列5]])>0,FLOOR((人件費個別明細表68101112413141516171819[[#This Row],[列4]]-人件費個別明細表68101112413141516171819[[#This Row],[列2]]-人件費個別明細表68101112413141516171819[[#This Row],[列5]]),"0:30"),""),"8:00")) | I13: =IF(人件費個別明細表68101112413141516171819[[#This Row],[列6]]="","",IF(人件費個別明細表68101112413141516171819[[#This Row],[列6]]*24*人件費個別明細表68101112413141516171819[[#This Row],[列10]]>10000,10000,人件費個別明細表68101112413141516171819[[#This Row],[列6]]*24*人件費個別明細表68101112413141516171819[[#This Row],[列10]]))
B14: =IF(人件費個別明細表68101112413141516171819[[#This Row],[列1]]="", "", TEXT(人件費個別明細表68101112413141516171819[[#This Row],[列1]],"aaaa")) | D14: ～ | G14: =IF(人件費個別明細表68101112413141516171819[[#This Row],[列2]]="","",MIN(IF((人件費個別明細表68101112413141516171819[[#This Row],[列4]]-人件費個別明細表68101112413141516171819[[#This Row],[列2]]-人件費個別明細表68101112413141516171819[[#This Row],[列5]])>0,FLOOR((人件費個別明細表68101112413141516171819[[#This Row],[列4]]-人件費個別明細表68101112413141516171819[[#This Row],[列2]]-人件費個別明細表68101112413141516171819[[#This Row],[列5]]),"0:30"),""),"8:00")) | I14: =IF(人件費個別明細表68101112413141516171819[[#This Row],[列6]]="","",IF(人件費個別明細表68101112413141516171819[[#This Row],[列6]]*24*人件費個別明細表68101112413141516171819[[#This Row],[列10]]>10000,10000,人件費個別明細表68101112413141516171819[[#This Row],[列6]]*24*人件費個別明細表68101112413141516171819[[#This Row],[列10]]))
B15: =IF(人件費個別明細表68101112413141516171819[[#This Row],[列1]]="", "", TEXT(人件費個別明細表68101112413141516171819[[#This Row],[列1]],"aaaa")) | D15: ～ | G15: =IF(人件費個別明細表68101112413141516171819[[#This Row],[列2]]="","",MIN(IF((人件費個別明細表68101112413141516171819[[#This Row],[列4]]-人件費個別明細表68101112413141516171819[[#This Row],[列2]]-人件費個別明細表68101112413141516171819[[#This Row],[列5]])>0,FLOOR((人件費個別明細表68101112413141516171819[[#This Row],[列4]]-人件費個別明細表68101112413141516171819[[#This Row],[列2]]-人件費個別明細表68101112413141516171819[[#This Row],[列5]]),"0:30"),""),"8:00")) | I15: =IF(人件費個別明細表68101112413141516171819[[#This Row],[列6]]="","",IF(人件費個別明細表68101112413141516171819[[#This Row],[列6]]*24*人件費個別明細表68101112413141516171819[[#This Row],[列10]]>10000,10000,人件費個別明細表68101112413141516171819[[#This Row],[列6]]*24*人件費個別明細表68101112413141516171819[[#This Row],[列10]]))
B16: =IF(人件費個別明細表68101112413141516171819[[#This Row],[列1]]="", "", TEXT(人件費個別明細表68101112413141516171819[[#This Row],[列1]],"aaaa")) | D16: ～ | G16: =IF(人件費個別明細表68101112413141516171819[[#This Row],[列2]]="","",MIN(IF((人件費個別明細表68101112413141516171819[[#This Row],[列4]]-人件費個別明細表68101112413141516171819[[#This Row],[列2]]-人件費個別明細表68101112413141516171819[[#This Row],[列5]])>0,FLOOR((人件費個別明細表68101112413141516171819[[#This Row],[列4]]-人件費個別明細表68101112413141516171819[[#This Row],[列2]]-人件費個別明細表68101112413141516171819[[#This Row],[列5]]),"0:30"),""),"8:00")) | I16: =IF(人件費個別明細表68101112413141516171819[[#This Row],[列6]]="","",IF(人件費個別明細表68101112413141516171819[[#This Row],[列6]]*24*人件費個別明細表68101112413141516171819[[#This Row],[列10]]>10000,10000,人件費個別明細表68101112413141516171819[[#This Row],[列6]]*24*人件費個別明細表68101112413141516171819[[#This Row],[列10]]))
B17: =IF(人件費個別明細表68101112413141516171819[[#This Row],[列1]]="", "", TEXT(人件費個別明細表68101112413141516171819[[#This Row],[列1]],"aaaa")) | D17: ～ | G17: =IF(人件費個別明細表68101112413141516171819[[#This Row],[列2]]="","",MIN(IF((人件費個別明細表68101112413141516171819[[#This Row],[列4]]-人件費個別明細表68101112413141516171819[[#This Row],[列2]]-人件費個別明細表68101112413141516171819[[#This Row],[列5]])>0,FLOOR((人件費個別明細表68101112413141516171819[[#This Row],[列4]]-人件費個別明細表68101112413141516171819[[#This Row],[列2]]-人件費個別明細表68101112413141516171819[[#This Row],[列5]]),"0:30"),""),"8:00")) | I17: =IF(人件費個別明細表68101112413141516171819[[#This Row],[列6]]="","",IF(人件費個別明細表68101112413141516171819[[#This Row],[列6]]*24*人件費個別明細表68101112413141516171819[[#This Row],[列10]]>10000,10000,人件費個別明細表68101112413141516171819[[#This Row],[列6]]*24*人件費個別明細表68101112413141516171819[[#This Row],[列10]]))
B18: =IF(人件費個別明細表68101112413141516171819[[#This Row],[列1]]="", "", TEXT(人件費個別明細表68101112413141516171819[[#This Row],[列1]],"aaaa")) | D18: ～ | G18: =IF(人件費個別明細表68101112413141516171819[[#This Row],[列2]]="","",MIN(IF((人件費個別明細表68101112413141516171819[[#This Row],[列4]]-人件費個別明細表68101112413141516171819[[#This Row],[列2]]-人件費個別明細表68101112413141516171819[[#This Row],[列5]])>0,FLOOR((人件費個別明細表68101112413141516171819[[#This Row],[列4]]-人件費個別明細表68101112413141516171819[[#This Row],[列2]]-人件費個別明細表68101112413141516171819[[#This Row],[列5]]),"0:30"),""),"8:00")) | I18: =IF(人件費個別明細表68101112413141516171819[[#This Row],[列6]]="","",IF(人件費個別明細表68101112413141516171819[[#This Row],[列6]]*24*人件費個別明細表68101112413141516171819[[#This Row],[列10]]>10000,10000,人件費個別明細表68101112413141516171819[[#This Row],[列6]]*24*人件費個別明細表68101112413141516171819[[#This Row],[列10]]))
B19: =IF(人件費個別明細表68101112413141516171819[[#This Row],[列1]]="", "", TEXT(人件費個別明細表68101112413141516171819[[#This Row],[列1]],"aaaa")) | D19: ～ | G19: =IF(人件費個別明細表68101112413141516171819[[#This Row],[列2]]="","",MIN(IF((人件費個別明細表68101112413141516171819[[#This Row],[列4]]-人件費個別明細表68101112413141516171819[[#This Row],[列2]]-人件費個別明細表68101112413141516171819[[#This Row],[列5]])>0,FLOOR((人件費個別明細表68101112413141516171819[[#This Row],[列4]]-人件費個別明細表68101112413141516171819[[#This Row],[列2]]-人件費個別明細表68101112413141516171819[[#This Row],[列5]]),"0:30"),""),"8:00")) | I19: =IF(人件費個別明細表68101112413141516171819[[#This Row],[列6]]="","",IF(人件費個別明細表68101112413141516171819[[#This Row],[列6]]*24*人件費個別明細表68101112413141516171819[[#This Row],[列10]]>10000,10000,人件費個別明細表68101112413141516171819[[#This Row],[列6]]*24*人件費個別明細表68101112413141516171819[[#This Row],[列10]]))
... B30: =IF(人件費個別明細表68101112413141516171819[[#This Row],[列1]]="", "", TEXT(人件費個別明細表68101112413141516171819[[#This Row],[列1]],"aaaa")) | D30: ～ | G30: =IF(人件費個別明細表68101112413141516171819[[#This Row],[列2]]="","",MIN(IF((人件費個別明細表68101112413141516171819[[#This Row],[列4]]-人件費個別明細表68101112413141516171819[[#This Row],[列2]]-人件費個別明細表68101112413141516171819[[#This Row],[列5]])>0,FLOOR((人件費個別明細表68101112413141516171819[[#This Row],[列4]]-人件費個別明細表68101112413141516171819[[#This Row],[列2]]-人件費個別明細表68101112413141516171819[[#This Row],[列5]]),"0:30"),""),"8:00")) | I30: =IF(人件費個別明細表68101112413141516171819[[#This Row],[列6]]="","",IF(人件費個別明細表68101112413141516171819[[#This Row],[列6]]*24*人件費個別明細表68101112413141516171819[[#This Row],[列10]]>10000,10000,人件費個別明細表68101112413141516171819[[#This Row],[列6]]*24*人件費個別明細表68101112413141516171819[[#This Row],[列10]]))
A31: 合計 | C31: =SUBTOTAL(102,人件費個別明細表68101112413141516171819[列2]) -> 0 | D31: 日 | G31: =SUBTOTAL(109,人件費個別明細表68101112413141516171819[列6]) -> 0 | I31: =SUBTOTAL(109,人件費個別明細表68101112413141516171819[列9]) -> 0
